BEGIN:VCALENDAR
VERSION:2.0
PRODID:-//EZFacility.com, Inc.//EZL 2.5.5.28621
BEGIN:VEVENT
UID:17071929@ezleagues.ezfacility.com
DTSTAMP:20260424T043148Z
CREATED:20260424T043148Z
DTSTART:20260401T025000Z
DTEND:20260401T035000Z
LOCATION:SA Indoor Field
CONTACT:
SUMMARY:Golden Boys VS. ATLANTA FC 
DESCRIPTION:League Name: Martes Tuesday 3ra Division\nGame Type: Regular\nG
 ame Status: Complete\nHome Team: Golden Boys\nAway Team: ATLANTA FC \nHome
  Score: 2\nAway Score: 3
END:VEVENT
BEGIN:VEVENT
UID:17097306@ezleagues.ezfacility.com
DTSTAMP:20260424T043148Z
CREATED:20260424T043148Z
DTSTART:20260421T235000Z
DTEND:20260422T005000Z
LOCATION:SA Indoor Field
CONTACT:
SUMMARY:Golden Boys VS. INTER ACAPULCO
DESCRIPTION:League Name: Martes Tuesday 3ra Division\nGame Type: Regular\nG
 ame Status: Complete\nHome Team: Golden Boys\nAway Team: INTER ACAPULCO\nH
 ome Score: 3\nAway Score: 4
END:VEVENT
BEGIN:VEVENT
UID:17105203@ezleagues.ezfacility.com
DTSTAMP:20260424T043148Z
CREATED:20260424T043148Z
DTSTART:20260428T235000Z
DTEND:20260429T005000Z
LOCATION:SA Indoor Field
CONTACT:
SUMMARY:ZACATEPEC FC VS. Golden Boys
DESCRIPTION:League Name: Martes Tuesday 3ra Division\nGame Type: Regular\nG
 ame Status: Pending\nHome Team: ZACATEPEC FC\nAway Team: Golden Boys\n
END:VEVENT
END:VCALENDAR
