BEGIN:VCALENDAR
VERSION:2.0
PRODID:-//EZFacility.com, Inc.//EZL 2.5.5.28621
BEGIN:VEVENT
UID:16992536@ezleagues.ezfacility.com
DTSTAMP:20260424T132930Z
CREATED:20260424T132930Z
DTSTART:20260208T013000Z
DTEND:20260208T022000Z
LOCATION:Car Stereo One Big Field
CONTACT:France
SUMMARY:Blissfield I.S.C. VS. Genoa Premier United u14
DESCRIPTION:League Name: 2026 Maumee CS1 Big Field Boys U13/14-1 S3\nGame T
 ype: Regular\nGame Status: Complete\nHome Team: Blissfield I.S.C.\nAway Te
 am: Genoa Premier United u14\nHome Score: 2\nAway Score: 6
END:VEVENT
BEGIN:VEVENT
UID:16992522@ezleagues.ezfacility.com
DTSTAMP:20260424T132930Z
CREATED:20260424T132930Z
DTSTART:20260211T010000Z
DTEND:20260211T015000Z
LOCATION:Car Stereo One Big Field
CONTACT:Reese - M
SUMMARY:Genoa Premier United u14 VS. Storm Dogs U14
DESCRIPTION:League Name: 2026 Maumee CS1 Big Field Boys U13/14-1 S3\nGame T
 ype: Regular\nGame Status: Complete\nHome Team: Genoa Premier United u14\n
 Away Team: Storm Dogs U14\nHome Score: 9\nAway Score: 12
END:VEVENT
BEGIN:VEVENT
UID:16992532@ezleagues.ezfacility.com
DTSTAMP:20260424T132930Z
CREATED:20260424T132930Z
DTSTART:20260228T022000Z
DTEND:20260228T031000Z
LOCATION:Car Stereo One Big Field
CONTACT:Ohene-Larbi
SUMMARY:Genoa Premier United u14 VS. Ohio Union
DESCRIPTION:League Name: 2026 Maumee CS1 Big Field Boys U13/14-1 S3\nGame T
 ype: Regular\nGame Status: Complete\nHome Team: Genoa Premier United u14\n
 Away Team: Ohio Union\nHome Score: 3\nAway Score: 4
END:VEVENT
BEGIN:VEVENT
UID:16992539@ezleagues.ezfacility.com
DTSTAMP:20260424T132930Z
CREATED:20260424T132930Z
DTSTART:20260314T012000Z
DTEND:20260314T021000Z
LOCATION:Car Stereo One Big Field
CONTACT:Ohene-Larbi
SUMMARY:Glass City BU13 VS. Genoa Premier United u14
DESCRIPTION:League Name: 2026 Maumee CS1 Big Field Boys U13/14-1 S3\nGame T
 ype: Regular\nGame Status: Complete\nHome Team: Glass City BU13\nAway Team
 : Genoa Premier United u14\nHome Score: 1\nAway Score: 5
END:VEVENT
BEGIN:VEVENT
UID:16992542@ezleagues.ezfacility.com
DTSTAMP:20260424T132930Z
CREATED:20260424T132930Z
DTSTART:20260320T220000Z
DTEND:20260320T225000Z
LOCATION:Car Stereo One Big Field
CONTACT:Allen-A
SUMMARY:Genoa Premier United u14 VS. Trailblazers
DESCRIPTION:League Name: 2026 Maumee CS1 Big Field Boys U13/14-1 S3\nGame T
 ype: Regular\nGame Status: Complete\nHome Team: Genoa Premier United u14\n
 Away Team: Trailblazers\nHome Score: 6\nAway Score: 7
END:VEVENT
BEGIN:VEVENT
UID:16992560@ezleagues.ezfacility.com
DTSTAMP:20260424T132930Z
CREATED:20260424T132930Z
DTSTART:20260327T211000Z
DTEND:20260327T220000Z
LOCATION:Car Stereo One Big Field
CONTACT:McFee
SUMMARY:Ohio Union VS. Genoa Premier United u14
DESCRIPTION:League Name: 2026 Maumee CS1 Big Field Boys U13/14-1 S3\nGame T
 ype: Regular\nGame Status: Complete\nHome Team: Ohio Union\nAway Team: Gen
 oa Premier United u14\nHome Score: 3\nAway Score: 2
END:VEVENT
BEGIN:VEVENT
UID:16992545@ezleagues.ezfacility.com
DTSTAMP:20260424T132930Z
CREATED:20260424T132930Z
DTSTART:20260327T220000Z
DTEND:20260327T225000Z
LOCATION:Car Stereo One Big Field
CONTACT:McFee
SUMMARY:Genoa Premier United u14 VS. Sylvania United Blue
DESCRIPTION:League Name: 2026 Maumee CS1 Big Field Boys U13/14-1 S3\nGame T
 ype: Regular\nGame Status: Complete\nHome Team: Genoa Premier United u14\n
 Away Team: Sylvania United Blue\nHome Score: 0\nAway Score: 10
END:VEVENT
BEGIN:VEVENT
UID:16992550@ezleagues.ezfacility.com
DTSTAMP:20260424T132930Z
CREATED:20260424T132930Z
DTSTART:20260403T211000Z
DTEND:20260403T220000Z
LOCATION:Car Stereo One Big Field
CONTACT:McFee
SUMMARY:Storm Dogs U14 VS. Genoa Premier United u14
DESCRIPTION:League Name: 2026 Maumee CS1 Big Field Boys U13/14-1 S3\nGame T
 ype: Regular\nGame Status: Complete\nHome Team: Storm Dogs U14\nAway Team:
  Genoa Premier United u14\nHome Score: 10\nAway Score: 4
END:VEVENT
END:VCALENDAR
