BEGIN:VCALENDAR
VERSION:2.0
PRODID:-//EZFacility.com, Inc.//EZL 2.5.5.28621
BEGIN:VEVENT
UID:16981418@ezleagues.ezfacility.com
DTSTAMP:20260424T044329Z
CREATED:20260424T044329Z
DTSTART:20260202T024500Z
DTEND:20260202T032500Z
LOCATION:LG Field 2
CONTACT:
SUMMARY:BeerUs FC VS. Mi Taller es Mi Casa
DESCRIPTION:League Name: Coed Open Competitive- Winter 2\nGame Type: Regula
 r\nGame Status: Complete\nHome Team: BeerUs FC\nAway Team: Mi Taller es Mi
  Casa\nHome Score: 10\nAway Score: 13
END:VEVENT
BEGIN:VEVENT
UID:16981474@ezleagues.ezfacility.com
DTSTAMP:20260424T044329Z
CREATED:20260424T044329Z
DTSTART:20260215T230000Z
DTEND:20260215T234000Z
LOCATION:LG Field 2
CONTACT:
SUMMARY:Mi Taller es Mi Casa VS. Balls Out
DESCRIPTION:League Name: Coed Open Competitive- Winter 2\nGame Type: Regula
 r\nGame Status: Complete\nHome Team: Mi Taller es Mi Casa\nAway Team: Ball
 s Out\nHome Score: 15\nAway Score: 8
END:VEVENT
BEGIN:VEVENT
UID:16981501@ezleagues.ezfacility.com
DTSTAMP:20260424T044329Z
CREATED:20260424T044329Z
DTSTART:20260301T200000Z
DTEND:20260301T204000Z
LOCATION:LG Field 2
CONTACT:
SUMMARY:Mi Taller es Mi Casa VS. GOATS
DESCRIPTION:League Name: Coed Open Competitive- Winter 2\nGame Type: Regula
 r\nGame Status: Complete\nHome Team: Mi Taller es Mi Casa\nAway Team: GOAT
 S\nHome Score: 11\nAway Score: 10
END:VEVENT
BEGIN:VEVENT
UID:16981581@ezleagues.ezfacility.com
DTSTAMP:20260424T044329Z
CREATED:20260424T044329Z
DTSTART:20260316T001500Z
DTEND:20260316T005500Z
LOCATION:LG Field 2
CONTACT:
SUMMARY:Mi Taller es Mi Casa VS. Bad Touch
DESCRIPTION:League Name: Coed Open Competitive- Winter 2\nGame Type: Regula
 r\nGame Status: Complete\nHome Team: Mi Taller es Mi Casa\nAway Team: Bad 
 Touch\nHome Score: 8\nAway Score: 6
END:VEVENT
BEGIN:VEVENT
UID:16981446@ezleagues.ezfacility.com
DTSTAMP:20260424T044329Z
CREATED:20260424T044329Z
DTSTART:20260318T013000Z
DTEND:20260318T021000Z
LOCATION:LG Field 1
CONTACT:
SUMMARY:Bad Touch VS. Mi Taller es Mi Casa
DESCRIPTION:League Name: Coed Open Competitive- Winter 2\nGame Type: Regula
 r\nGame Status: Complete\nHome Team: Bad Touch\nAway Team: Mi Taller es Mi
  Casa\nHome Score: 8\nAway Score: 11
END:VEVENT
BEGIN:VEVENT
UID:16981393@ezleagues.ezfacility.com
DTSTAMP:20260424T044329Z
CREATED:20260424T044329Z
DTSTART:20260323T001500Z
DTEND:20260323T005500Z
LOCATION:LG Field 1
CONTACT:
SUMMARY:Mi Taller es Mi Casa VS. Futballerz
DESCRIPTION:League Name: Coed Open Competitive- Winter 2\nGame Type: Regula
 r\nGame Status: Complete\nHome Team: Mi Taller es Mi Casa\nAway Team: Futb
 allerz\nHome Score: 10\nAway Score: 4
END:VEVENT
BEGIN:VEVENT
UID:16981553@ezleagues.ezfacility.com
DTSTAMP:20260424T044329Z
CREATED:20260424T044329Z
DTSTART:20260329T233000Z
DTEND:20260330T001000Z
LOCATION:LG Field 1
CONTACT:
SUMMARY:BeerUs FC VS. Mi Taller es Mi Casa
DESCRIPTION:League Name: Coed Open Competitive- Winter 2\nGame Type: Regula
 r\nGame Status: Complete\nHome Team: BeerUs FC\nAway Team: Mi Taller es Mi
  Casa\nHome Score: 7\nAway Score: 13
END:VEVENT
BEGIN:VEVENT
UID:16981528@ezleagues.ezfacility.com
DTSTAMP:20260424T044329Z
CREATED:20260424T044329Z
DTSTART:20260330T010000Z
DTEND:20260330T014000Z
LOCATION:LG Field 1
CONTACT:
SUMMARY:Futballerz VS. Mi Taller es Mi Casa
DESCRIPTION:League Name: Coed Open Competitive- Winter 2\nGame Type: Regula
 r\nGame Status: Complete\nHome Team: Futballerz\nAway Team: Mi Taller es M
 i Casa\nHome Score: 4\nAway Score: 4
END:VEVENT
END:VCALENDAR
