BEGIN:VCALENDAR
VERSION:2.0
PRODID:-//EZFacility.com, Inc.//EZL 2.5.5.28621
BEGIN:VEVENT
UID:16981415@ezleagues.ezfacility.com
DTSTAMP:20260426T033606Z
CREATED:20260426T033606Z
DTSTART:20260201T174500Z
DTEND:20260201T182500Z
LOCATION:LG Field 1
CONTACT:
SUMMARY:Real SoSo Bad VS. Wirtz Nightmare
DESCRIPTION:League Name: Coed Open REC E - Winter 2\nGame Type: Regular\nGa
 me Status: Complete\nHome Team: Real SoSo Bad\nAway Team: Wirtz Nightmare\
 nHome Score: 5\nAway Score: 0
END:VEVENT
BEGIN:VEVENT
UID:16981441@ezleagues.ezfacility.com
DTSTAMP:20260426T033606Z
CREATED:20260426T033606Z
DTSTART:20260209T033000Z
DTEND:20260209T041000Z
LOCATION:LG Field 1
CONTACT:
SUMMARY:Real SoSo Bad VS. Green Envy
DESCRIPTION:League Name: Coed Open REC E - Winter 2\nGame Type: Regular\nGa
 me Status: Complete\nHome Team: Real SoSo Bad\nAway Team: Green Envy\nHome
  Score: 4\nAway Score: 4
END:VEVENT
BEGIN:VEVENT
UID:16981469@ezleagues.ezfacility.com
DTSTAMP:20260426T033606Z
CREATED:20260426T033606Z
DTSTART:20260216T041500Z
DTEND:20260216T045500Z
LOCATION:LG Field 1
CONTACT:
SUMMARY:Real SoSo Bad VS. Trojans FC
DESCRIPTION:League Name: Coed Open REC E - Winter 2\nGame Type: Regular\nGa
 me Status: Complete\nHome Team: Real SoSo Bad\nAway Team: Trojans FC\nHome
  Score: 8\nAway Score: 12
END:VEVENT
BEGIN:VEVENT
UID:16981496@ezleagues.ezfacility.com
DTSTAMP:20260426T033606Z
CREATED:20260426T033606Z
DTSTART:20260222T174500Z
DTEND:20260222T182500Z
LOCATION:LG Field 2
CONTACT:
SUMMARY:Psychedelic Strikers VS. Real SoSo Bad
DESCRIPTION:League Name: Coed Open REC E - Winter 2\nGame Type: Regular\nGa
 me Status: Complete\nHome Team: Psychedelic Strikers\nAway Team: Real SoSo
  Bad\nHome Score: 2\nAway Score: 10
END:VEVENT
BEGIN:VEVENT
UID:16981523@ezleagues.ezfacility.com
DTSTAMP:20260426T033606Z
CREATED:20260426T033606Z
DTSTART:20260301T170000Z
DTEND:20260301T174000Z
LOCATION:LG Field 2
CONTACT:
SUMMARY:Golden Aces VS. Real SoSo Bad
DESCRIPTION:League Name: Coed Open REC E - Winter 2\nGame Type: Regular\nGa
 me Status: Complete\nHome Team: Golden Aces\nAway Team: Real SoSo Bad\nHom
 e Score: 2\nAway Score: 4
END:VEVENT
BEGIN:VEVENT
UID:16981575@ezleagues.ezfacility.com
DTSTAMP:20260426T033606Z
CREATED:20260426T033606Z
DTSTART:20260315T224500Z
DTEND:20260315T232500Z
LOCATION:LG Field 1
CONTACT:
SUMMARY:New to it FC VS. Real SoSo Bad
DESCRIPTION:League Name: Coed Open REC E - Winter 2\nGame Type: Regular\nGa
 me Status: Complete\nHome Team: New to it FC\nAway Team: Real SoSo Bad\nHo
 me Score: 3\nAway Score: 13
END:VEVENT
BEGIN:VEVENT
UID:16981388@ezleagues.ezfacility.com
DTSTAMP:20260426T033606Z
CREATED:20260426T033606Z
DTSTART:20260323T010000Z
DTEND:20260323T014000Z
LOCATION:LG Field 1
CONTACT:
SUMMARY:Real SoSo Bad VS. Not Fast\, Just Furious
DESCRIPTION:League Name: Coed Open REC E - Winter 2\nGame Type: Regular\nGa
 me Status: Complete\nHome Team: Real SoSo Bad\nAway Team: Not Fast, Just F
 urious\nHome Score: 7\nAway Score: 4
END:VEVENT
BEGIN:VEVENT
UID:16981548@ezleagues.ezfacility.com
DTSTAMP:20260426T033606Z
CREATED:20260426T033606Z
DTSTART:20260329T194500Z
DTEND:20260329T202500Z
LOCATION:LG Field 2
CONTACT:
SUMMARY:Homeskoolerz VS. Real SoSo Bad
DESCRIPTION:League Name: Coed Open REC E - Winter 2\nGame Type: Regular\nGa
 me Status: Complete\nHome Team: Homeskoolerz\nAway Team: Real SoSo Bad\nHo
 me Score: 3\nAway Score: 10
END:VEVENT
END:VCALENDAR
