BEGIN:VCALENDAR
VERSION:2.0
PRODID:-//EZFacility.com, Inc.//EZL 2.5.5.28621
BEGIN:VEVENT
UID:16992475@ezleagues.ezfacility.com
DTSTAMP:20260426T033608Z
CREATED:20260426T033608Z
DTSTART:20260214T235000Z
DTEND:20260215T004000Z
LOCATION:Car Stereo One Big Field
CONTACT:Krupp
SUMMARY:Wauseon SC VS. Ida United - Commet
DESCRIPTION:League Name: 2026 Maumee CS1 Big Field Girls U14 Session 3\nGam
 e Type: Regular\nGame Status: Complete\nHome Team: Wauseon SC\nAway Team: 
 Ida United - Commet\nHome Score: 0\nAway Score: 16
END:VEVENT
BEGIN:VEVENT
UID:16992480@ezleagues.ezfacility.com
DTSTAMP:20260426T033608Z
CREATED:20260426T033608Z
DTSTART:20260225T010000Z
DTEND:20260225T015000Z
LOCATION:Car Stereo One Big Field
CONTACT:McFee
SUMMARY:Lady Tigers VS. Wauseon SC
DESCRIPTION:League Name: 2026 Maumee CS1 Big Field Girls U14 Session 3\nGam
 e Type: Regular\nGame Status: Complete\nHome Team: Lady Tigers\nAway Team:
  Wauseon SC\nHome Score: 11\nAway Score: 1
END:VEVENT
BEGIN:VEVENT
UID:16992512@ezleagues.ezfacility.com
DTSTAMP:20260426T033608Z
CREATED:20260426T033608Z
DTSTART:20260228T230000Z
DTEND:20260228T235000Z
LOCATION:Car Stereo One Big Field
CONTACT:Allen-A
SUMMARY:Wauseon SC VS. Sylvania United
DESCRIPTION:League Name: 2026 Maumee CS1 Big Field Girls U14 Session 3\nGam
 e Type: Regular\nGame Status: Complete\nHome Team: Wauseon SC\nAway Team: 
 Sylvania United\nHome Score: 2\nAway Score: 12
END:VEVENT
BEGIN:VEVENT
UID:16992487@ezleagues.ezfacility.com
DTSTAMP:20260426T033608Z
CREATED:20260426T033608Z
DTSTART:20260308T170000Z
DTEND:20260308T175000Z
LOCATION:Car Stereo One Big Field
CONTACT:France
SUMMARY:Wauseon SC VS. Lucky Leprechauns
DESCRIPTION:League Name: 2026 Maumee CS1 Big Field Girls U14 Session 3\nGam
 e Type: Regular\nGame Status: Complete\nHome Team: Wauseon SC\nAway Team: 
 Lucky Leprechauns\nHome Score: 1\nAway Score: 11
END:VEVENT
BEGIN:VEVENT
UID:16992493@ezleagues.ezfacility.com
DTSTAMP:20260426T033608Z
CREATED:20260426T033608Z
DTSTART:20260326T220000Z
DTEND:20260326T225000Z
LOCATION:Car Stereo One Big Field
CONTACT:France
SUMMARY:Lady Storm VS. Wauseon SC
DESCRIPTION:League Name: 2026 Maumee CS1 Big Field Girls U14 Session 3\nGam
 e Type: Regular\nGame Status: Complete\nHome Team: Lady Storm\nAway Team: 
 Wauseon SC\nHome Score: 6\nAway Score: 2
END:VEVENT
BEGIN:VEVENT
UID:16992484@ezleagues.ezfacility.com
DTSTAMP:20260426T033608Z
CREATED:20260426T033608Z
DTSTART:20260329T134000Z
DTEND:20260329T143000Z
LOCATION:Car Stereo One Big Field
CONTACT:France
SUMMARY:PSC Union U14 Select VS. Wauseon SC
DESCRIPTION:League Name: 2026 Maumee CS1 Big Field Girls U14 Session 3\nGam
 e Type: Regular\nGame Status: Complete\nHome Team: PSC Union U14 Select\nA
 way Team: Wauseon SC\nHome Score: 11\nAway Score: 4
END:VEVENT
BEGIN:VEVENT
UID:16992498@ezleagues.ezfacility.com
DTSTAMP:20260426T033608Z
CREATED:20260426T033608Z
DTSTART:20260331T220000Z
DTEND:20260331T225000Z
LOCATION:Car Stereo One Big Field
CONTACT:Ritchey
SUMMARY:Wauseon SC VS. Sylvania United
DESCRIPTION:League Name: 2026 Maumee CS1 Big Field Girls U14 Session 3\nGam
 e Type: Regular\nGame Status: Complete\nHome Team: Wauseon SC\nAway Team: 
 Sylvania United\nHome Score: 4\nAway Score: 9
END:VEVENT
BEGIN:VEVENT
UID:16992503@ezleagues.ezfacility.com
DTSTAMP:20260426T033608Z
CREATED:20260426T033608Z
DTSTART:20260404T225000Z
DTEND:20260404T234000Z
LOCATION:Car Stereo One Big Field
CONTACT:France
SUMMARY:Ida United - Commet VS. Wauseon SC
DESCRIPTION:League Name: 2026 Maumee CS1 Big Field Girls U14 Session 3\nGam
 e Type: Regular\nGame Status: Complete\nHome Team: Ida United - Commet\nAw
 ay Team: Wauseon SC\nHome Score: 12\nAway Score: 2
END:VEVENT
END:VCALENDAR
