BEGIN:VCALENDAR
VERSION:2.0
PRODID:-//EZFacility.com, Inc.//EZL 2.5.5.28621
BEGIN:VEVENT
UID:17014887@ezleagues.ezfacility.com
DTSTAMP:20260426T035149Z
CREATED:20260426T035149Z
DTSTART:20260213T040000Z
DTEND:20260213T050000Z
LOCATION:Field 1
CONTACT:
SUMMARY:Cuervos F.C VS. C.F. Retro Strikers
DESCRIPTION:League Name: Men's Over 40\nGame Type: Regular\nGame Status: Co
 mplete\nHome Team: Cuervos F.C\nAway Team: C.F. Retro Strikers\nHome Score
 : 10\nAway Score: 3
END:VEVENT
BEGIN:VEVENT
UID:17014894@ezleagues.ezfacility.com
DTSTAMP:20260426T035149Z
CREATED:20260426T035149Z
DTSTART:20260220T040000Z
DTEND:20260220T050000Z
LOCATION:Field 2
CONTACT:
SUMMARY:Cuervos F.C VS. Atletico Newman
DESCRIPTION:League Name: Men's Over 40\nGame Type: Regular\nGame Status: Co
 mplete\nHome Team: Cuervos F.C\nAway Team: Atletico Newman\nHome Score: 2\
 nAway Score: 2
END:VEVENT
BEGIN:VEVENT
UID:17014901@ezleagues.ezfacility.com
DTSTAMP:20260426T035149Z
CREATED:20260426T035149Z
DTSTART:20260227T020000Z
DTEND:20260227T030000Z
LOCATION:Field 1
CONTACT:
SUMMARY:Cuervos F.C VS. Jacona
DESCRIPTION:League Name: Men's Over 40\nGame Type: Regular\nGame Status: Co
 mplete\nHome Team: Cuervos F.C\nAway Team: Jacona\nHome Score: 13\nAway Sc
 ore: 0
END:VEVENT
BEGIN:VEVENT
UID:17014908@ezleagues.ezfacility.com
DTSTAMP:20260426T035149Z
CREATED:20260426T035149Z
DTSTART:20260306T050000Z
DTEND:20260306T060000Z
LOCATION:Field 2
CONTACT:
SUMMARY:Cuervos F.C VS. Cali F.C.
DESCRIPTION:League Name: Men's Over 40\nGame Type: Regular\nGame Status: Co
 mplete\nHome Team: Cuervos F.C\nAway Team: Cali F.C.\nHome Score: 3\nAway 
 Score: 0
END:VEVENT
BEGIN:VEVENT
UID:17014914@ezleagues.ezfacility.com
DTSTAMP:20260426T035149Z
CREATED:20260426T035149Z
DTSTART:20260313T040000Z
DTEND:20260313T050000Z
LOCATION:Field 2
CONTACT:
SUMMARY:A.C Babylon VS. Cuervos F.C
DESCRIPTION:League Name: Men's Over 40\nGame Type: Regular\nGame Status: Co
 mplete\nHome Team: A.C Babylon\nAway Team: Cuervos F.C\nHome Score: 1\nAwa
 y Score: 4
END:VEVENT
BEGIN:VEVENT
UID:17014919@ezleagues.ezfacility.com
DTSTAMP:20260426T035149Z
CREATED:20260426T035149Z
DTSTART:20260320T040000Z
DTEND:20260320T050000Z
LOCATION:Field 2
CONTACT:
SUMMARY:Torrecillas F.C. VS. Cuervos F.C
DESCRIPTION:League Name: Men's Over 40\nGame Type: Regular\nGame Status: Co
 mplete\nHome Team: Torrecillas F.C.\nAway Team: Cuervos F.C\nHome Score: 4
 \nAway Score: 3
END:VEVENT
BEGIN:VEVENT
UID:17014924@ezleagues.ezfacility.com
DTSTAMP:20260426T035149Z
CREATED:20260426T035149Z
DTSTART:20260327T020000Z
DTEND:20260327T030000Z
LOCATION:Field 1
CONTACT:
SUMMARY:Real Zaragoza VS. Cuervos F.C
DESCRIPTION:League Name: Men's Over 40\nGame Type: Regular\nGame Status: Co
 mplete\nHome Team: Real Zaragoza\nAway Team: Cuervos F.C\nHome Score: 2\nA
 way Score: 6
END:VEVENT
BEGIN:VEVENT
UID:17014929@ezleagues.ezfacility.com
DTSTAMP:20260426T035149Z
CREATED:20260426T035149Z
DTSTART:20260403T030000Z
DTEND:20260403T040000Z
LOCATION:Field 2
CONTACT:
SUMMARY:Artilleros VS. Cuervos F.C
DESCRIPTION:League Name: Men's Over 40\nGame Type: Regular\nGame Status: Co
 mplete\nHome Team: Artilleros\nAway Team: Cuervos F.C\nHome Score: 6\nAway
  Score: 2
END:VEVENT
BEGIN:VEVENT
UID:17080966@ezleagues.ezfacility.com
DTSTAMP:20260426T035149Z
CREATED:20260426T035149Z
DTSTART:20260410T020000Z
DTEND:20260410T030000Z
LOCATION:Field 1
CONTACT:
SUMMARY:Cuervos F.C VS. A.C Babylon
DESCRIPTION:League Name: Men's Over 40\nGame Type: Postseason\nGame Status:
  Complete\nHome Team: Cuervos F.C\nAway Team: A.C Babylon\nHome Score: 3\n
 Away Score: 2
END:VEVENT
BEGIN:VEVENT
UID:17080965@ezleagues.ezfacility.com
DTSTAMP:20260426T035149Z
CREATED:20260426T035149Z
DTSTART:20260410T030000Z
DTEND:20260410T040000Z
LOCATION:Field 1
CONTACT:
SUMMARY:Apatzingan VS. Cuervos F.C
DESCRIPTION:League Name: Men's Over 40\nGame Type: Postseason\nGame Status:
  Complete\nHome Team: Apatzingan\nAway Team: Cuervos F.C\nHome Score: 7\nA
 way Score: 4
END:VEVENT
BEGIN:VEVENT
UID:17092869@ezleagues.ezfacility.com
DTSTAMP:20260426T035149Z
CREATED:20260426T035149Z
DTSTART:20260417T020000Z
DTEND:20260417T030000Z
LOCATION:Field 1
CONTACT:
SUMMARY:Cuervos F.C VS. Atletico Newman
DESCRIPTION:League Name: Men's Over 40\nGame Type: Postseason\nGame Status:
  Complete\nHome Team: Cuervos F.C\nAway Team: Atletico Newman\nHome Score:
  4\nAway Score: 7
END:VEVENT
END:VCALENDAR
