BEGIN:VCALENDAR
VERSION:2.0
PRODID:-//EZFacility.com, Inc.//EZL 2.5.5.28621
BEGIN:VEVENT
UID:16981740@ezleagues.ezfacility.com
DTSTAMP:20260426T034827Z
CREATED:20260426T034827Z
DTSTART:20260216T084500Z
DTEND:20260216T092500Z
LOCATION:003 San Siro
CONTACT:Oliver 
SUMMARY:Cabbage FC VS. Argo FC
DESCRIPTION:League Name: SUMMER LEAGUES 25.26 Monday Men's 5s FINALS\nGame 
 Type: Regular\nGame Status: Complete\nHome Team: Cabbage FC\nAway Team: Ar
 go FC\nHome Score: 5\nAway Score: 4
END:VEVENT
BEGIN:VEVENT
UID:16981751@ezleagues.ezfacility.com
DTSTAMP:20260426T034827Z
CREATED:20260426T034827Z
DTSTART:20260223T080000Z
DTEND:20260223T084000Z
LOCATION:003 San Siro
CONTACT:Greg
SUMMARY:Unathletic Avengers VS. Cabbage FC
DESCRIPTION:League Name: SUMMER LEAGUES 25.26 Monday Men's 5s FINALS\nGame 
 Type: Regular\nGame Status: Complete\nHome Team: Unathletic Avengers\nAway
  Team: Cabbage FC\nHome Score: 7\nAway Score: 8
END:VEVENT
END:VCALENDAR
