BEGIN:VCALENDAR
VERSION:2.0
PRODID:-//EZFacility.com, Inc.//EZL 2.5.5.28621
BEGIN:VEVENT
UID:16981743@ezleagues.ezfacility.com
DTSTAMP:20260424T044427Z
CREATED:20260424T044427Z
DTSTART:20260216T071500Z
DTEND:20260216T075500Z
LOCATION:003 San Siro
CONTACT:Oliver 
SUMMARY:Teenage Mutant Ninja Skrtles  VS. Crumple Puppets
DESCRIPTION:League Name: SUMMER LEAGUES 25.26 Monday Men's 5s FINALS\nGame 
 Type: Regular\nGame Status: Complete\nHome Team: Teenage Mutant Ninja Skrt
 les \nAway Team: Crumple Puppets\nHome Score: 4\nAway Score: 3
END:VEVENT
END:VCALENDAR
