BEGIN:VCALENDAR
VERSION:2.0
PRODID:-//EZFacility.com, Inc.//EZL 2.5.5.28621
BEGIN:VEVENT
UID:16982002@ezleagues.ezfacility.com
DTSTAMP:20260424T203643Z
CREATED:20260424T203643Z
DTSTART:20260129T020000Z
DTEND:20260129T025000Z
LOCATION:TBKBSC South Indoor Soccer Fie
CONTACT:
SUMMARY:ThePlace2B Orange VS. Central Dewitt
DESCRIPTION:League Name: Winter 2025-2026 High School Boys Silver Winter So
 ccer League- Session 2\nGame Type: Regular\nGame Status: Complete\nHome Te
 am: ThePlace2B Orange\nAway Team: Central Dewitt\nHome Score: 2\nAway Scor
 e: 2
END:VEVENT
BEGIN:VEVENT
UID:16982012@ezleagues.ezfacility.com
DTSTAMP:20260424T203643Z
CREATED:20260424T203643Z
DTSTART:20260205T025000Z
DTEND:20260205T034000Z
LOCATION:TBKBSC North Indoor Soccer Fie
CONTACT:
SUMMARY:Turf titans VS. ThePlace2B Orange
DESCRIPTION:League Name: Winter 2025-2026 High School Boys Silver Winter So
 ccer League- Session 2\nGame Type: Regular\nGame Status: Complete\nHome Te
 am: Turf titans\nAway Team: ThePlace2B Orange\nHome Score: 0\nAway Score: 
 6
END:VEVENT
BEGIN:VEVENT
UID:16982021@ezleagues.ezfacility.com
DTSTAMP:20260424T203643Z
CREATED:20260424T203643Z
DTSTART:20260212T011000Z
DTEND:20260212T020000Z
LOCATION:TBKBSC North Indoor Soccer Fie
CONTACT:
SUMMARY:OF FC VS. ThePlace2B Orange
DESCRIPTION:League Name: Winter 2025-2026 High School Boys Silver Winter So
 ccer League- Session 2\nGame Type: Regular\nGame Status: Complete\nHome Te
 am: OF FC\nAway Team: ThePlace2B Orange\nHome Score: 0\nAway Score: 5
END:VEVENT
BEGIN:VEVENT
UID:16982030@ezleagues.ezfacility.com
DTSTAMP:20260424T203643Z
CREATED:20260424T203643Z
DTSTART:20260219T020000Z
DTEND:20260219T025000Z
LOCATION:TBKBSC South Indoor Soccer Fie
CONTACT:
SUMMARY:ThePlace2B Orange VS. EMSSC Panthers
DESCRIPTION:League Name: Winter 2025-2026 High School Boys Silver Winter So
 ccer League- Session 2\nGame Type: Regular\nGame Status: Complete\nHome Te
 am: ThePlace2B Orange\nAway Team: EMSSC Panthers\nHome Score: 5\nAway Scor
 e: 0
END:VEVENT
BEGIN:VEVENT
UID:16982039@ezleagues.ezfacility.com
DTSTAMP:20260424T203643Z
CREATED:20260424T203643Z
DTSTART:20260226T025000Z
DTEND:20260226T034000Z
LOCATION:TBKBSC North Indoor Soccer Fie
CONTACT:
SUMMARY:Pleasant Valley Gray VS. ThePlace2B Orange
DESCRIPTION:League Name: Winter 2025-2026 High School Boys Silver Winter So
 ccer League- Session 2\nGame Type: Regular\nGame Status: Complete\nHome Te
 am: Pleasant Valley Gray\nAway Team: ThePlace2B Orange\nHome Score: 1\nAwa
 y Score: 1
END:VEVENT
BEGIN:VEVENT
UID:16982048@ezleagues.ezfacility.com
DTSTAMP:20260424T203643Z
CREATED:20260424T203643Z
DTSTART:20260305T034000Z
DTEND:20260305T043000Z
LOCATION:TBKBSC North Indoor Soccer Fie
CONTACT:
SUMMARY:City Bois VS. ThePlace2B Orange
DESCRIPTION:League Name: Winter 2025-2026 High School Boys Silver Winter So
 ccer League- Session 2\nGame Type: Regular\nGame Status: Complete\nHome Te
 am: City Bois\nAway Team: ThePlace2B Orange\nHome Score: 1\nAway Score: 1
END:VEVENT
END:VCALENDAR
