BEGIN:VCALENDAR
VERSION:2.0
PRODID:-//EZFacility.com, Inc.//EZL 2.5.5.28621
BEGIN:VEVENT
UID:16982001@ezleagues.ezfacility.com
DTSTAMP:20260420T024013Z
CREATED:20260420T024013Z
DTSTART:20260129T011000Z
DTEND:20260129T020000Z
LOCATION:TBKBSC South Indoor Soccer Fie
CONTACT:
SUMMARY:Turf titans VS. Moline
DESCRIPTION:League Name: Winter 2025-2026 High School Boys Silver Winter So
 ccer League- Session 2\nGame Type: Regular\nGame Status: Complete\nHome Te
 am: Turf titans\nAway Team: Moline\nHome Score: 1\nAway Score: 1
END:VEVENT
BEGIN:VEVENT
UID:16982010@ezleagues.ezfacility.com
DTSTAMP:20260420T024013Z
CREATED:20260420T024013Z
DTSTART:20260205T020000Z
DTEND:20260205T025000Z
LOCATION:TBKBSC North Indoor Soccer Fie
CONTACT:
SUMMARY:OF FC VS. Moline
DESCRIPTION:League Name: Winter 2025-2026 High School Boys Silver Winter So
 ccer League- Session 2\nGame Type: Regular\nGame Status: Complete\nHome Te
 am: OF FC\nAway Team: Moline\nHome Score: 1\nAway Score: 1
END:VEVENT
BEGIN:VEVENT
UID:16982019@ezleagues.ezfacility.com
DTSTAMP:20260420T024013Z
CREATED:20260420T024013Z
DTSTART:20260212T025000Z
DTEND:20260212T034000Z
LOCATION:TBKBSC South Indoor Soccer Fie
CONTACT:
SUMMARY:Moline VS. EMSSC Panthers
DESCRIPTION:League Name: Winter 2025-2026 High School Boys Silver Winter So
 ccer League- Session 2\nGame Type: Regular\nGame Status: Complete\nHome Te
 am: Moline\nAway Team: EMSSC Panthers\nHome Score: 6\nAway Score: 0
END:VEVENT
BEGIN:VEVENT
UID:16982028@ezleagues.ezfacility.com
DTSTAMP:20260420T024013Z
CREATED:20260420T024013Z
DTSTART:20260219T034000Z
DTEND:20260219T043000Z
LOCATION:TBKBSC North Indoor Soccer Fie
CONTACT:
SUMMARY:Pleasant Valley Gray VS. Moline
DESCRIPTION:League Name: Winter 2025-2026 High School Boys Silver Winter So
 ccer League- Session 2\nGame Type: Regular\nGame Status: Complete\nHome Te
 am: Pleasant Valley Gray\nAway Team: Moline\nHome Score: 6\nAway Score: 0
END:VEVENT
BEGIN:VEVENT
UID:16982036@ezleagues.ezfacility.com
DTSTAMP:20260420T024013Z
CREATED:20260420T024013Z
DTSTART:20260226T011000Z
DTEND:20260226T020000Z
LOCATION:TBKBSC South Indoor Soccer Fie
CONTACT:
SUMMARY:ThePlace2B Blue VS. Moline
DESCRIPTION:League Name: Winter 2025-2026 High School Boys Silver Winter So
 ccer League- Session 2\nGame Type: Regular\nGame Status: Complete\nHome Te
 am: ThePlace2B Blue\nAway Team: Moline\nHome Score: 2\nAway Score: 1
END:VEVENT
BEGIN:VEVENT
UID:16982037@ezleagues.ezfacility.com
DTSTAMP:20260420T024013Z
CREATED:20260420T024013Z
DTSTART:20260226T020000Z
DTEND:20260226T025000Z
LOCATION:TBKBSC South Indoor Soccer Fie
CONTACT:
SUMMARY:City Bois VS. Moline
DESCRIPTION:League Name: Winter 2025-2026 High School Boys Silver Winter So
 ccer League- Session 2\nGame Type: Regular\nGame Status: Complete\nHome Te
 am: City Bois\nAway Team: Moline\nHome Score: 3\nAway Score: 0
END:VEVENT
BEGIN:VEVENT
UID:16982046@ezleagues.ezfacility.com
DTSTAMP:20260420T024013Z
CREATED:20260420T024013Z
DTSTART:20260305T025000Z
DTEND:20260305T034000Z
LOCATION:TBKBSC North Indoor Soccer Fie
CONTACT:
SUMMARY:Moline VS. Central Dewitt
DESCRIPTION:League Name: Winter 2025-2026 High School Boys Silver Winter So
 ccer League- Session 2\nGame Type: Regular\nGame Status: Complete\nHome Te
 am: Moline\nAway Team: Central Dewitt\nHome Score: 0\nAway Score: 2
END:VEVENT
END:VCALENDAR
