BEGIN:VCALENDAR
VERSION:2.0
PRODID:-//EZFacility.com, Inc.//EZL 2.5.5.28621
BEGIN:VEVENT
UID:16978174@ezleagues.ezfacility.com
DTSTAMP:20260426T033859Z
CREATED:20260426T033859Z
DTSTART:20260129T035500Z
DTEND:20260129T045500Z
LOCATION:PFFC Dome - 4
CONTACT:
SUMMARY:Tea and Busquets VS. PDS FC
DESCRIPTION:League Name: MSL Winter 2026 - Wed/Thurs Men's First Games\nGam
 e Type: Regular\nGame Status: Complete\nHome Team: Tea and Busquets\nAway 
 Team: PDS FC\nHome Score: 1\nAway Score: 4
END:VEVENT
BEGIN:VEVENT
UID:16999153@ezleagues.ezfacility.com
DTSTAMP:20260426T033859Z
CREATED:20260426T033859Z
DTSTART:20260205T031500Z
DTEND:20260205T041500Z
LOCATION:PFFC Field House - D
CONTACT:
SUMMARY:PDS FC VS. Free Agents FC
DESCRIPTION:League Name: MSL Winter 2026 - Wed/Thurs Men's First Games\nGam
 e Type: Regular\nGame Status: Complete\nHome Team: PDS FC\nAway Team: Free
  Agents FC\nHome Score: 6\nAway Score: 3
END:VEVENT
END:VCALENDAR
