BEGIN:VCALENDAR
VERSION:2.0
PRODID:-//EZFacility.com, Inc.//EZL 2.5.5.28621
BEGIN:VEVENT
UID:16984869@ezleagues.ezfacility.com
DTSTAMP:20260426T033802Z
CREATED:20260426T033802Z
DTSTART:20260201T233000Z
DTEND:20260202T000000Z
LOCATION:A2
CONTACT:
SUMMARY:Team 10 VS. Team 13
DESCRIPTION:League Name: Billiards\nGame Type: Regular\nGame Status: Pendin
 g\nHome Team: Team 10\nAway Team: Team 13\n
END:VEVENT
BEGIN:VEVENT
UID:16984880@ezleagues.ezfacility.com
DTSTAMP:20260426T033802Z
CREATED:20260426T033802Z
DTSTART:20260209T000000Z
DTEND:20260209T003000Z
LOCATION:A2
CONTACT:
SUMMARY:Team 10 VS. Team 17
DESCRIPTION:League Name: Billiards\nGame Type: Regular\nGame Status: Pendin
 g\nHome Team: Team 10\nAway Team: Team 17\n
END:VEVENT
BEGIN:VEVENT
UID:16984891@ezleagues.ezfacility.com
DTSTAMP:20260426T033802Z
CREATED:20260426T033802Z
DTSTART:20260216T003000Z
DTEND:20260216T010000Z
LOCATION:A2
CONTACT:
SUMMARY:Team 10 VS. Team 20
DESCRIPTION:League Name: Billiards\nGame Type: Regular\nGame Status: Pendin
 g\nHome Team: Team 10\nAway Team: Team 20\n
END:VEVENT
BEGIN:VEVENT
UID:16984902@ezleagues.ezfacility.com
DTSTAMP:20260426T033802Z
CREATED:20260426T033802Z
DTSTART:20260223T013000Z
DTEND:20260223T020000Z
LOCATION:A2
CONTACT:
SUMMARY:Team 10 VS. Team 16
DESCRIPTION:League Name: Billiards\nGame Type: Regular\nGame Status: Pendin
 g\nHome Team: Team 10\nAway Team: Team 16\n
END:VEVENT
BEGIN:VEVENT
UID:16984913@ezleagues.ezfacility.com
DTSTAMP:20260426T033802Z
CREATED:20260426T033802Z
DTSTART:20260302T010000Z
DTEND:20260302T013000Z
LOCATION:A2
CONTACT:
SUMMARY:Team 10 VS. Team 12
DESCRIPTION:League Name: Billiards\nGame Type: Regular\nGame Status: Pendin
 g\nHome Team: Team 10\nAway Team: Team 12\n
END:VEVENT
BEGIN:VEVENT
UID:16984923@ezleagues.ezfacility.com
DTSTAMP:20260426T033802Z
CREATED:20260426T033802Z
DTSTART:20260309T000000Z
DTEND:20260309T003000Z
LOCATION:A2
CONTACT:
SUMMARY:Team 08 VS. Team 10
DESCRIPTION:League Name: Billiards\nGame Type: Regular\nGame Status: Pendin
 g\nHome Team: Team 08\nAway Team: Team 10\n
END:VEVENT
BEGIN:VEVENT
UID:16984932@ezleagues.ezfacility.com
DTSTAMP:20260426T033802Z
CREATED:20260426T033802Z
DTSTART:20260315T220000Z
DTEND:20260315T223000Z
LOCATION:A2
CONTACT:
SUMMARY:Team 04 VS. Team 10
DESCRIPTION:League Name: Billiards\nGame Type: Regular\nGame Status: Pendin
 g\nHome Team: Team 04\nAway Team: Team 10\n
END:VEVENT
BEGIN:VEVENT
UID:16984941@ezleagues.ezfacility.com
DTSTAMP:20260426T033802Z
CREATED:20260426T033802Z
DTSTART:20260323T003000Z
DTEND:20260323T010000Z
LOCATION:A2
CONTACT:
SUMMARY:Team 03 VS. Team 10
DESCRIPTION:League Name: Billiards\nGame Type: Regular\nGame Status: Pendin
 g\nHome Team: Team 03\nAway Team: Team 10\n
END:VEVENT
BEGIN:VEVENT
UID:16984950@ezleagues.ezfacility.com
DTSTAMP:20260426T033802Z
CREATED:20260426T033802Z
DTSTART:20260329T223000Z
DTEND:20260329T230000Z
LOCATION:A2
CONTACT:
SUMMARY:Team 07 VS. Team 10
DESCRIPTION:League Name: Billiards\nGame Type: Regular\nGame Status: Pendin
 g\nHome Team: Team 07\nAway Team: Team 10\n
END:VEVENT
BEGIN:VEVENT
UID:16984959@ezleagues.ezfacility.com
DTSTAMP:20260426T033802Z
CREATED:20260426T033802Z
DTSTART:20260405T233000Z
DTEND:20260406T000000Z
LOCATION:A2
CONTACT:
SUMMARY:Team 11 VS. Team 10
DESCRIPTION:League Name: Billiards\nGame Type: Regular\nGame Status: Pendin
 g\nHome Team: Team 11\nAway Team: Team 10\n
END:VEVENT
BEGIN:VEVENT
UID:16984968@ezleagues.ezfacility.com
DTSTAMP:20260426T033802Z
CREATED:20260426T033802Z
DTSTART:20260412T220000Z
DTEND:20260412T223000Z
LOCATION:A2
CONTACT:
SUMMARY:Team 15 VS. Team 10
DESCRIPTION:League Name: Billiards\nGame Type: Regular\nGame Status: Pendin
 g\nHome Team: Team 15\nAway Team: Team 10\n
END:VEVENT
BEGIN:VEVENT
UID:16984977@ezleagues.ezfacility.com
DTSTAMP:20260426T033802Z
CREATED:20260426T033802Z
DTSTART:20260419T203000Z
DTEND:20260419T210000Z
LOCATION:A2
CONTACT:
SUMMARY:Team 19 VS. Team 10
DESCRIPTION:League Name: Billiards\nGame Type: Regular\nGame Status: Pendin
 g\nHome Team: Team 19\nAway Team: Team 10\n
END:VEVENT
BEGIN:VEVENT
UID:16984986@ezleagues.ezfacility.com
DTSTAMP:20260426T033802Z
CREATED:20260426T033802Z
DTSTART:20260426T210000Z
DTEND:20260426T213000Z
LOCATION:A2
CONTACT:
SUMMARY:Team 18 VS. Team 10
DESCRIPTION:League Name: Billiards\nGame Type: Regular\nGame Status: Pendin
 g\nHome Team: Team 18\nAway Team: Team 10\n
END:VEVENT
BEGIN:VEVENT
UID:16984995@ezleagues.ezfacility.com
DTSTAMP:20260426T033802Z
CREATED:20260426T033802Z
DTSTART:20260503T200000Z
DTEND:20260503T203000Z
LOCATION:A2
CONTACT:
SUMMARY:Team 14 VS. Team 10
DESCRIPTION:League Name: Billiards\nGame Type: Regular\nGame Status: Pendin
 g\nHome Team: Team 14\nAway Team: Team 10\n
END:VEVENT
BEGIN:VEVENT
UID:16985004@ezleagues.ezfacility.com
DTSTAMP:20260426T033802Z
CREATED:20260426T033802Z
DTSTART:20260510T230000Z
DTEND:20260510T233000Z
LOCATION:A2
CONTACT:
SUMMARY:Team 01 VS. Team 10
DESCRIPTION:League Name: Billiards\nGame Type: Regular\nGame Status: Pendin
 g\nHome Team: Team 01\nAway Team: Team 10\n
END:VEVENT
BEGIN:VEVENT
UID:16985015@ezleagues.ezfacility.com
DTSTAMP:20260426T033802Z
CREATED:20260426T033802Z
DTSTART:20260517T213000Z
DTEND:20260517T220000Z
LOCATION:A2
CONTACT:
SUMMARY:Team 10 VS. Team 06
DESCRIPTION:League Name: Billiards\nGame Type: Regular\nGame Status: Pendin
 g\nHome Team: Team 10\nAway Team: Team 06\n
END:VEVENT
BEGIN:VEVENT
UID:16985026@ezleagues.ezfacility.com
DTSTAMP:20260426T033802Z
CREATED:20260426T033802Z
DTSTART:20260524T203000Z
DTEND:20260524T210000Z
LOCATION:A2
CONTACT:
SUMMARY:Team 10 VS. Team 02
DESCRIPTION:League Name: Billiards\nGame Type: Regular\nGame Status: Pendin
 g\nHome Team: Team 10\nAway Team: Team 02\n
END:VEVENT
BEGIN:VEVENT
UID:16985037@ezleagues.ezfacility.com
DTSTAMP:20260426T033802Z
CREATED:20260426T033802Z
DTSTART:20260531T210000Z
DTEND:20260531T213000Z
LOCATION:A2
CONTACT:
SUMMARY:Team 10 VS. Team 05
DESCRIPTION:League Name: Billiards\nGame Type: Regular\nGame Status: Pendin
 g\nHome Team: Team 10\nAway Team: Team 05\n
END:VEVENT
BEGIN:VEVENT
UID:16985048@ezleagues.ezfacility.com
DTSTAMP:20260426T033802Z
CREATED:20260426T033802Z
DTSTART:20260607T213000Z
DTEND:20260607T220000Z
LOCATION:A2
CONTACT:
SUMMARY:Team 10 VS. Team 09
DESCRIPTION:League Name: Billiards\nGame Type: Regular\nGame Status: Pendin
 g\nHome Team: Team 10\nAway Team: Team 09\n
END:VEVENT
END:VCALENDAR
