BEGIN:VCALENDAR
VERSION:2.0
PRODID:-//EZFacility.com, Inc.//EZL 2.5.5.28621
BEGIN:VEVENT
UID:16984872@ezleagues.ezfacility.com
DTSTAMP:20260426T033752Z
CREATED:20260426T033752Z
DTSTART:20260202T010000Z
DTEND:20260202T013000Z
LOCATION:A2
CONTACT:
SUMMARY:Team 16 VS. Team 19
DESCRIPTION:League Name: Billiards\nGame Type: Regular\nGame Status: Pendin
 g\nHome Team: Team 16\nAway Team: Team 19\n
END:VEVENT
BEGIN:VEVENT
UID:16984881@ezleagues.ezfacility.com
DTSTAMP:20260426T033752Z
CREATED:20260426T033752Z
DTSTART:20260209T003000Z
DTEND:20260209T010000Z
LOCATION:A2
CONTACT:
SUMMARY:Team 12 VS. Team 19
DESCRIPTION:League Name: Billiards\nGame Type: Regular\nGame Status: Pendin
 g\nHome Team: Team 12\nAway Team: Team 19\n
END:VEVENT
BEGIN:VEVENT
UID:16984890@ezleagues.ezfacility.com
DTSTAMP:20260426T033752Z
CREATED:20260426T033752Z
DTSTART:20260216T013000Z
DTEND:20260216T020000Z
LOCATION:A2
CONTACT:
SUMMARY:Team 08 VS. Team 19
DESCRIPTION:League Name: Billiards\nGame Type: Regular\nGame Status: Pendin
 g\nHome Team: Team 08\nAway Team: Team 19\n
END:VEVENT
BEGIN:VEVENT
UID:16984899@ezleagues.ezfacility.com
DTSTAMP:20260426T033752Z
CREATED:20260426T033752Z
DTSTART:20260222T233000Z
DTEND:20260223T000000Z
LOCATION:A2
CONTACT:
SUMMARY:Team 04 VS. Team 19
DESCRIPTION:League Name: Billiards\nGame Type: Regular\nGame Status: Pendin
 g\nHome Team: Team 04\nAway Team: Team 19\n
END:VEVENT
BEGIN:VEVENT
UID:16984908@ezleagues.ezfacility.com
DTSTAMP:20260426T033752Z
CREATED:20260426T033752Z
DTSTART:20260301T223000Z
DTEND:20260301T230000Z
LOCATION:A2
CONTACT:
SUMMARY:Team 03 VS. Team 19
DESCRIPTION:League Name: Billiards\nGame Type: Regular\nGame Status: Pendin
 g\nHome Team: Team 03\nAway Team: Team 19\n
END:VEVENT
BEGIN:VEVENT
UID:16984917@ezleagues.ezfacility.com
DTSTAMP:20260426T033752Z
CREATED:20260426T033752Z
DTSTART:20260308T220000Z
DTEND:20260308T223000Z
LOCATION:A2
CONTACT:
SUMMARY:Team 07 VS. Team 19
DESCRIPTION:League Name: Billiards\nGame Type: Regular\nGame Status: Pendin
 g\nHome Team: Team 07\nAway Team: Team 19\n
END:VEVENT
BEGIN:VEVENT
UID:16984926@ezleagues.ezfacility.com
DTSTAMP:20260426T033752Z
CREATED:20260426T033752Z
DTSTART:20260315T230000Z
DTEND:20260315T233000Z
LOCATION:A2
CONTACT:
SUMMARY:Team 11 VS. Team 19
DESCRIPTION:League Name: Billiards\nGame Type: Regular\nGame Status: Pendin
 g\nHome Team: Team 11\nAway Team: Team 19\n
END:VEVENT
BEGIN:VEVENT
UID:16984935@ezleagues.ezfacility.com
DTSTAMP:20260426T033752Z
CREATED:20260426T033752Z
DTSTART:20260322T210000Z
DTEND:20260322T213000Z
LOCATION:A2
CONTACT:
SUMMARY:Team 15 VS. Team 19
DESCRIPTION:League Name: Billiards\nGame Type: Regular\nGame Status: Pendin
 g\nHome Team: Team 15\nAway Team: Team 19\n
END:VEVENT
BEGIN:VEVENT
UID:16984944@ezleagues.ezfacility.com
DTSTAMP:20260426T033752Z
CREATED:20260426T033752Z
DTSTART:20260329T200000Z
DTEND:20260329T203000Z
LOCATION:A2
CONTACT:
SUMMARY:Team 19 VS. Team 01
DESCRIPTION:League Name: Billiards\nGame Type: Regular\nGame Status: Pendin
 g\nHome Team: Team 19\nAway Team: Team 01\n
END:VEVENT
BEGIN:VEVENT
UID:16984955@ezleagues.ezfacility.com
DTSTAMP:20260426T033752Z
CREATED:20260426T033752Z
DTSTART:20260405T203000Z
DTEND:20260405T210000Z
LOCATION:A2
CONTACT:
SUMMARY:Team 19 VS. Team 18
DESCRIPTION:League Name: Billiards\nGame Type: Regular\nGame Status: Pendin
 g\nHome Team: Team 19\nAway Team: Team 18\n
END:VEVENT
BEGIN:VEVENT
UID:16984966@ezleagues.ezfacility.com
DTSTAMP:20260426T033752Z
CREATED:20260426T033752Z
DTSTART:20260412T200000Z
DTEND:20260412T203000Z
LOCATION:A2
CONTACT:
SUMMARY:Team 19 VS. Team 14
DESCRIPTION:League Name: Billiards\nGame Type: Regular\nGame Status: Pendin
 g\nHome Team: Team 19\nAway Team: Team 14\n
END:VEVENT
BEGIN:VEVENT
UID:16984977@ezleagues.ezfacility.com
DTSTAMP:20260426T033752Z
CREATED:20260426T033752Z
DTSTART:20260419T203000Z
DTEND:20260419T210000Z
LOCATION:A2
CONTACT:
SUMMARY:Team 19 VS. Team 10
DESCRIPTION:League Name: Billiards\nGame Type: Regular\nGame Status: Pendin
 g\nHome Team: Team 19\nAway Team: Team 10\n
END:VEVENT
BEGIN:VEVENT
UID:16984988@ezleagues.ezfacility.com
DTSTAMP:20260426T033752Z
CREATED:20260426T033752Z
DTSTART:20260426T223000Z
DTEND:20260426T230000Z
LOCATION:A2
CONTACT:
SUMMARY:Team 19 VS. Team 06
DESCRIPTION:League Name: Billiards\nGame Type: Regular\nGame Status: Pendin
 g\nHome Team: Team 19\nAway Team: Team 06\n
END:VEVENT
BEGIN:VEVENT
UID:16984999@ezleagues.ezfacility.com
DTSTAMP:20260426T033752Z
CREATED:20260426T033752Z
DTSTART:20260503T233000Z
DTEND:20260504T000000Z
LOCATION:A2
CONTACT:
SUMMARY:Team 19 VS. Team 02
DESCRIPTION:League Name: Billiards\nGame Type: Regular\nGame Status: Pendin
 g\nHome Team: Team 19\nAway Team: Team 02\n
END:VEVENT
BEGIN:VEVENT
UID:16985010@ezleagues.ezfacility.com
DTSTAMP:20260426T033752Z
CREATED:20260426T033752Z
DTSTART:20260511T000000Z
DTEND:20260511T003000Z
LOCATION:A2
CONTACT:
SUMMARY:Team 19 VS. Team 05
DESCRIPTION:League Name: Billiards\nGame Type: Regular\nGame Status: Pendin
 g\nHome Team: Team 19\nAway Team: Team 05\n
END:VEVENT
BEGIN:VEVENT
UID:16985021@ezleagues.ezfacility.com
DTSTAMP:20260426T033752Z
CREATED:20260426T033752Z
DTSTART:20260517T200000Z
DTEND:20260517T203000Z
LOCATION:A2
CONTACT:
SUMMARY:Team 19 VS. Team 09
DESCRIPTION:League Name: Billiards\nGame Type: Regular\nGame Status: Pendin
 g\nHome Team: Team 19\nAway Team: Team 09\n
END:VEVENT
BEGIN:VEVENT
UID:16985032@ezleagues.ezfacility.com
DTSTAMP:20260426T033752Z
CREATED:20260426T033752Z
DTSTART:20260524T213000Z
DTEND:20260524T220000Z
LOCATION:A2
CONTACT:
SUMMARY:Team 19 VS. Team 13
DESCRIPTION:League Name: Billiards\nGame Type: Regular\nGame Status: Pendin
 g\nHome Team: Team 19\nAway Team: Team 13\n
END:VEVENT
BEGIN:VEVENT
UID:16985043@ezleagues.ezfacility.com
DTSTAMP:20260426T033752Z
CREATED:20260426T033752Z
DTSTART:20260601T003000Z
DTEND:20260601T010000Z
LOCATION:A2
CONTACT:
SUMMARY:Team 19 VS. Team 17
DESCRIPTION:League Name: Billiards\nGame Type: Regular\nGame Status: Pendin
 g\nHome Team: Team 19\nAway Team: Team 17\n
END:VEVENT
BEGIN:VEVENT
UID:16985053@ezleagues.ezfacility.com
DTSTAMP:20260426T033752Z
CREATED:20260426T033752Z
DTSTART:20260608T003000Z
DTEND:20260608T010000Z
LOCATION:A2
CONTACT:
SUMMARY:Team 20 VS. Team 19
DESCRIPTION:League Name: Billiards\nGame Type: Regular\nGame Status: Pendin
 g\nHome Team: Team 20\nAway Team: Team 19\n
END:VEVENT
END:VCALENDAR
