BEGIN:VCALENDAR
VERSION:2.0
PRODID:-//EZFacility.com, Inc.//EZL 2.5.5.28621
BEGIN:VEVENT
UID:16985545@ezleagues.ezfacility.com
DTSTAMP:20260421T041654Z
CREATED:20260421T041654Z
DTSTART:20260131T015000Z
DTEND:20260131T025000Z
LOCATION:Accelerate Inside 9v9
CONTACT:
SUMMARY:Coliseum 09 Academy VS. Syracuse FC
DESCRIPTION:League Name: Winter Session 2 - HS Girls- (White)\nGame Type: R
 egular\nGame Status: Complete\nHome Team: Coliseum 09 Academy\nAway Team: 
 Syracuse FC\nHome Score: 5\nAway Score: 3
END:VEVENT
BEGIN:VEVENT
UID:16985579@ezleagues.ezfacility.com
DTSTAMP:20260421T041654Z
CREATED:20260421T041654Z
DTSTART:20260207T000000Z
DTEND:20260207T005500Z
LOCATION:Accelerate Inside 9v9
CONTACT:
SUMMARY:Rush Select VS. Coliseum 09 Academy
DESCRIPTION:League Name: Winter Session 2 - HS Girls- (White)\nGame Type: R
 egular\nGame Status: Complete\nHome Team: Rush Select\nAway Team: Coliseum
  09 Academy\nHome Score: 5\nAway Score: 1
END:VEVENT
BEGIN:VEVENT
UID:17013705@ezleagues.ezfacility.com
DTSTAMP:20260421T041654Z
CREATED:20260421T041654Z
DTSTART:20260214T015000Z
DTEND:20260214T024500Z
LOCATION:Accelerate Inside 9v9
CONTACT:
SUMMARY:Coliseum 09 Academy VS. Coliseum 2010
DESCRIPTION:League Name: Winter Session 2 - HS Girls- (White)\nGame Type: R
 egular\nGame Status: Postponed\nHome Team: Coliseum 09 Academy\nAway Team:
  Coliseum 2010\n
END:VEVENT
BEGIN:VEVENT
UID:17021477@ezleagues.ezfacility.com
DTSTAMP:20260421T041654Z
CREATED:20260421T041654Z
DTSTART:20260228T024000Z
DTEND:20260228T033500Z
LOCATION:Accelerate Inside 9v9
CONTACT:
SUMMARY:MVSC Hurricanes VS. Coliseum 09 Academy
DESCRIPTION:League Name: Winter Session 2 - HS Girls- (White)\nGame Type: R
 egular\nGame Status: Complete\nHome Team: MVSC Hurricanes\nAway Team: Coli
 seum 09 Academy\nHome Score: 0\nAway Score: 1
END:VEVENT
BEGIN:VEVENT
UID:17021482@ezleagues.ezfacility.com
DTSTAMP:20260421T041654Z
CREATED:20260421T041654Z
DTSTART:20260314T005000Z
DTEND:20260314T014500Z
LOCATION:Accelerate Inside 9v9
CONTACT:
SUMMARY:Coliseum 09 Academy VS. United Elite Krajisnik FC 12's
DESCRIPTION:League Name: Winter Session 2 - HS Girls- (White)\nGame Type: R
 egular\nGame Status: Complete\nHome Team: Coliseum 09 Academy\nAway Team: 
 United Elite Krajisnik FC 12's\nHome Score: 0\nAway Score: 0
END:VEVENT
BEGIN:VEVENT
UID:17021485@ezleagues.ezfacility.com
DTSTAMP:20260421T041654Z
CREATED:20260421T041654Z
DTSTART:20260314T221000Z
DTEND:20260314T230500Z
LOCATION:Accelerate Inside 9v9
CONTACT:
SUMMARY:Oneida  VS. Coliseum 09 Academy
DESCRIPTION:League Name: Winter Session 2 - HS Girls- (White)\nGame Type: R
 egular\nGame Status: Pending\nHome Team: Oneida \nAway Team: Coliseum 09 A
 cademy\n
END:VEVENT
BEGIN:VEVENT
UID:17021486@ezleagues.ezfacility.com
DTSTAMP:20260421T041654Z
CREATED:20260421T041654Z
DTSTART:20260314T230500Z
DTEND:20260315T000000Z
LOCATION:Accelerate Inside 9v9
CONTACT:
SUMMARY:Sauquoit Valley VS. Coliseum 09 Academy
DESCRIPTION:League Name: Winter Session 2 - HS Girls- (White)\nGame Type: R
 egular\nGame Status: Complete\nHome Team: Sauquoit Valley\nAway Team: Coli
 seum 09 Academy\nHome Score: 1\nAway Score: 4
END:VEVENT
BEGIN:VEVENT
UID:17021489@ezleagues.ezfacility.com
DTSTAMP:20260421T041654Z
CREATED:20260421T041654Z
DTSTART:20260410T220500Z
DTEND:20260410T230000Z
LOCATION:Accelerate Inside 9v9
CONTACT:
SUMMARY:MVSC Ignite VS. Coliseum 09 Academy
DESCRIPTION:League Name: Winter Session 2 - HS Girls- (White)\nGame Type: R
 egular\nGame Status: Complete\nHome Team: MVSC Ignite\nAway Team: Coliseum
  09 Academy\nHome Score: 1\nAway Score: 1
END:VEVENT
END:VCALENDAR
