BEGIN:VCALENDAR
VERSION:2.0
PRODID:-//EZFacility.com, Inc.//EZL 2.5.5.28621
BEGIN:VEVENT
UID:16987518@ezleagues.ezfacility.com
DTSTAMP:20260424T041455Z
CREATED:20260424T041455Z
DTSTART:20260129T043000Z
DTEND:20260129T052000Z
LOCATION:Indoor West
CONTACT:
SUMMARY:Diamond Dyl’s VS. DOGS
DESCRIPTION:League Name: Wed Coed Friendly A\nGame Type: Regular\nGame Stat
 us: Complete\nHome Team: Diamond Dyl’s\nAway Team: DOGS\nHome Score: 8\n
 Away Score: 7
END:VEVENT
BEGIN:VEVENT
UID:16994290@ezleagues.ezfacility.com
DTSTAMP:20260424T041455Z
CREATED:20260424T041455Z
DTSTART:20260205T030500Z
DTEND:20260205T035500Z
LOCATION:Indoor East
CONTACT:
SUMMARY:Free Ballers VS. Diamond Dyl’s
DESCRIPTION:League Name: Wed Coed Friendly A\nGame Type: Regular\nGame Stat
 us: Complete\nHome Team: Free Ballers\nAway Team: Diamond Dyl’s\nHome Sc
 ore: 6\nAway Score: 9
END:VEVENT
BEGIN:VEVENT
UID:17005579@ezleagues.ezfacility.com
DTSTAMP:20260424T041455Z
CREATED:20260424T041455Z
DTSTART:20260212T034500Z
DTEND:20260212T043500Z
LOCATION:Indoor West
CONTACT:
SUMMARY:Hellfire Club VS. Diamond Dyl’s
DESCRIPTION:League Name: Wed Coed Friendly A\nGame Type: Regular\nGame Stat
 us: Complete\nHome Team: Hellfire Club\nAway Team: Diamond Dyl’s\nHome S
 core: 12\nAway Score: 3
END:VEVENT
BEGIN:VEVENT
UID:17005582@ezleagues.ezfacility.com
DTSTAMP:20260424T041455Z
CREATED:20260424T041455Z
DTSTART:20260219T025500Z
DTEND:20260219T034500Z
LOCATION:Indoor West
CONTACT:
SUMMARY:Diamond Dyl’s VS. DOGS
DESCRIPTION:League Name: Wed Coed Friendly A\nGame Type: Regular\nGame Stat
 us: Complete\nHome Team: Diamond Dyl’s\nAway Team: DOGS\nHome Score: 2\n
 Away Score: 10
END:VEVENT
BEGIN:VEVENT
UID:17005584@ezleagues.ezfacility.com
DTSTAMP:20260424T041455Z
CREATED:20260424T041455Z
DTSTART:20260226T035000Z
DTEND:20260226T044000Z
LOCATION:Indoor East
CONTACT:
SUMMARY:Free Ballers VS. Diamond Dyl’s
DESCRIPTION:League Name: Wed Coed Friendly A\nGame Type: Regular\nGame Stat
 us: Complete\nHome Team: Free Ballers\nAway Team: Diamond Dyl’s\nHome Sc
 ore: 8\nAway Score: 6
END:VEVENT
BEGIN:VEVENT
UID:17005585@ezleagues.ezfacility.com
DTSTAMP:20260424T041455Z
CREATED:20260424T041455Z
DTSTART:20260305T030500Z
DTEND:20260305T035500Z
LOCATION:Indoor East
CONTACT:
SUMMARY:Diamond Dyl’s VS. Hellfire Club
DESCRIPTION:League Name: Wed Coed Friendly A\nGame Type: Regular\nGame Stat
 us: Complete\nHome Team: Diamond Dyl’s\nAway Team: Hellfire Club\nHome S
 core: 4\nAway Score: 9
END:VEVENT
BEGIN:VEVENT
UID:17005588@ezleagues.ezfacility.com
DTSTAMP:20260424T041455Z
CREATED:20260424T041455Z
DTSTART:20260312T034500Z
DTEND:20260312T043500Z
LOCATION:Indoor East
CONTACT:
SUMMARY:DOGS VS. Diamond Dyl’s
DESCRIPTION:League Name: Wed Coed Friendly A\nGame Type: Regular\nGame Stat
 us: Complete\nHome Team: DOGS\nAway Team: Diamond Dyl’s\nHome Score: 11\
 nAway Score: 9
END:VEVENT
BEGIN:VEVENT
UID:17039150@ezleagues.ezfacility.com
DTSTAMP:20260424T041455Z
CREATED:20260424T041455Z
DTSTART:20260319T003000Z
DTEND:20260319T012000Z
LOCATION:Indoor East
CONTACT:
SUMMARY:Free Ballers VS. Diamond Dyl’s
DESCRIPTION:League Name: Wed Coed Friendly A\nGame Type: Regular\nGame Stat
 us: Complete\nHome Team: Free Ballers\nAway Team: Diamond Dyl’s\nHome Sc
 ore: 5\nAway Score: 6
END:VEVENT
END:VCALENDAR
