BEGIN:VCALENDAR
VERSION:2.0
PRODID:-//EZFacility.com, Inc.//EZL 2.5.5.28621
BEGIN:VEVENT
UID:17097149@ezleagues.ezfacility.com
DTSTAMP:20260424T044133Z
CREATED:20260424T044133Z
DTSTART:20260223T010000Z
DTEND:20260223T015000Z
LOCATION:Multi-Purpose Court 
CONTACT:
SUMMARY:Ball Blasters VS. Algoma Strikers
DESCRIPTION:League Name: Intramural Volleyball-Intramural Volleyball W26\nG
 ame Type: Regular\nGame Status: Pending\nHome Team: Ball Blasters\nAway Te
 am: Algoma Strikers\n
END:VEVENT
BEGIN:VEVENT
UID:17097152@ezleagues.ezfacility.com
DTSTAMP:20260424T044133Z
CREATED:20260424T044133Z
DTSTART:20260301T230000Z
DTEND:20260301T235000Z
LOCATION:Multi-Purpose Court 
CONTACT:
SUMMARY:Algoma Strikers VS. Sets on the Beach
DESCRIPTION:League Name: Intramural Volleyball-Intramural Volleyball W26\nG
 ame Type: Regular\nGame Status: Pending\nHome Team: Algoma Strikers\nAway 
 Team: Sets on the Beach\n
END:VEVENT
BEGIN:VEVENT
UID:17097154@ezleagues.ezfacility.com
DTSTAMP:20260424T044133Z
CREATED:20260424T044133Z
DTSTART:20260308T230000Z
DTEND:20260308T235000Z
LOCATION:Multi-Purpose Court 
CONTACT:
SUMMARY:Algoma Strikers VS. Team 8
DESCRIPTION:League Name: Intramural Volleyball-Intramural Volleyball W26\nG
 ame Type: Regular\nGame Status: Pending\nHome Team: Algoma Strikers\nAway 
 Team: Team 8\n
END:VEVENT
BEGIN:VEVENT
UID:17097156@ezleagues.ezfacility.com
DTSTAMP:20260424T044133Z
CREATED:20260424T044133Z
DTSTART:20260315T230000Z
DTEND:20260315T235000Z
LOCATION:Multi-Purpose Court 
CONTACT:
SUMMARY:Team 1 VS. Algoma Strikers
DESCRIPTION:League Name: Intramural Volleyball-Intramural Volleyball W26\nG
 ame Type: Regular\nGame Status: Pending\nHome Team: Team 1\nAway Team: Alg
 oma Strikers\n
END:VEVENT
BEGIN:VEVENT
UID:17097160@ezleagues.ezfacility.com
DTSTAMP:20260424T044133Z
CREATED:20260424T044133Z
DTSTART:20260322T220000Z
DTEND:20260322T225000Z
LOCATION:Multi-Purpose Court 
CONTACT:
SUMMARY:Algoma Strikers VS. Thunderbirds
DESCRIPTION:League Name: Intramural Volleyball-Intramural Volleyball W26\nG
 ame Type: Regular\nGame Status: Pending\nHome Team: Algoma Strikers\nAway 
 Team: Thunderbirds\n
END:VEVENT
BEGIN:VEVENT
UID:17097164@ezleagues.ezfacility.com
DTSTAMP:20260424T044133Z
CREATED:20260424T044133Z
DTSTART:20260330T000000Z
DTEND:20260330T005000Z
LOCATION:Multi-Purpose Court 
CONTACT:
SUMMARY:Algoma Strikers VS. Ball Blasters
DESCRIPTION:League Name: Intramural Volleyball-Intramural Volleyball W26\nG
 ame Type: Regular\nGame Status: Pending\nHome Team: Algoma Strikers\nAway 
 Team: Ball Blasters\n
END:VEVENT
BEGIN:VEVENT
UID:17097167@ezleagues.ezfacility.com
DTSTAMP:20260424T044133Z
CREATED:20260424T044133Z
DTSTART:20260406T000000Z
DTEND:20260406T005000Z
LOCATION:Multi-Purpose Court 
CONTACT:
SUMMARY:Sets on the Beach VS. Algoma Strikers
DESCRIPTION:League Name: Intramural Volleyball-Intramural Volleyball W26\nG
 ame Type: Regular\nGame Status: Pending\nHome Team: Sets on the Beach\nAwa
 y Team: Algoma Strikers\n
END:VEVENT
BEGIN:VEVENT
UID:17097169@ezleagues.ezfacility.com
DTSTAMP:20260424T044133Z
CREATED:20260424T044133Z
DTSTART:20260412T220000Z
DTEND:20260412T225000Z
LOCATION:Multi-Purpose Court 
CONTACT:
SUMMARY:Team 8 VS. Algoma Strikers
DESCRIPTION:League Name: Intramural Volleyball-Intramural Volleyball W26\nG
 ame Type: Regular\nGame Status: Pending\nHome Team: Team 8\nAway Team: Alg
 oma Strikers\n
END:VEVENT
BEGIN:VEVENT
UID:17099424@ezleagues.ezfacility.com
DTSTAMP:20260424T044133Z
CREATED:20260424T044133Z
DTSTART:20260420T000000Z
DTEND:20260420T005000Z
LOCATION:Multi-Purpose Court 
CONTACT:Magoo \, Sharaf
SUMMARY:Algoma Strikers VS. Ball Blasters
DESCRIPTION:League Name: Intramural Volleyball-Intramural Volleyball W26\nG
 ame Type: Postseason\nGame Status: Pending\nHome Team: Algoma Strikers\nAw
 ay Team: Ball Blasters\n
END:VEVENT
END:VCALENDAR
