BEGIN:VCALENDAR
VERSION:2.0
PRODID:-//EZFacility.com, Inc.//EZL 2.5.5.28621
BEGIN:VEVENT
UID:16988758@ezleagues.ezfacility.com
DTSTAMP:20260425T034957Z
CREATED:20260425T034957Z
DTSTART:20260207T183000Z
DTEND:20260207T192000Z
LOCATION:Indoor 1AB
CONTACT:
SUMMARY:HAZLET UNITED STORM VS. STRIKERS ARSENAL 2013
DESCRIPTION:League Name: CSX Winter II (U13/U14) 2012/13 Girls IV 2025\nGam
 e Type: Regular\nGame Status: Complete\nHome Team: HAZLET UNITED STORM\nAw
 ay Team: STRIKERS ARSENAL 2013\nHome Score: 0\nAway Score: 7
END:VEVENT
BEGIN:VEVENT
UID:16988759@ezleagues.ezfacility.com
DTSTAMP:20260425T034957Z
CREATED:20260425T034957Z
DTSTART:20260214T130000Z
DTEND:20260214T135000Z
LOCATION:Indoor 4AB
CONTACT:
SUMMARY:OCEAN 2013 WHITE VS. HAZLET UNITED STORM
DESCRIPTION:League Name: CSX Winter II (U13/U14) 2012/13 Girls IV 2025\nGam
 e Type: Regular\nGame Status: Complete\nHome Team: OCEAN 2013 WHITE\nAway 
 Team: HAZLET UNITED STORM\nHome Score: 5\nAway Score: 1
END:VEVENT
BEGIN:VEVENT
UID:16988762@ezleagues.ezfacility.com
DTSTAMP:20260425T034957Z
CREATED:20260425T034957Z
DTSTART:20260221T173500Z
DTEND:20260221T182500Z
LOCATION:Indoor 1AB
CONTACT:
SUMMARY:MIDDLETOWN SPIRIT BLACK VS. HAZLET UNITED STORM
DESCRIPTION:League Name: CSX Winter II (U13/U14) 2012/13 Girls IV 2025\nGam
 e Type: Regular\nGame Status: Complete\nHome Team: MIDDLETOWN SPIRIT BLACK
 \nAway Team: HAZLET UNITED STORM\nHome Score: 4\nAway Score: 4
END:VEVENT
BEGIN:VEVENT
UID:16988764@ezleagues.ezfacility.com
DTSTAMP:20260425T034957Z
CREATED:20260425T034957Z
DTSTART:20260228T173500Z
DTEND:20260228T182500Z
LOCATION:Indoor 4AB
CONTACT:
SUMMARY:STRIKERS ARSENAL 2013 VS. HAZLET UNITED STORM
DESCRIPTION:League Name: CSX Winter II (U13/U14) 2012/13 Girls IV 2025\nGam
 e Type: Regular\nGame Status: Complete\nHome Team: STRIKERS ARSENAL 2013\n
 Away Team: HAZLET UNITED STORM\nHome Score: 3\nAway Score: 1
END:VEVENT
BEGIN:VEVENT
UID:16988765@ezleagues.ezfacility.com
DTSTAMP:20260425T034957Z
CREATED:20260425T034957Z
DTSTART:20260307T183000Z
DTEND:20260307T192000Z
LOCATION:Indoor 2AB
CONTACT:
SUMMARY:HAZLET UNITED STORM VS. OCEAN 2013 WHITE
DESCRIPTION:League Name: CSX Winter II (U13/U14) 2012/13 Girls IV 2025\nGam
 e Type: Regular\nGame Status: Complete\nHome Team: HAZLET UNITED STORM\nAw
 ay Team: OCEAN 2013 WHITE\nHome Score: 0\nAway Score: 5
END:VEVENT
BEGIN:VEVENT
UID:16988768@ezleagues.ezfacility.com
DTSTAMP:20260425T034957Z
CREATED:20260425T034957Z
DTSTART:20260314T125500Z
DTEND:20260314T134500Z
LOCATION:Indoor 3AB
CONTACT:
SUMMARY:HAZLET UNITED STORM VS. MIDDLETOWN SPIRIT BLACK
DESCRIPTION:League Name: CSX Winter II (U13/U14) 2012/13 Girls IV 2025\nGam
 e Type: Regular\nGame Status: Complete\nHome Team: HAZLET UNITED STORM\nAw
 ay Team: MIDDLETOWN SPIRIT BLACK\nHome Score: 3\nAway Score: 1
END:VEVENT
BEGIN:VEVENT
UID:16988770@ezleagues.ezfacility.com
DTSTAMP:20260425T034957Z
CREATED:20260425T034957Z
DTSTART:20260321T154000Z
DTEND:20260321T163000Z
LOCATION:Indoor 3AB
CONTACT:
SUMMARY:STRIKERS ARSENAL 2013 VS. HAZLET UNITED STORM
DESCRIPTION:League Name: CSX Winter II (U13/U14) 2012/13 Girls IV 2025\nGam
 e Type: Regular\nGame Status: Complete\nHome Team: STRIKERS ARSENAL 2013\n
 Away Team: HAZLET UNITED STORM\nHome Score: 3\nAway Score: 2
END:VEVENT
BEGIN:VEVENT
UID:16988771@ezleagues.ezfacility.com
DTSTAMP:20260425T034957Z
CREATED:20260425T034957Z
DTSTART:20260328T163500Z
DTEND:20260328T172500Z
LOCATION:Indoor 1AB
CONTACT:
SUMMARY:HAZLET UNITED STORM VS. OCEAN 2013 WHITE
DESCRIPTION:League Name: CSX Winter II (U13/U14) 2012/13 Girls IV 2025\nGam
 e Type: Regular\nGame Status: Complete\nHome Team: HAZLET UNITED STORM\nAw
 ay Team: OCEAN 2013 WHITE\nHome Score: 1\nAway Score: 4
END:VEVENT
END:VCALENDAR
