BEGIN:VCALENDAR
VERSION:2.0
PRODID:-//EZFacility.com, Inc.//EZL 2.5.5.28621
BEGIN:VEVENT
UID:16990274@ezleagues.ezfacility.com
DTSTAMP:20260423T134313Z
CREATED:20260423T134313Z
DTSTART:20260211T080000Z
DTEND:20260211T084000Z
LOCATION:008 Ibrox
CONTACT:Greg
SUMMARY:Broken Cabinets VS. Top Bins FC
DESCRIPTION:League Name: SUMMER LEAGUES 25.26 Wednesday Men's 5s FINALS\nGa
 me Type: Postseason\nGame Status: Complete\nHome Team: Broken Cabinets\nAw
 ay Team: Top Bins FC\nHome Score: 16\nAway Score: 6
END:VEVENT
END:VCALENDAR
