BEGIN:VCALENDAR
VERSION:2.0
PRODID:-//EZFacility.com, Inc.//EZL 2.5.5.28621
BEGIN:VEVENT
UID:16991883@ezleagues.ezfacility.com
DTSTAMP:20260426T033648Z
CREATED:20260426T033648Z
DTSTART:20260211T101500Z
DTEND:20260211T105500Z
LOCATION:006 Estadio do Dragao
CONTACT:Jack
SUMMARY:830pm Bedtime VS. Big Batty Ballers
DESCRIPTION:League Name: SUMMER LEAGUES 25.26 Wednesday Men's 5s FINALS\nGa
 me Type: Postseason\nGame Status: Complete\nHome Team: 830pm Bedtime\nAway
  Team: Big Batty Ballers\nHome Score: 11\nAway Score: 7
END:VEVENT
BEGIN:VEVENT
UID:16991890@ezleagues.ezfacility.com
DTSTAMP:20260426T033648Z
CREATED:20260426T033648Z
DTSTART:20260218T084500Z
DTEND:20260218T092500Z
LOCATION:007 Celtic Park
CONTACT:Ash
SUMMARY:Pinch and Roll VS. 830pm Bedtime
DESCRIPTION:League Name: SUMMER LEAGUES 25.26 Wednesday Men's 5s FINALS\nGa
 me Type: Postseason\nGame Status: Complete\nHome Team: Pinch and Roll\nAwa
 y Team: 830pm Bedtime\nHome Score: 12\nAway Score: 8
END:VEVENT
END:VCALENDAR
