BEGIN:VCALENDAR
VERSION:2.0
PRODID:-//EZFacility.com, Inc.//EZL 2.5.5.28621
BEGIN:VEVENT
UID:16990748@ezleagues.ezfacility.com
DTSTAMP:20260426T033725Z
CREATED:20260426T033725Z
DTSTART:20260129T013000Z
DTEND:20260129T023000Z
LOCATION:Field A
CONTACT:
SUMMARY:DadBod Squad VS. Manchesthair City
DESCRIPTION:League Name: Men's Over 35+ Soccer League JAN 28 2026\nGame Typ
 e: Regular\nGame Status: Complete\nHome Team: DadBod Squad\nAway Team: Man
 chesthair City\nHome Score: 9\nAway Score: 6
END:VEVENT
BEGIN:VEVENT
UID:16990754@ezleagues.ezfacility.com
DTSTAMP:20260426T033725Z
CREATED:20260426T033725Z
DTSTART:20260205T023000Z
DTEND:20260205T033000Z
LOCATION:Field A
CONTACT:
SUMMARY:Geri-Hat-Tricks VS. DadBod Squad
DESCRIPTION:League Name: Men's Over 35+ Soccer League JAN 28 2026\nGame Typ
 e: Regular\nGame Status: Complete\nHome Team: Geri-Hat-Tricks\nAway Team: 
 DadBod Squad\nHome Score: 4\nAway Score: 3
END:VEVENT
BEGIN:VEVENT
UID:16990772@ezleagues.ezfacility.com
DTSTAMP:20260426T033725Z
CREATED:20260426T033725Z
DTSTART:20260226T023000Z
DTEND:20260226T033000Z
LOCATION:Field B
CONTACT:
SUMMARY:DadBod Squad VS. SOPO FOOTY
DESCRIPTION:League Name: Men's Over 35+ Soccer League JAN 28 2026\nGame Typ
 e: Regular\nGame Status: Complete\nHome Team: DadBod Squad\nAway Team: SOP
 O FOOTY\nHome Score: 2\nAway Score: 4
END:VEVENT
BEGIN:VEVENT
UID:16990777@ezleagues.ezfacility.com
DTSTAMP:20260426T033725Z
CREATED:20260426T033725Z
DTSTART:20260305T013000Z
DTEND:20260305T023000Z
LOCATION:Field B
CONTACT:
SUMMARY:DadBod Squad VS. Meg U Nited
DESCRIPTION:League Name: Men's Over 35+ Soccer League JAN 28 2026\nGame Typ
 e: Regular\nGame Status: Complete\nHome Team: DadBod Squad\nAway Team: Meg
  U Nited\nHome Score: 11\nAway Score: 8
END:VEVENT
BEGIN:VEVENT
UID:16990781@ezleagues.ezfacility.com
DTSTAMP:20260426T033725Z
CREATED:20260426T033725Z
DTSTART:20260312T013000Z
DTEND:20260312T023000Z
LOCATION:Field B
CONTACT:
SUMMARY:UPPER DECK VS. DadBod Squad
DESCRIPTION:League Name: Men's Over 35+ Soccer League JAN 28 2026\nGame Typ
 e: Regular\nGame Status: Complete\nHome Team: UPPER DECK\nAway Team: DadBo
 d Squad\nHome Score: 2\nAway Score: 1
END:VEVENT
BEGIN:VEVENT
UID:16990785@ezleagues.ezfacility.com
DTSTAMP:20260426T033725Z
CREATED:20260426T033725Z
DTSTART:20260319T013000Z
DTEND:20260319T023000Z
LOCATION:Field B
CONTACT:
SUMMARY:DadBod Squad VS. Old Balls
DESCRIPTION:League Name: Men's Over 35+ Soccer League JAN 28 2026\nGame Typ
 e: Regular\nGame Status: Complete\nHome Team: DadBod Squad\nAway Team: Old
  Balls\nHome Score: 5\nAway Score: 10
END:VEVENT
BEGIN:VEVENT
UID:16990766@ezleagues.ezfacility.com
DTSTAMP:20260426T033725Z
CREATED:20260426T033725Z
DTSTART:20260326T003000Z
DTEND:20260326T013000Z
LOCATION:Field A
CONTACT:
SUMMARY:OGSC VS. DadBod Squad
DESCRIPTION:League Name: Men's Over 35+ Soccer League JAN 28 2026\nGame Typ
 e: Regular\nGame Status: Complete\nHome Team: OGSC\nAway Team: DadBod Squa
 d\nHome Score: 9\nAway Score: 5
END:VEVENT
END:VCALENDAR
