BEGIN:VCALENDAR
VERSION:2.0
PRODID:-//EZFacility.com, Inc.//EZL 2.5.5.28621
BEGIN:VEVENT
UID:16990751@ezleagues.ezfacility.com
DTSTAMP:20260426T035149Z
CREATED:20260426T035149Z
DTSTART:20260129T023000Z
DTEND:20260129T033000Z
LOCATION:Field B
CONTACT:
SUMMARY:OGSC VS. UPPER DECK
DESCRIPTION:League Name: Men's Over 35+ Soccer League JAN 28 2026\nGame Typ
 e: Regular\nGame Status: Complete\nHome Team: OGSC\nAway Team: UPPER DECK\
 nHome Score: 3\nAway Score: 9
END:VEVENT
BEGIN:VEVENT
UID:16990757@ezleagues.ezfacility.com
DTSTAMP:20260426T035149Z
CREATED:20260426T035149Z
DTSTART:20260205T023000Z
DTEND:20260205T033000Z
LOCATION:Field B
CONTACT:
SUMMARY:Old Balls VS. OGSC
DESCRIPTION:League Name: Men's Over 35+ Soccer League JAN 28 2026\nGame Typ
 e: Regular\nGame Status: Complete\nHome Team: Old Balls\nAway Team: OGSC\n
 Home Score: 6\nAway Score: 6
END:VEVENT
BEGIN:VEVENT
UID:16990762@ezleagues.ezfacility.com
DTSTAMP:20260426T035149Z
CREATED:20260426T035149Z
DTSTART:20260212T023000Z
DTEND:20260212T033000Z
LOCATION:Field B
CONTACT:
SUMMARY:Loch Neskie Monsters VS. OGSC
DESCRIPTION:League Name: Men's Over 35+ Soccer League JAN 28 2026\nGame Typ
 e: Regular\nGame Status: Complete\nHome Team: Loch Neskie Monsters\nAway T
 eam: OGSC\nHome Score: 2\nAway Score: 1
END:VEVENT
BEGIN:VEVENT
UID:16990770@ezleagues.ezfacility.com
DTSTAMP:20260426T035149Z
CREATED:20260426T035149Z
DTSTART:20260226T013000Z
DTEND:20260226T023000Z
LOCATION:Field B
CONTACT:
SUMMARY:Geri-Hat-Tricks VS. OGSC
DESCRIPTION:League Name: Men's Over 35+ Soccer League JAN 28 2026\nGame Typ
 e: Regular\nGame Status: Complete\nHome Team: Geri-Hat-Tricks\nAway Team: 
 OGSC\nHome Score: 1\nAway Score: 8
END:VEVENT
BEGIN:VEVENT
UID:16990778@ezleagues.ezfacility.com
DTSTAMP:20260426T035149Z
CREATED:20260426T035149Z
DTSTART:20260312T003000Z
DTEND:20260312T013000Z
LOCATION:Field A
CONTACT:
SUMMARY:OGSC VS. Manchesthair City
DESCRIPTION:League Name: Men's Over 35+ Soccer League JAN 28 2026\nGame Typ
 e: Regular\nGame Status: Complete\nHome Team: OGSC\nAway Team: Manchesthai
 r City\nHome Score: 5\nAway Score: 0
END:VEVENT
BEGIN:VEVENT
UID:16990784@ezleagues.ezfacility.com
DTSTAMP:20260426T035149Z
CREATED:20260426T035149Z
DTSTART:20260319T003000Z
DTEND:20260319T013000Z
LOCATION:Field A
CONTACT:
SUMMARY:SOPO FOOTY VS. OGSC
DESCRIPTION:League Name: Men's Over 35+ Soccer League JAN 28 2026\nGame Typ
 e: Regular\nGame Status: Complete\nHome Team: SOPO FOOTY\nAway Team: OGSC\
 nHome Score: 5\nAway Score: 1
END:VEVENT
BEGIN:VEVENT
UID:16990766@ezleagues.ezfacility.com
DTSTAMP:20260426T035149Z
CREATED:20260426T035149Z
DTSTART:20260326T003000Z
DTEND:20260326T013000Z
LOCATION:Field A
CONTACT:
SUMMARY:OGSC VS. DadBod Squad
DESCRIPTION:League Name: Men's Over 35+ Soccer League JAN 28 2026\nGame Typ
 e: Regular\nGame Status: Complete\nHome Team: OGSC\nAway Team: DadBod Squa
 d\nHome Score: 9\nAway Score: 5
END:VEVENT
END:VCALENDAR
