BEGIN:VCALENDAR
VERSION:2.0
PRODID:-//EZFacility.com, Inc.//EZL 2.5.5.28621
BEGIN:VEVENT
UID:16990750@ezleagues.ezfacility.com
DTSTAMP:20260423T041744Z
CREATED:20260423T041744Z
DTSTART:20260129T013000Z
DTEND:20260129T023000Z
LOCATION:Field B
CONTACT:
SUMMARY:Loch Neskie Monsters VS. Geri-Hat-Tricks
DESCRIPTION:League Name: Men's Over 35+ Soccer League JAN 28 2026\nGame Typ
 e: Regular\nGame Status: Complete\nHome Team: Loch Neskie Monsters\nAway T
 eam: Geri-Hat-Tricks\nHome Score: 4\nAway Score: 2
END:VEVENT
BEGIN:VEVENT
UID:16990754@ezleagues.ezfacility.com
DTSTAMP:20260423T041744Z
CREATED:20260423T041744Z
DTSTART:20260205T023000Z
DTEND:20260205T033000Z
LOCATION:Field A
CONTACT:
SUMMARY:Geri-Hat-Tricks VS. DadBod Squad
DESCRIPTION:League Name: Men's Over 35+ Soccer League JAN 28 2026\nGame Typ
 e: Regular\nGame Status: Complete\nHome Team: Geri-Hat-Tricks\nAway Team: 
 DadBod Squad\nHome Score: 4\nAway Score: 3
END:VEVENT
BEGIN:VEVENT
UID:16990758@ezleagues.ezfacility.com
DTSTAMP:20260423T041744Z
CREATED:20260423T041744Z
DTSTART:20260212T023000Z
DTEND:20260212T033000Z
LOCATION:Field A
CONTACT:
SUMMARY:Geri-Hat-Tricks VS. Manchesthair City
DESCRIPTION:League Name: Men's Over 35+ Soccer League JAN 28 2026\nGame Typ
 e: Regular\nGame Status: Complete\nHome Team: Geri-Hat-Tricks\nAway Team: 
 Manchesthair City\nHome Score: 1\nAway Score: 4
END:VEVENT
BEGIN:VEVENT
UID:16990770@ezleagues.ezfacility.com
DTSTAMP:20260423T041744Z
CREATED:20260423T041744Z
DTSTART:20260226T013000Z
DTEND:20260226T023000Z
LOCATION:Field B
CONTACT:
SUMMARY:Geri-Hat-Tricks VS. OGSC
DESCRIPTION:League Name: Men's Over 35+ Soccer League JAN 28 2026\nGame Typ
 e: Regular\nGame Status: Complete\nHome Team: Geri-Hat-Tricks\nAway Team: 
 OGSC\nHome Score: 1\nAway Score: 8
END:VEVENT
BEGIN:VEVENT
UID:16990776@ezleagues.ezfacility.com
DTSTAMP:20260423T041744Z
CREATED:20260423T041744Z
DTSTART:20260305T023000Z
DTEND:20260305T033000Z
LOCATION:Field B
CONTACT:
SUMMARY:SOPO FOOTY VS. Geri-Hat-Tricks
DESCRIPTION:League Name: Men's Over 35+ Soccer League JAN 28 2026\nGame Typ
 e: Regular\nGame Status: Complete\nHome Team: SOPO FOOTY\nAway Team: Geri-
 Hat-Tricks\nHome Score: 5\nAway Score: 2
END:VEVENT
BEGIN:VEVENT
UID:16990782@ezleagues.ezfacility.com
DTSTAMP:20260423T041744Z
CREATED:20260423T041744Z
DTSTART:20260312T003000Z
DTEND:20260312T013000Z
LOCATION:Field B
CONTACT:
SUMMARY:Geri-Hat-Tricks VS. Meg U Nited
DESCRIPTION:League Name: Men's Over 35+ Soccer League JAN 28 2026\nGame Typ
 e: Regular\nGame Status: Complete\nHome Team: Geri-Hat-Tricks\nAway Team: 
 Meg U Nited\nHome Score: 2\nAway Score: 1
END:VEVENT
BEGIN:VEVENT
UID:16990787@ezleagues.ezfacility.com
DTSTAMP:20260423T041744Z
CREATED:20260423T041744Z
DTSTART:20260319T013000Z
DTEND:20260319T023000Z
LOCATION:Field A
CONTACT:
SUMMARY:UPPER DECK VS. Geri-Hat-Tricks
DESCRIPTION:League Name: Men's Over 35+ Soccer League JAN 28 2026\nGame Typ
 e: Regular\nGame Status: Complete\nHome Team: UPPER DECK\nAway Team: Geri-
 Hat-Tricks\nHome Score: 2\nAway Score: 2
END:VEVENT
END:VCALENDAR
