BEGIN:VCALENDAR
VERSION:2.0
PRODID:-//EZFacility.com, Inc.//EZL 2.5.5.28621
BEGIN:VEVENT
UID:16992003@ezleagues.ezfacility.com
DTSTAMP:20260426T035059Z
CREATED:20260426T035059Z
DTSTART:20260202T024500Z
DTEND:20260202T034500Z
LOCATION:Field 3
CONTACT:
SUMMARY:Play 2  Drink A Few VS. Sons of Pitches
DESCRIPTION:League Name: 2026 S1 Sun Men's- Feb. 1st\nGame Type: Regular\nG
 ame Status: Complete\nHome Team: Play 2  Drink A Few\nAway Team: Sons of P
 itches\nHome Score: 17\nAway Score: 15
END:VEVENT
BEGIN:VEVENT
UID:16992004@ezleagues.ezfacility.com
DTSTAMP:20260426T035059Z
CREATED:20260426T035059Z
DTSTART:20260202T034500Z
DTEND:20260202T044500Z
LOCATION:Field 3
CONTACT:
SUMMARY:Sons of Pitches VS. Play 2  Drink A Few
DESCRIPTION:League Name: 2026 S1 Sun Men's- Feb. 1st\nGame Type: Regular\nG
 ame Status: Complete\nHome Team: Sons of Pitches\nAway Team: Play 2  Drink
  A Few\nHome Score: 16\nAway Score: 24
END:VEVENT
BEGIN:VEVENT
UID:16992014@ezleagues.ezfacility.com
DTSTAMP:20260426T035059Z
CREATED:20260426T035059Z
DTSTART:20260223T024500Z
DTEND:20260223T034500Z
LOCATION:Field 2
CONTACT:
SUMMARY:Play 2  Drink A Few VS. Desert Divots
DESCRIPTION:League Name: 2026 S1 Sun Men's- Feb. 1st\nGame Type: Regular\nG
 ame Status: Complete\nHome Team: Play 2  Drink A Few\nAway Team: Desert Di
 vots\nHome Score: 22\nAway Score: 9
END:VEVENT
BEGIN:VEVENT
UID:16992015@ezleagues.ezfacility.com
DTSTAMP:20260426T035059Z
CREATED:20260426T035059Z
DTSTART:20260223T034500Z
DTEND:20260223T044500Z
LOCATION:Field 2
CONTACT:
SUMMARY:Desert Divots VS. Play 2  Drink A Few
DESCRIPTION:League Name: 2026 S1 Sun Men's- Feb. 1st\nGame Type: Regular\nG
 ame Status: Complete\nHome Team: Desert Divots\nAway Team: Play 2  Drink A
  Few\nHome Score: 17\nAway Score: 7
END:VEVENT
BEGIN:VEVENT
UID:16992016@ezleagues.ezfacility.com
DTSTAMP:20260426T035059Z
CREATED:20260426T035059Z
DTSTART:20260302T004500Z
DTEND:20260302T014500Z
LOCATION:Field 1
CONTACT:
SUMMARY:Play 2  Drink A Few VS. Base Invaders
DESCRIPTION:League Name: 2026 S1 Sun Men's- Feb. 1st\nGame Type: Regular\nG
 ame Status: Complete\nHome Team: Play 2  Drink A Few\nAway Team: Base Inva
 ders\nHome Score: 24\nAway Score: 6
END:VEVENT
BEGIN:VEVENT
UID:16992017@ezleagues.ezfacility.com
DTSTAMP:20260426T035059Z
CREATED:20260426T035059Z
DTSTART:20260302T014500Z
DTEND:20260302T024500Z
LOCATION:Field 1
CONTACT:
SUMMARY:Base Invaders VS. Play 2  Drink A Few
DESCRIPTION:League Name: 2026 S1 Sun Men's- Feb. 1st\nGame Type: Regular\nG
 ame Status: Complete\nHome Team: Base Invaders\nAway Team: Play 2  Drink A
  Few\nHome Score: 3\nAway Score: 13
END:VEVENT
BEGIN:VEVENT
UID:16992024@ezleagues.ezfacility.com
DTSTAMP:20260426T035059Z
CREATED:20260426T035059Z
DTSTART:20260309T024500Z
DTEND:20260309T034500Z
LOCATION:Field 3
CONTACT:
SUMMARY:Play 2  Drink A Few VS. Valley Threads
DESCRIPTION:League Name: 2026 S1 Sun Men's- Feb. 1st\nGame Type: Regular\nG
 ame Status: Complete\nHome Team: Play 2  Drink A Few\nAway Team: Valley Th
 reads\nHome Score: 16\nAway Score: 21
END:VEVENT
BEGIN:VEVENT
UID:16992025@ezleagues.ezfacility.com
DTSTAMP:20260426T035059Z
CREATED:20260426T035059Z
DTSTART:20260309T034500Z
DTEND:20260309T044500Z
LOCATION:Field 3
CONTACT:
SUMMARY:Valley Threads VS. Play 2  Drink A Few
DESCRIPTION:League Name: 2026 S1 Sun Men's- Feb. 1st\nGame Type: Regular\nG
 ame Status: Complete\nHome Team: Valley Threads\nAway Team: Play 2  Drink 
 A Few\nHome Score: 14\nAway Score: 13
END:VEVENT
BEGIN:VEVENT
UID:16992031@ezleagues.ezfacility.com
DTSTAMP:20260426T035059Z
CREATED:20260426T035059Z
DTSTART:20260323T034500Z
DTEND:20260323T044500Z
LOCATION:Field 2
CONTACT:
SUMMARY:Base Invaders VS. Play 2  Drink A Few
DESCRIPTION:League Name: 2026 S1 Sun Men's- Feb. 1st\nGame Type: Regular\nG
 ame Status: Complete\nHome Team: Base Invaders\nAway Team: Play 2  Drink A
  Few\nHome Score: 10\nAway Score: 24
END:VEVENT
BEGIN:VEVENT
UID:16992032@ezleagues.ezfacility.com
DTSTAMP:20260426T035059Z
CREATED:20260426T035059Z
DTSTART:20260323T044500Z
DTEND:20260323T054500Z
LOCATION:Field 2
CONTACT:
SUMMARY:Play 2  Drink A Few VS. Desert Divots
DESCRIPTION:League Name: 2026 S1 Sun Men's- Feb. 1st\nGame Type: Regular\nG
 ame Status: Complete\nHome Team: Play 2  Drink A Few\nAway Team: Desert Di
 vots\nHome Score: 18\nAway Score: 18
END:VEVENT
BEGIN:VEVENT
UID:16992038@ezleagues.ezfacility.com
DTSTAMP:20260426T035059Z
CREATED:20260426T035059Z
DTSTART:20260330T004500Z
DTEND:20260330T014500Z
LOCATION:Field 2
CONTACT:
SUMMARY:Play 2  Drink A Few VS. Sons of Pitches
DESCRIPTION:League Name: 2026 S1 Sun Men's- Feb. 1st\nGame Type: Regular\nG
 ame Status: Complete\nHome Team: Play 2  Drink A Few\nAway Team: Sons of P
 itches\nHome Score: 21\nAway Score: 15
END:VEVENT
BEGIN:VEVENT
UID:16992039@ezleagues.ezfacility.com
DTSTAMP:20260426T035059Z
CREATED:20260426T035059Z
DTSTART:20260330T014500Z
DTEND:20260330T024500Z
LOCATION:Field 2
CONTACT:
SUMMARY:Sons of Pitches VS. Play 2  Drink A Few
DESCRIPTION:League Name: 2026 S1 Sun Men's- Feb. 1st\nGame Type: Regular\nG
 ame Status: Complete\nHome Team: Sons of Pitches\nAway Team: Play 2  Drink
  A Few\nHome Score: 16\nAway Score: 15
END:VEVENT
BEGIN:VEVENT
UID:16992006@ezleagues.ezfacility.com
DTSTAMP:20260426T035059Z
CREATED:20260426T035059Z
DTSTART:20260413T024500Z
DTEND:20260413T034500Z
LOCATION:Field 1
CONTACT:
SUMMARY:Play 2  Drink A Few VS. F Bombers 
DESCRIPTION:League Name: 2026 S1 Sun Men's- Feb. 1st\nGame Type: Regular\nG
 ame Status: Complete\nHome Team: Play 2  Drink A Few\nAway Team: F Bombers
  \nHome Score: 11\nAway Score: 11
END:VEVENT
BEGIN:VEVENT
UID:16992007@ezleagues.ezfacility.com
DTSTAMP:20260426T035059Z
CREATED:20260426T035059Z
DTSTART:20260413T034500Z
DTEND:20260413T044500Z
LOCATION:Field 1
CONTACT:
SUMMARY:F Bombers  VS. Play 2  Drink A Few
DESCRIPTION:League Name: 2026 S1 Sun Men's- Feb. 1st\nGame Type: Regular\nG
 ame Status: Complete\nHome Team: F Bombers \nAway Team: Play 2  Drink A Fe
 w\nHome Score: 19\nAway Score: 4
END:VEVENT
BEGIN:VEVENT
UID:17096031@ezleagues.ezfacility.com
DTSTAMP:20260426T035059Z
CREATED:20260426T035059Z
DTSTART:20260420T004500Z
DTEND:20260420T014500Z
LOCATION:Field 3
CONTACT:
SUMMARY:Valley Threads VS. Play 2  Drink A Few
DESCRIPTION:League Name: 2026 S1 Sun Men's- Feb. 1st\nGame Type: Postseason
 \nGame Status: Complete\nHome Team: Valley Threads\nAway Team: Play 2  Dri
 nk A Few\nHome Score: 5\nAway Score: 25
END:VEVENT
END:VCALENDAR
