BEGIN:VCALENDAR
VERSION:2.0
PRODID:-//EZFacility.com, Inc.//EZL 2.5.5.28621
BEGIN:VEVENT
UID:16993340@ezleagues.ezfacility.com
DTSTAMP:20260425T163425Z
CREATED:20260425T163425Z
DTSTART:20260221T210000Z
DTEND:20260221T220000Z
LOCATION:Field 3
CONTACT:
SUMMARY:Mahwah Raiders VS. Maroons
DESCRIPTION:League Name: Superdome Sports 2026 Girls U 11 Youth League\nGam
 e Type: Regular\nGame Status: Complete\nHome Team: Mahwah Raiders\nAway Te
 am: Maroons\nHome Score: 0\nAway Score: 5
END:VEVENT
BEGIN:VEVENT
UID:16993347@ezleagues.ezfacility.com
DTSTAMP:20260425T163425Z
CREATED:20260425T163425Z
DTSTART:20260307T210000Z
DTEND:20260307T220000Z
LOCATION:Field 4
CONTACT:
SUMMARY:Hot Spurs VS. Mahwah Raiders
DESCRIPTION:League Name: Superdome Sports 2026 Girls U 11 Youth League\nGam
 e Type: Regular\nGame Status: Complete\nHome Team: Hot Spurs\nAway Team: M
 ahwah Raiders\nHome Score: 5\nAway Score: 2
END:VEVENT
BEGIN:VEVENT
UID:16993349@ezleagues.ezfacility.com
DTSTAMP:20260425T163425Z
CREATED:20260425T163425Z
DTSTART:20260314T180000Z
DTEND:20260314T190000Z
LOCATION:Field 2
CONTACT:
SUMMARY:Mustango FC VS. Mahwah Raiders
DESCRIPTION:League Name: Superdome Sports 2026 Girls U 11 Youth League\nGam
 e Type: Regular\nGame Status: Complete\nHome Team: Mustango FC\nAway Team:
  Mahwah Raiders\nHome Score: 2\nAway Score: 2
END:VEVENT
BEGIN:VEVENT
UID:16993344@ezleagues.ezfacility.com
DTSTAMP:20260425T163425Z
CREATED:20260425T163425Z
DTSTART:20260321T210000Z
DTEND:20260321T220000Z
LOCATION:Field 3
CONTACT:
SUMMARY:Mahwah Raiders VS. 2. Rockland Royals U10
DESCRIPTION:League Name: Superdome Sports 2026 Girls U 11 Youth League\nGam
 e Type: Regular\nGame Status: Complete\nHome Team: Mahwah Raiders\nAway Te
 am: 2. Rockland Royals U10\nHome Score: 3\nAway Score: 8
END:VEVENT
BEGIN:VEVENT
UID:16993336@ezleagues.ezfacility.com
DTSTAMP:20260425T163425Z
CREATED:20260425T163425Z
DTSTART:20260328T190000Z
DTEND:20260328T200000Z
LOCATION:Field 2
CONTACT:
SUMMARY:1. Blackhawks U 10 VS. Mahwah Raiders
DESCRIPTION:League Name: Superdome Sports 2026 Girls U 11 Youth League\nGam
 e Type: Regular\nGame Status: Complete\nHome Team: 1. Blackhawks U 10\nAwa
 y Team: Mahwah Raiders\nHome Score: 0\nAway Score: 4
END:VEVENT
END:VCALENDAR
