BEGIN:VCALENDAR
VERSION:2.0
PRODID:-//EZFacility.com, Inc.//EZL 2.5.5.28621
BEGIN:VEVENT
UID:16993386@ezleagues.ezfacility.com
DTSTAMP:20260424T043305Z
CREATED:20260424T043305Z
DTSTART:20260221T230000Z
DTEND:20260222T000000Z
LOCATION:Field 2
CONTACT:
SUMMARY:3. Mahwah Raiders VS. 7. World Class FC Hirsh
DESCRIPTION:League Name: Superdome Sports 2026 Boys U11 Youth League\nGame 
 Type: Regular\nGame Status: Complete\nHome Team: 3. Mahwah Raiders\nAway T
 eam: 7. World Class FC Hirsh\nHome Score: 1\nAway Score: 6
END:VEVENT
BEGIN:VEVENT
UID:16993389@ezleagues.ezfacility.com
DTSTAMP:20260424T043305Z
CREATED:20260424T043305Z
DTSTART:20260228T230000Z
DTEND:20260301T000000Z
LOCATION:Field 1
CONTACT:
SUMMARY:7. World Class FC Hirsh VS. 1. Warriors-B11D-Stratton
DESCRIPTION:League Name: Superdome Sports 2026 Boys U11 Youth League\nGame 
 Type: Regular\nGame Status: Complete\nHome Team: 7. World Class FC Hirsh\n
 Away Team: 1. Warriors-B11D-Stratton\nHome Score: 6\nAway Score: 1
END:VEVENT
BEGIN:VEVENT
UID:16993394@ezleagues.ezfacility.com
DTSTAMP:20260424T043305Z
CREATED:20260424T043305Z
DTSTART:20260307T230000Z
DTEND:20260308T000000Z
LOCATION:Field 4
CONTACT:
SUMMARY:7. World Class FC Hirsh VS. 6. YMCA 
DESCRIPTION:League Name: Superdome Sports 2026 Boys U11 Youth League\nGame 
 Type: Regular\nGame Status: Complete\nHome Team: 7. World Class FC Hirsh\n
 Away Team: 6. YMCA \nHome Score: 8\nAway Score: 3
END:VEVENT
BEGIN:VEVENT
UID:16993399@ezleagues.ezfacility.com
DTSTAMP:20260424T043305Z
CREATED:20260424T043305Z
DTSTART:20260314T200000Z
DTEND:20260314T210000Z
LOCATION:Field 4
CONTACT:
SUMMARY:7. World Class FC Hirsh VS. 2. Riverdell Blackhawks
DESCRIPTION:League Name: Superdome Sports 2026 Boys U11 Youth League\nGame 
 Type: Regular\nGame Status: Complete\nHome Team: 7. World Class FC Hirsh\n
 Away Team: 2. Riverdell Blackhawks\nHome Score: 5\nAway Score: 0
END:VEVENT
BEGIN:VEVENT
UID:16993383@ezleagues.ezfacility.com
DTSTAMP:20260424T043305Z
CREATED:20260424T043305Z
DTSTART:20260321T210000Z
DTEND:20260321T220000Z
LOCATION:Field 4
CONTACT:
SUMMARY:4. Maroons Soccer Madrid VS. 7. World Class FC Hirsh
DESCRIPTION:League Name: Superdome Sports 2026 Boys U11 Youth League\nGame 
 Type: Regular\nGame Status: Complete\nHome Team: 4. Maroons Soccer Madrid\
 nAway Team: 7. World Class FC Hirsh\nHome Score: 3\nAway Score: 7
END:VEVENT
END:VCALENDAR
