BEGIN:VCALENDAR
VERSION:2.0
PRODID:-//EZFacility.com, Inc.//EZL 2.5.5.28621
BEGIN:VEVENT
UID:16999914@ezleagues.ezfacility.com
DTSTAMP:20260424T043929Z
CREATED:20260424T043929Z
DTSTART:20260204T020000Z
DTEND:20260204T030000Z
LOCATION:Court # 3
CONTACT:
SUMMARY:Volley Vatos VS. Dani and friends
DESCRIPTION:League Name: Volleyball Coed League Tuesday\nGame Type: Regular
 \nGame Status: Complete\nHome Team: Volley Vatos\nAway Team: Dani and frie
 nds\nHome Score: 2\nAway Score: 0
END:VEVENT
BEGIN:VEVENT
UID:16999922@ezleagues.ezfacility.com
DTSTAMP:20260424T043929Z
CREATED:20260424T043929Z
DTSTART:20260211T020000Z
DTEND:20260211T030000Z
LOCATION:Court # 4
CONTACT:
SUMMARY:Volley Vatos VS. Fellas In Paris
DESCRIPTION:League Name: Volleyball Coed League Tuesday\nGame Type: Regular
 \nGame Status: Complete\nHome Team: Volley Vatos\nAway Team: Fellas In Par
 is\nHome Score: 1\nAway Score: 2
END:VEVENT
BEGIN:VEVENT
UID:16999930@ezleagues.ezfacility.com
DTSTAMP:20260424T043929Z
CREATED:20260424T043929Z
DTSTART:20260218T030000Z
DTEND:20260218T040000Z
LOCATION:Court # 1
CONTACT:
SUMMARY:Volley Vatos VS. Los Frijoleros
DESCRIPTION:League Name: Volleyball Coed League Tuesday\nGame Type: Regular
 \nGame Status: Complete\nHome Team: Volley Vatos\nAway Team: Los Frijolero
 s\nHome Score: 0\nAway Score: 2
END:VEVENT
BEGIN:VEVENT
UID:16999937@ezleagues.ezfacility.com
DTSTAMP:20260424T043929Z
CREATED:20260424T043929Z
DTSTART:20260225T020000Z
DTEND:20260225T030000Z
LOCATION:Court # 2
CONTACT:
SUMMARY:All Stars VS. Volley Vatos
DESCRIPTION:League Name: Volleyball Coed League Tuesday\nGame Type: Regular
 \nGame Status: Pending\nHome Team: All Stars\nAway Team: Volley Vatos\n
END:VEVENT
BEGIN:VEVENT
UID:16999943@ezleagues.ezfacility.com
DTSTAMP:20260424T043929Z
CREATED:20260424T043929Z
DTSTART:20260304T020000Z
DTEND:20260304T030000Z
LOCATION:Court # 5
CONTACT:
SUMMARY:BGC All Stars VS. Volley Vatos
DESCRIPTION:League Name: Volleyball Coed League Tuesday\nGame Type: Regular
 \nGame Status: Complete\nHome Team: BGC All Stars\nAway Team: Volley Vatos
 \nHome Score: 0\nAway Score: 2
END:VEVENT
BEGIN:VEVENT
UID:16999949@ezleagues.ezfacility.com
DTSTAMP:20260424T043929Z
CREATED:20260424T043929Z
DTSTART:20260311T010000Z
DTEND:20260311T020000Z
LOCATION:Court # 2
CONTACT:
SUMMARY:Yes Boy VS. Volley Vatos
DESCRIPTION:League Name: Volleyball Coed League Tuesday\nGame Type: Regular
 \nGame Status: Complete\nHome Team: Yes Boy\nAway Team: Volley Vatos\nHome
  Score: 2\nAway Score: 1
END:VEVENT
BEGIN:VEVENT
UID:17057069@ezleagues.ezfacility.com
DTSTAMP:20260424T043929Z
CREATED:20260424T043929Z
DTSTART:20260318T010000Z
DTEND:20260318T020000Z
LOCATION:Court # 3
CONTACT:
SUMMARY:BGC All Stars VS. Volley Vatos
DESCRIPTION:League Name: Volleyball Coed League Tuesday\nGame Type: Regular
 \nGame Status: Complete\nHome Team: BGC All Stars\nAway Team: Volley Vatos
 \nHome Score: 0\nAway Score: 2
END:VEVENT
BEGIN:VEVENT
UID:16999967@ezleagues.ezfacility.com
DTSTAMP:20260424T043929Z
CREATED:20260424T043929Z
DTSTART:20260401T010000Z
DTEND:20260401T020000Z
LOCATION:Court # 3
CONTACT:
SUMMARY:Guerrero FC VS. Volley Vatos
DESCRIPTION:League Name: Volleyball Coed League Tuesday\nGame Type: Regular
 \nGame Status: Complete\nHome Team: Guerrero FC\nAway Team: Volley Vatos\n
 Home Score: 1\nAway Score: 2
END:VEVENT
BEGIN:VEVENT
UID:17074233@ezleagues.ezfacility.com
DTSTAMP:20260424T043929Z
CREATED:20260424T043929Z
DTSTART:20260401T020000Z
DTEND:20260401T030000Z
LOCATION:Court # 3
CONTACT:
SUMMARY:FC United VS. Volley Vatos
DESCRIPTION:League Name: Volleyball Coed League Tuesday\nGame Type: Regular
 \nGame Status: Complete\nHome Team: FC United\nAway Team: Volley Vatos\nHo
 me Score: 1\nAway Score: 2
END:VEVENT
BEGIN:VEVENT
UID:16999973@ezleagues.ezfacility.com
DTSTAMP:20260424T043929Z
CREATED:20260424T043929Z
DTSTART:20260408T020000Z
DTEND:20260408T030000Z
LOCATION:Court # 3
CONTACT:
SUMMARY:Volley Vatos VS. 12 Corazones
DESCRIPTION:League Name: Volleyball Coed League Tuesday\nGame Type: Regular
 \nGame Status: Complete\nHome Team: Volley Vatos\nAway Team: 12 Corazones\
 nHome Score: 2\nAway Score: 0
END:VEVENT
BEGIN:VEVENT
UID:16999984@ezleagues.ezfacility.com
DTSTAMP:20260424T043929Z
CREATED:20260424T043929Z
DTSTART:20260415T010000Z
DTEND:20260415T020000Z
LOCATION:Court # 4
CONTACT:
SUMMARY:Volley Vatos VS. Con Sal y Limon
DESCRIPTION:League Name: Volleyball Coed League Tuesday\nGame Type: Regular
 \nGame Status: Pending\nHome Team: Volley Vatos\nAway Team: Con Sal y Limo
 n\n
END:VEVENT
BEGIN:VEVENT
UID:16999989@ezleagues.ezfacility.com
DTSTAMP:20260424T043929Z
CREATED:20260424T043929Z
DTSTART:20260422T010000Z
DTEND:20260422T020000Z
LOCATION:Court # 3
CONTACT:
SUMMARY:Volley Vatos VS. Swamp Izzo
DESCRIPTION:League Name: Volleyball Coed League Tuesday\nGame Type: Regular
 \nGame Status: Complete\nHome Team: Volley Vatos\nAway Team: Swamp Izzo\nH
 ome Score: 0\nAway Score: 2
END:VEVENT
BEGIN:VEVENT
UID:16999999@ezleagues.ezfacility.com
DTSTAMP:20260424T043929Z
CREATED:20260424T043929Z
DTSTART:20260429T010000Z
DTEND:20260429T020000Z
LOCATION:Court # 2
CONTACT:
SUMMARY:Unprotected sets VS. Volley Vatos
DESCRIPTION:League Name: Volleyball Coed League Tuesday\nGame Type: Regular
 \nGame Status: Pending\nHome Team: Unprotected sets\nAway Team: Volley Vat
 os\n
END:VEVENT
END:VCALENDAR
