BEGIN:VCALENDAR
VERSION:2.0
PRODID:-//EZFacility.com, Inc.//EZL 2.5.5.28621
BEGIN:VEVENT
UID:16999916@ezleagues.ezfacility.com
DTSTAMP:20260424T043915Z
CREATED:20260424T043915Z
DTSTART:20260204T020000Z
DTEND:20260204T030000Z
LOCATION:Court # 5
CONTACT:
SUMMARY:FC United VS. Fellas In Paris
DESCRIPTION:League Name: Volleyball Coed League Tuesday\nGame Type: Regular
 \nGame Status: Complete\nHome Team: FC United\nAway Team: Fellas In Paris\
 nHome Score: 2\nAway Score: 0
END:VEVENT
BEGIN:VEVENT
UID:16999923@ezleagues.ezfacility.com
DTSTAMP:20260424T043915Z
CREATED:20260424T043915Z
DTSTART:20260211T030000Z
DTEND:20260211T040000Z
LOCATION:Court # 1
CONTACT:
SUMMARY:Los Frijoleros VS. FC United
DESCRIPTION:League Name: Volleyball Coed League Tuesday\nGame Type: Regular
 \nGame Status: Complete\nHome Team: Los Frijoleros\nAway Team: FC United\n
 Home Score: 2\nAway Score: 0
END:VEVENT
BEGIN:VEVENT
UID:16999929@ezleagues.ezfacility.com
DTSTAMP:20260424T043915Z
CREATED:20260424T043915Z
DTSTART:20260218T030000Z
DTEND:20260218T040000Z
LOCATION:Court # 2
CONTACT:
SUMMARY:All Stars VS. FC United
DESCRIPTION:League Name: Volleyball Coed League Tuesday\nGame Type: Regular
 \nGame Status: Complete\nHome Team: All Stars\nAway Team: FC United\nHome 
 Score: 0\nAway Score: 2
END:VEVENT
BEGIN:VEVENT
UID:16999935@ezleagues.ezfacility.com
DTSTAMP:20260424T043915Z
CREATED:20260424T043915Z
DTSTART:20260225T020000Z
DTEND:20260225T030000Z
LOCATION:Court # 1
CONTACT:
SUMMARY:Guerrero FC VS. FC United
DESCRIPTION:League Name: Volleyball Coed League Tuesday\nGame Type: Regular
 \nGame Status: Complete\nHome Team: Guerrero FC\nAway Team: FC United\nHom
 e Score: 2\nAway Score: 0
END:VEVENT
BEGIN:VEVENT
UID:16999941@ezleagues.ezfacility.com
DTSTAMP:20260424T043915Z
CREATED:20260424T043915Z
DTSTART:20260304T030000Z
DTEND:20260304T040000Z
LOCATION:Court # 3
CONTACT:
SUMMARY:Yes Boy VS. FC United
DESCRIPTION:League Name: Volleyball Coed League Tuesday\nGame Type: Regular
 \nGame Status: Complete\nHome Team: Yes Boy\nAway Team: FC United\nHome Sc
 ore: 2\nAway Score: 0
END:VEVENT
BEGIN:VEVENT
UID:16999946@ezleagues.ezfacility.com
DTSTAMP:20260424T043915Z
CREATED:20260424T043915Z
DTSTART:20260311T020000Z
DTEND:20260311T030000Z
LOCATION:Court # 4
CONTACT:
SUMMARY:Las Picositas VS. FC United
DESCRIPTION:League Name: Volleyball Coed League Tuesday\nGame Type: Regular
 \nGame Status: Complete\nHome Team: Las Picositas\nAway Team: FC United\nH
 ome Score: 1\nAway Score: 2
END:VEVENT
BEGIN:VEVENT
UID:16999953@ezleagues.ezfacility.com
DTSTAMP:20260424T043915Z
CREATED:20260424T043915Z
DTSTART:20260318T010000Z
DTEND:20260318T020000Z
LOCATION:Court # 4
CONTACT:
SUMMARY:Odie VS. FC United
DESCRIPTION:League Name: Volleyball Coed League Tuesday\nGame Type: Regular
 \nGame Status: Complete\nHome Team: Odie\nAway Team: FC United\nHome Score
 : 2\nAway Score: 1
END:VEVENT
BEGIN:VEVENT
UID:16999959@ezleagues.ezfacility.com
DTSTAMP:20260424T043915Z
CREATED:20260424T043915Z
DTSTART:20260325T010000Z
DTEND:20260325T020000Z
LOCATION:Court # 2
CONTACT:
SUMMARY:FC United VS. 12 Corazones
DESCRIPTION:League Name: Volleyball Coed League Tuesday\nGame Type: Regular
 \nGame Status: Complete\nHome Team: FC United\nAway Team: 12 Corazones\nHo
 me Score: 2\nAway Score: 0
END:VEVENT
BEGIN:VEVENT
UID:17074233@ezleagues.ezfacility.com
DTSTAMP:20260424T043915Z
CREATED:20260424T043915Z
DTSTART:20260401T020000Z
DTEND:20260401T030000Z
LOCATION:Court # 3
CONTACT:
SUMMARY:FC United VS. Volley Vatos
DESCRIPTION:League Name: Volleyball Coed League Tuesday\nGame Type: Regular
 \nGame Status: Complete\nHome Team: FC United\nAway Team: Volley Vatos\nHo
 me Score: 1\nAway Score: 2
END:VEVENT
BEGIN:VEVENT
UID:16999975@ezleagues.ezfacility.com
DTSTAMP:20260424T043915Z
CREATED:20260424T043915Z
DTSTART:20260408T020000Z
DTEND:20260408T030000Z
LOCATION:Court # 1
CONTACT:
SUMMARY:FC United VS. Contla FC
DESCRIPTION:League Name: Volleyball Coed League Tuesday\nGame Type: Regular
 \nGame Status: Complete\nHome Team: FC United\nAway Team: Contla FC\nHome 
 Score: 0\nAway Score: 2
END:VEVENT
BEGIN:VEVENT
UID:17095815@ezleagues.ezfacility.com
DTSTAMP:20260424T043915Z
CREATED:20260424T043915Z
DTSTART:20260415T020000Z
DTEND:20260415T030000Z
LOCATION:Court # 3
CONTACT:
SUMMARY:Swamp Izzo VS. FC United
DESCRIPTION:League Name: Volleyball Coed League Tuesday\nGame Type: Regular
 \nGame Status: Pending\nHome Team: Swamp Izzo\nAway Team: FC United\n
END:VEVENT
BEGIN:VEVENT
UID:16999991@ezleagues.ezfacility.com
DTSTAMP:20260424T043915Z
CREATED:20260424T043915Z
DTSTART:20260422T010000Z
DTEND:20260422T020000Z
LOCATION:Court # 4
CONTACT:
SUMMARY:FC United VS. Norma
DESCRIPTION:League Name: Volleyball Coed League Tuesday\nGame Type: Regular
 \nGame Status: Complete\nHome Team: FC United\nAway Team: Norma\nHome Scor
 e: 2\nAway Score: 0
END:VEVENT
BEGIN:VEVENT
UID:17105626@ezleagues.ezfacility.com
DTSTAMP:20260424T043915Z
CREATED:20260424T043915Z
DTSTART:20260429T020000Z
DTEND:20260429T030000Z
LOCATION:Court # 4
CONTACT:
SUMMARY:Guerrero FC VS. FC United
DESCRIPTION:League Name: Volleyball Coed League Tuesday\nGame Type: Regular
 \nGame Status: Pending\nHome Team: Guerrero FC\nAway Team: FC United\n
END:VEVENT
END:VCALENDAR
