BEGIN:VCALENDAR
VERSION:2.0
PRODID:-//EZFacility.com, Inc.//EZL 2.5.5.28621
BEGIN:VEVENT
UID:16993650@ezleagues.ezfacility.com
DTSTAMP:20260424T170540Z
CREATED:20260424T170540Z
DTSTART:20260222T000000Z
DTEND:20260222T010000Z
LOCATION:Field 2
CONTACT:
SUMMARY:Maroons Torres  Winter 1  VS. 1. Monclair United
DESCRIPTION:League Name: Superdome Sports 2026 Girls U14 Youth League\nGame
  Type: Regular\nGame Status: Complete\nHome Team: Maroons Torres  Winter 1
  \nAway Team: 1. Monclair United\nHome Score: 0\nAway Score: 3
END:VEVENT
BEGIN:VEVENT
UID:16993646@ezleagues.ezfacility.com
DTSTAMP:20260424T170540Z
CREATED:20260424T170540Z
DTSTART:20260301T010000Z
DTEND:20260301T020000Z
LOCATION:Field 3
CONTACT:
SUMMARY:2. Mahwah Raiders VS. 1. Monclair United
DESCRIPTION:League Name: Superdome Sports 2026 Girls U14 Youth League\nGame
  Type: Regular\nGame Status: Complete\nHome Team: 2. Mahwah Raiders\nAway 
 Team: 1. Monclair United\nHome Score: 2\nAway Score: 4
END:VEVENT
BEGIN:VEVENT
UID:16993648@ezleagues.ezfacility.com
DTSTAMP:20260424T170540Z
CREATED:20260424T170540Z
DTSTART:20260307T230000Z
DTEND:20260308T000000Z
LOCATION:Field 3
CONTACT:
SUMMARY:Paramus Spartans  VS. 1. Monclair United
DESCRIPTION:League Name: Superdome Sports 2026 Girls U14 Youth League\nGame
  Type: Regular\nGame Status: Complete\nHome Team: Paramus Spartans \nAway 
 Team: 1. Monclair United\nHome Score: 2\nAway Score: 7
END:VEVENT
BEGIN:VEVENT
UID:16993644@ezleagues.ezfacility.com
DTSTAMP:20260424T170540Z
CREATED:20260424T170540Z
DTSTART:20260322T200000Z
DTEND:20260322T210000Z
LOCATION:Field 1
CONTACT:
SUMMARY:1. Monclair United VS. Paramus Spartans 
DESCRIPTION:League Name: Superdome Sports 2026 Girls U14 Youth League\nGame
  Type: Regular\nGame Status: Pending\nHome Team: 1. Monclair United\nAway 
 Team: Paramus Spartans \n
END:VEVENT
END:VCALENDAR
