BEGIN:VCALENDAR
VERSION:2.0
PRODID:-//EZFacility.com, Inc.//EZL 2.5.5.28621
BEGIN:VEVENT
UID:16996577@ezleagues.ezfacility.com
DTSTAMP:20260426T033435Z
CREATED:20260426T033435Z
DTSTART:20260227T233000Z
DTEND:20260228T003000Z
LOCATION:Weiler Plastic Surgery Field
CONTACT:
SUMMARY:Wahoos - Dugas VS. Young Guy Geaux - Webb
DESCRIPTION:League Name: 2026 Traction Spring Baseball League - 4/5u T-Ball
  Division\nGame Type: Regular\nGame Status: Complete\nHome Team: Wahoos - 
 Dugas\nAway Team: Young Guy Geaux - Webb\nHome Score: 10\nAway Score: 5
END:VEVENT
BEGIN:VEVENT
UID:16996587@ezleagues.ezfacility.com
DTSTAMP:20260426T033435Z
CREATED:20260426T033435Z
DTSTART:20260307T014000Z
DTEND:20260307T024000Z
LOCATION:Miracle League Field
CONTACT:
SUMMARY:Tigers - Avera VS. Wahoos - Dugas
DESCRIPTION:League Name: 2026 Traction Spring Baseball League - 4/5u T-Ball
  Division\nGame Type: Regular\nGame Status: Complete\nHome Team: Tigers - 
 Avera\nAway Team: Wahoos - Dugas\nHome Score: 12\nAway Score: 21
END:VEVENT
BEGIN:VEVENT
UID:16996596@ezleagues.ezfacility.com
DTSTAMP:20260426T033435Z
CREATED:20260426T033435Z
DTSTART:20260313T223000Z
DTEND:20260313T233000Z
LOCATION:UCB Field
CONTACT:
SUMMARY:The Bear Dragons - Shrader VS. Wahoos - Dugas
DESCRIPTION:League Name: 2026 Traction Spring Baseball League - 4/5u T-Ball
  Division\nGame Type: Regular\nGame Status: Complete\nHome Team: The Bear 
 Dragons - Shrader\nAway Team: Wahoos - Dugas\nHome Score: 9\nAway Score: 1
 3
END:VEVENT
BEGIN:VEVENT
UID:16996611@ezleagues.ezfacility.com
DTSTAMP:20260426T033435Z
CREATED:20260426T033435Z
DTSTART:20260327T234000Z
DTEND:20260328T004000Z
LOCATION:Hooters Field
CONTACT:
SUMMARY:Wahoos - Dugas VS. Sluggers - Spradley/Lamy
DESCRIPTION:League Name: 2026 Traction Spring Baseball League - 4/5u T-Ball
  Division\nGame Type: Regular\nGame Status: Complete\nHome Team: Wahoos - 
 Dugas\nAway Team: Sluggers - Spradley/Lamy\nHome Score: 14\nAway Score: 13
END:VEVENT
BEGIN:VEVENT
UID:16996635@ezleagues.ezfacility.com
DTSTAMP:20260426T033435Z
CREATED:20260426T033435Z
DTSTART:20260410T223000Z
DTEND:20260410T233000Z
LOCATION:Weiler Plastic Surgery Field
CONTACT:
SUMMARY:Wahoos - Dugas VS. Bruisers - Thames
DESCRIPTION:League Name: 2026 Traction Spring Baseball League - 4/5u T-Ball
  Division\nGame Type: Regular\nGame Status: Complete\nHome Team: Wahoos - 
 Dugas\nAway Team: Bruisers - Thames\nHome Score: 2\nAway Score: 19
END:VEVENT
BEGIN:VEVENT
UID:16996641@ezleagues.ezfacility.com
DTSTAMP:20260426T033435Z
CREATED:20260426T033435Z
DTSTART:20260417T234000Z
DTEND:20260418T004000Z
LOCATION:Sherman & Balhoff Field
CONTACT:
SUMMARY:Tee-Rexes - Thompson VS. Wahoos - Dugas
DESCRIPTION:League Name: 2026 Traction Spring Baseball League - 4/5u T-Ball
  Division\nGame Type: Regular\nGame Status: Complete\nHome Team: Tee-Rexes
  - Thompson\nAway Team: Wahoos - Dugas\nHome Score: 16\nAway Score: 19
END:VEVENT
BEGIN:VEVENT
UID:16996651@ezleagues.ezfacility.com
DTSTAMP:20260426T033435Z
CREATED:20260426T033435Z
DTSTART:20260424T223000Z
DTEND:20260424T233000Z
LOCATION:Chabill's Field
CONTACT:
SUMMARY:The Knuckleheads - Slaughter VS. Wahoos - Dugas
DESCRIPTION:League Name: 2026 Traction Spring Baseball League - 4/5u T-Ball
  Division\nGame Type: Regular\nGame Status: Complete\nHome Team: The Knuck
 leheads - Slaughter\nAway Team: Wahoos - Dugas\nHome Score: 11\nAway Score
 : 19
END:VEVENT
BEGIN:VEVENT
UID:16996605@ezleagues.ezfacility.com
DTSTAMP:20260426T033435Z
CREATED:20260426T033435Z
DTSTART:20260501T223000Z
DTEND:20260501T233000Z
LOCATION:Relief Windows Field
CONTACT:
SUMMARY:Lumberjacks - Martin VS. Wahoos - Dugas
DESCRIPTION:League Name: 2026 Traction Spring Baseball League - 4/5u T-Ball
  Division\nGame Type: Regular\nGame Status: Pending\nHome Team: Lumberjack
 s - Martin\nAway Team: Wahoos - Dugas\n
END:VEVENT
BEGIN:VEVENT
UID:16996623@ezleagues.ezfacility.com
DTSTAMP:20260426T033435Z
CREATED:20260426T033435Z
DTSTART:20260508T223000Z
DTEND:20260508T233000Z
LOCATION:Parish Construction Field
CONTACT:
SUMMARY:Wahoos - Dugas VS. Cougars - Duris
DESCRIPTION:League Name: 2026 Traction Spring Baseball League - 4/5u T-Ball
  Division\nGame Type: Regular\nGame Status: Pending\nHome Team: Wahoos - D
 ugas\nAway Team: Cougars - Duris\n
END:VEVENT
END:VCALENDAR
