BEGIN:VCALENDAR
VERSION:2.0
PRODID:-//EZFacility.com, Inc.//EZL 2.5.5.28621
BEGIN:VEVENT
UID:16996697@ezleagues.ezfacility.com
DTSTAMP:20260424T043253Z
CREATED:20260424T043253Z
DTSTART:20260203T223000Z
DTEND:20260203T231000Z
LOCATION:Pickleball Court A
CONTACT:
SUMMARY:Hoops to Dinks VS. Carolina Picklers
DESCRIPTION:League Name: 2026 Pickleball Doubles League - Season 1\nGame Ty
 pe: Regular\nGame Status: Complete\nHome Team: Hoops to Dinks\nAway Team: 
 Carolina Picklers\nHome Score: 2\nAway Score: 0
END:VEVENT
BEGIN:VEVENT
UID:16996702@ezleagues.ezfacility.com
DTSTAMP:20260424T043253Z
CREATED:20260424T043253Z
DTSTART:20260203T231000Z
DTEND:20260203T235000Z
LOCATION:Pickleball Court C
CONTACT:
SUMMARY:CMCK VS. Carolina Picklers
DESCRIPTION:League Name: 2026 Pickleball Doubles League - Season 1\nGame Ty
 pe: Regular\nGame Status: Complete\nHome Team: CMCK\nAway Team: Carolina P
 icklers\nHome Score: 0\nAway Score: 2
END:VEVENT
BEGIN:VEVENT
UID:16996744@ezleagues.ezfacility.com
DTSTAMP:20260424T043253Z
CREATED:20260424T043253Z
DTSTART:20260212T223000Z
DTEND:20260212T231000Z
LOCATION:Pickleball Court C
CONTACT:
SUMMARY:Carolina Picklers VS. Morning Crew
DESCRIPTION:League Name: 2026 Pickleball Doubles League - Season 1\nGame Ty
 pe: Regular\nGame Status: Complete\nHome Team: Carolina Picklers\nAway Tea
 m: Morning Crew\nHome Score: 1\nAway Score: 2
END:VEVENT
BEGIN:VEVENT
UID:16996745@ezleagues.ezfacility.com
DTSTAMP:20260424T043253Z
CREATED:20260424T043253Z
DTSTART:20260212T231000Z
DTEND:20260212T235000Z
LOCATION:Pickleball Court A
CONTACT:
SUMMARY:So You're Saying There's A Chance VS. Carolina Picklers
DESCRIPTION:League Name: 2026 Pickleball Doubles League - Season 1\nGame Ty
 pe: Regular\nGame Status: Complete\nHome Team: So You're Saying There's A 
 Chance\nAway Team: Carolina Picklers\nHome Score: 2\nAway Score: 0
END:VEVENT
BEGIN:VEVENT
UID:16996815@ezleagues.ezfacility.com
DTSTAMP:20260424T043253Z
CREATED:20260424T043253Z
DTSTART:20260305T223000Z
DTEND:20260305T231000Z
LOCATION:Pickleball Court A
CONTACT:
SUMMARY:Kind Of A Big Dill VS. Carolina Picklers
DESCRIPTION:League Name: 2026 Pickleball Doubles League - Season 1\nGame Ty
 pe: Regular\nGame Status: Complete\nHome Team: Kind Of A Big Dill\nAway Te
 am: Carolina Picklers\nHome Score: 2\nAway Score: 1
END:VEVENT
BEGIN:VEVENT
UID:16996818@ezleagues.ezfacility.com
DTSTAMP:20260424T043253Z
CREATED:20260424T043253Z
DTSTART:20260305T231000Z
DTEND:20260305T235000Z
LOCATION:Pickleball Court A
CONTACT:
SUMMARY:Picklebowlers VS. Carolina Picklers
DESCRIPTION:League Name: 2026 Pickleball Doubles League - Season 1\nGame Ty
 pe: Regular\nGame Status: Complete\nHome Team: Picklebowlers\nAway Team: C
 arolina Picklers\nHome Score: 0\nAway Score: 2
END:VEVENT
BEGIN:VEVENT
UID:16996834@ezleagues.ezfacility.com
DTSTAMP:20260424T043253Z
CREATED:20260424T043253Z
DTSTART:20260310T225000Z
DTEND:20260310T233000Z
LOCATION:Pickleball Court B
CONTACT:
SUMMARY:GWS Picklers VS. Carolina Picklers
DESCRIPTION:League Name: 2026 Pickleball Doubles League - Season 1\nGame Ty
 pe: Regular\nGame Status: Complete\nHome Team: GWS Picklers\nAway Team: Ca
 rolina Picklers\nHome Score: 1\nAway Score: 2
END:VEVENT
BEGIN:VEVENT
UID:16996837@ezleagues.ezfacility.com
DTSTAMP:20260424T043253Z
CREATED:20260424T043253Z
DTSTART:20260310T233000Z
DTEND:20260311T001000Z
LOCATION:Pickleball Court B
CONTACT:
SUMMARY:Carolina Picklers VS. Drop and Drive Squad
DESCRIPTION:League Name: 2026 Pickleball Doubles League - Season 1\nGame Ty
 pe: Regular\nGame Status: Complete\nHome Team: Carolina Picklers\nAway Tea
 m: Drop and Drive Squad\nHome Score: 0\nAway Score: 2
END:VEVENT
END:VCALENDAR
