BEGIN:VCALENDAR
VERSION:2.0
PRODID:-//EZFacility.com, Inc.//EZL 2.5.5.28621
BEGIN:VEVENT
UID:16996713@ezleagues.ezfacility.com
DTSTAMP:20260424T044134Z
CREATED:20260424T044134Z
DTSTART:20260205T223000Z
DTEND:20260205T231000Z
LOCATION:Pickleball Court A
CONTACT:
SUMMARY:Pickle Pack VS. Morning Crew
DESCRIPTION:League Name: 2026 Pickleball Doubles League - Season 1\nGame Ty
 pe: Regular\nGame Status: Complete\nHome Team: Pickle Pack\nAway Team: Mor
 ning Crew\nHome Score: 2\nAway Score: 1
END:VEVENT
BEGIN:VEVENT
UID:16996718@ezleagues.ezfacility.com
DTSTAMP:20260424T044134Z
CREATED:20260424T044134Z
DTSTART:20260205T231000Z
DTEND:20260205T235000Z
LOCATION:Pickleball Court A
CONTACT:
SUMMARY:The Briny Bunch VS. Pickle Pack
DESCRIPTION:League Name: 2026 Pickleball Doubles League - Season 1\nGame Ty
 pe: Regular\nGame Status: Complete\nHome Team: The Briny Bunch\nAway Team:
  Pickle Pack\nHome Score: 1\nAway Score: 2
END:VEVENT
BEGIN:VEVENT
UID:16996749@ezleagues.ezfacility.com
DTSTAMP:20260424T044134Z
CREATED:20260424T044134Z
DTSTART:20260212T235000Z
DTEND:20260213T003000Z
LOCATION:Pickleball Court B
CONTACT:
SUMMARY:Pickle Pack VS. Let's Play
DESCRIPTION:League Name: 2026 Pickleball Doubles League - Season 1\nGame Ty
 pe: Regular\nGame Status: Complete\nHome Team: Pickle Pack\nAway Team: Let
 's Play\nHome Score: 0\nAway Score: 2
END:VEVENT
BEGIN:VEVENT
UID:16996751@ezleagues.ezfacility.com
DTSTAMP:20260424T044134Z
CREATED:20260424T044134Z
DTSTART:20260213T003000Z
DTEND:20260213T011000Z
LOCATION:Pickleball Court A
CONTACT:
SUMMARY:Last Mice Standing VS. Pickle Pack
DESCRIPTION:League Name: 2026 Pickleball Doubles League - Season 1\nGame Ty
 pe: Regular\nGame Status: Complete\nHome Team: Last Mice Standing\nAway Te
 am: Pickle Pack\nHome Score: 2\nAway Score: 0
END:VEVENT
BEGIN:VEVENT
UID:16996767@ezleagues.ezfacility.com
DTSTAMP:20260424T044134Z
CREATED:20260424T044134Z
DTSTART:20260219T223000Z
DTEND:20260219T231000Z
LOCATION:Pickleball Court A
CONTACT:
SUMMARY:Pickle Pack VS. In a Pickle
DESCRIPTION:League Name: 2026 Pickleball Doubles League - Season 1\nGame Ty
 pe: Regular\nGame Status: Complete\nHome Team: Pickle Pack\nAway Team: In 
 a Pickle\nHome Score: 2\nAway Score: 1
END:VEVENT
BEGIN:VEVENT
UID:16996770@ezleagues.ezfacility.com
DTSTAMP:20260424T044134Z
CREATED:20260424T044134Z
DTSTART:20260219T231000Z
DTEND:20260219T235000Z
LOCATION:Pickleball Court A
CONTACT:
SUMMARY:Picklebowlers VS. Pickle Pack
DESCRIPTION:League Name: 2026 Pickleball Doubles League - Season 1\nGame Ty
 pe: Regular\nGame Status: Complete\nHome Team: Picklebowlers\nAway Team: P
 ickle Pack\nHome Score: 2\nAway Score: 0
END:VEVENT
BEGIN:VEVENT
UID:16996793@ezleagues.ezfacility.com
DTSTAMP:20260424T044134Z
CREATED:20260424T044134Z
DTSTART:20260226T223000Z
DTEND:20260226T231000Z
LOCATION:Pickleball Court C
CONTACT:
SUMMARY:Free Agents VS. Pickle Pack
DESCRIPTION:League Name: 2026 Pickleball Doubles League - Season 1\nGame Ty
 pe: Regular\nGame Status: Complete\nHome Team: Free Agents\nAway Team: Pic
 kle Pack\nHome Score: 0\nAway Score: 2
END:VEVENT
BEGIN:VEVENT
UID:16996794@ezleagues.ezfacility.com
DTSTAMP:20260424T044134Z
CREATED:20260424T044134Z
DTSTART:20260226T231000Z
DTEND:20260226T235000Z
LOCATION:Pickleball Court A
CONTACT:
SUMMARY:Pickle Pack VS. Groovy Velocity Squad
DESCRIPTION:League Name: 2026 Pickleball Doubles League - Season 1\nGame Ty
 pe: Regular\nGame Status: Complete\nHome Team: Pickle Pack\nAway Team: Gro
 ovy Velocity Squad\nHome Score: 2\nAway Score: 0
END:VEVENT
BEGIN:VEVENT
UID:16996817@ezleagues.ezfacility.com
DTSTAMP:20260424T044134Z
CREATED:20260424T044134Z
DTSTART:20260305T223000Z
DTEND:20260305T231000Z
LOCATION:Pickleball Court C
CONTACT:
SUMMARY:Pickle Pack VS. CMCK
DESCRIPTION:League Name: 2026 Pickleball Doubles League - Season 1\nGame Ty
 pe: Regular\nGame Status: Complete\nHome Team: Pickle Pack\nAway Team: CMC
 K\nHome Score: 2\nAway Score: 1
END:VEVENT
BEGIN:VEVENT
UID:16996819@ezleagues.ezfacility.com
DTSTAMP:20260424T044134Z
CREATED:20260424T044134Z
DTSTART:20260305T231000Z
DTEND:20260305T235000Z
LOCATION:Pickleball Court B
CONTACT:
SUMMARY:Pickle Pack VS. Kind Of A Big Dill
DESCRIPTION:League Name: 2026 Pickleball Doubles League - Season 1\nGame Ty
 pe: Regular\nGame Status: Complete\nHome Team: Pickle Pack\nAway Team: Kin
 d Of A Big Dill\nHome Score: 0\nAway Score: 2
END:VEVENT
BEGIN:VEVENT
UID:16996828@ezleagues.ezfacility.com
DTSTAMP:20260424T044134Z
CREATED:20260424T044134Z
DTSTART:20260310T213000Z
DTEND:20260310T221000Z
LOCATION:Pickleball Court B
CONTACT:
SUMMARY:Pickle Pack VS. Two Docs and a Dork
DESCRIPTION:League Name: 2026 Pickleball Doubles League - Season 1\nGame Ty
 pe: Regular\nGame Status: Complete\nHome Team: Pickle Pack\nAway Team: Two
  Docs and a Dork\nHome Score: 0\nAway Score: 2
END:VEVENT
BEGIN:VEVENT
UID:16996830@ezleagues.ezfacility.com
DTSTAMP:20260424T044134Z
CREATED:20260424T044134Z
DTSTART:20260310T221000Z
DTEND:20260310T225000Z
LOCATION:Pickleball Court A
CONTACT:
SUMMARY:First and Third VS. Pickle Pack
DESCRIPTION:League Name: 2026 Pickleball Doubles League - Season 1\nGame Ty
 pe: Regular\nGame Status: Complete\nHome Team: First and Third\nAway Team:
  Pickle Pack\nHome Score: 2\nAway Score: 0
END:VEVENT
END:VCALENDAR
