BEGIN:VCALENDAR
VERSION:2.0
PRODID:-//EZFacility.com, Inc.//EZL 2.5.5.28621
BEGIN:VEVENT
UID:16996699@ezleagues.ezfacility.com
DTSTAMP:20260424T043243Z
CREATED:20260424T043243Z
DTSTART:20260203T223000Z
DTEND:20260203T231000Z
LOCATION:Pickleball Court C
CONTACT:
SUMMARY:Picklebowlers VS. IT Joes
DESCRIPTION:League Name: 2026 Pickleball Doubles League - Season 1\nGame Ty
 pe: Regular\nGame Status: Complete\nHome Team: Picklebowlers\nAway Team: I
 T Joes\nHome Score: 0\nAway Score: 2
END:VEVENT
BEGIN:VEVENT
UID:16996701@ezleagues.ezfacility.com
DTSTAMP:20260424T043243Z
CREATED:20260424T043243Z
DTSTART:20260203T231000Z
DTEND:20260203T235000Z
LOCATION:Pickleball Court B
CONTACT:
SUMMARY:Picklebowlers VS. Accounting Aces
DESCRIPTION:League Name: 2026 Pickleball Doubles League - Season 1\nGame Ty
 pe: Regular\nGame Status: Complete\nHome Team: Picklebowlers\nAway Team: A
 ccounting Aces\nHome Score: 0\nAway Score: 2
END:VEVENT
BEGIN:VEVENT
UID:16996742@ezleagues.ezfacility.com
DTSTAMP:20260424T043243Z
CREATED:20260424T043243Z
DTSTART:20260212T223000Z
DTEND:20260212T231000Z
LOCATION:Pickleball Court A
CONTACT:
SUMMARY:GWS Picklers VS. Picklebowlers
DESCRIPTION:League Name: 2026 Pickleball Doubles League - Season 1\nGame Ty
 pe: Regular\nGame Status: Complete\nHome Team: GWS Picklers\nAway Team: Pi
 cklebowlers\nHome Score: 2\nAway Score: 0
END:VEVENT
BEGIN:VEVENT
UID:16996746@ezleagues.ezfacility.com
DTSTAMP:20260424T043243Z
CREATED:20260424T043243Z
DTSTART:20260212T231000Z
DTEND:20260212T235000Z
LOCATION:Pickleball Court B
CONTACT:
SUMMARY:Picklebowlers VS. Morning Crew
DESCRIPTION:League Name: 2026 Pickleball Doubles League - Season 1\nGame Ty
 pe: Regular\nGame Status: Complete\nHome Team: Picklebowlers\nAway Team: M
 orning Crew\nHome Score: 2\nAway Score: 1
END:VEVENT
BEGIN:VEVENT
UID:16996768@ezleagues.ezfacility.com
DTSTAMP:20260424T043243Z
CREATED:20260424T043243Z
DTSTART:20260219T223000Z
DTEND:20260219T231000Z
LOCATION:Pickleball Court B
CONTACT:
SUMMARY:Kind Of A Big Dill VS. Picklebowlers
DESCRIPTION:League Name: 2026 Pickleball Doubles League - Season 1\nGame Ty
 pe: Regular\nGame Status: Complete\nHome Team: Kind Of A Big Dill\nAway Te
 am: Picklebowlers\nHome Score: 2\nAway Score: 0
END:VEVENT
BEGIN:VEVENT
UID:16996770@ezleagues.ezfacility.com
DTSTAMP:20260424T043243Z
CREATED:20260424T043243Z
DTSTART:20260219T231000Z
DTEND:20260219T235000Z
LOCATION:Pickleball Court A
CONTACT:
SUMMARY:Picklebowlers VS. Pickle Pack
DESCRIPTION:League Name: 2026 Pickleball Doubles League - Season 1\nGame Ty
 pe: Regular\nGame Status: Complete\nHome Team: Picklebowlers\nAway Team: P
 ickle Pack\nHome Score: 2\nAway Score: 0
END:VEVENT
BEGIN:VEVENT
UID:16996781@ezleagues.ezfacility.com
DTSTAMP:20260424T043243Z
CREATED:20260424T043243Z
DTSTART:20260224T223000Z
DTEND:20260224T231000Z
LOCATION:Pickleball Court C
CONTACT:
SUMMARY:CMCK VS. Picklebowlers
DESCRIPTION:League Name: 2026 Pickleball Doubles League - Season 1\nGame Ty
 pe: Regular\nGame Status: Complete\nHome Team: CMCK\nAway Team: Picklebowl
 ers\nHome Score: 0\nAway Score: 2
END:VEVENT
BEGIN:VEVENT
UID:16996782@ezleagues.ezfacility.com
DTSTAMP:20260424T043243Z
CREATED:20260424T043243Z
DTSTART:20260224T231000Z
DTEND:20260224T235000Z
LOCATION:Pickleball Court A
CONTACT:
SUMMARY:Picklebowlers VS. In a Pickle
DESCRIPTION:League Name: 2026 Pickleball Doubles League - Season 1\nGame Ty
 pe: Regular\nGame Status: Complete\nHome Team: Picklebowlers\nAway Team: I
 n a Pickle\nHome Score: 2\nAway Score: 0
END:VEVENT
BEGIN:VEVENT
UID:16996816@ezleagues.ezfacility.com
DTSTAMP:20260424T043243Z
CREATED:20260424T043243Z
DTSTART:20260305T223000Z
DTEND:20260305T231000Z
LOCATION:Pickleball Court B
CONTACT:
SUMMARY:Pickleball Pals VS. Picklebowlers
DESCRIPTION:League Name: 2026 Pickleball Doubles League - Season 1\nGame Ty
 pe: Regular\nGame Status: Complete\nHome Team: Pickleball Pals\nAway Team:
  Picklebowlers\nHome Score: 2\nAway Score: 0
END:VEVENT
BEGIN:VEVENT
UID:16996818@ezleagues.ezfacility.com
DTSTAMP:20260424T043243Z
CREATED:20260424T043243Z
DTSTART:20260305T231000Z
DTEND:20260305T235000Z
LOCATION:Pickleball Court A
CONTACT:
SUMMARY:Picklebowlers VS. Carolina Picklers
DESCRIPTION:League Name: 2026 Pickleball Doubles League - Season 1\nGame Ty
 pe: Regular\nGame Status: Complete\nHome Team: Picklebowlers\nAway Team: C
 arolina Picklers\nHome Score: 0\nAway Score: 2
END:VEVENT
BEGIN:VEVENT
UID:16996846@ezleagues.ezfacility.com
DTSTAMP:20260424T043243Z
CREATED:20260424T043243Z
DTSTART:20260312T225000Z
DTEND:20260312T233000Z
LOCATION:Pickleball Court C
CONTACT:
SUMMARY:Picklebowlers VS. The Rats
DESCRIPTION:League Name: 2026 Pickleball Doubles League - Season 1\nGame Ty
 pe: Regular\nGame Status: Pending\nHome Team: Picklebowlers\nAway Team: Th
 e Rats\n
END:VEVENT
BEGIN:VEVENT
UID:17052600@ezleagues.ezfacility.com
DTSTAMP:20260424T043243Z
CREATED:20260424T043243Z
DTSTART:20260312T233000Z
DTEND:20260313T001000Z
LOCATION:Pickleball Court B
CONTACT:
SUMMARY:Let's Play VS. Picklebowlers
DESCRIPTION:League Name: 2026 Pickleball Doubles League - Season 1\nGame Ty
 pe: Regular\nGame Status: Pending\nHome Team: Let's Play\nAway Team: Pickl
 ebowlers\n
END:VEVENT
END:VCALENDAR
