BEGIN:VCALENDAR
VERSION:2.0
PRODID:-//EZFacility.com, Inc.//EZL 2.5.5.28621
BEGIN:VEVENT
UID:16998696@ezleagues.ezfacility.com
DTSTAMP:20260424T044346Z
CREATED:20260424T044346Z
DTSTART:20260208T161500Z
DTEND:20260208T170000Z
LOCATION:Court 2
CONTACT:
SUMMARY:MMA Futsal- 15/16uB Black VS. EBU 15U Classic 2
DESCRIPTION:League Name: WINTER LEAGUES 25-26 II-HIGH SCHOOL GROUP-HS BOYS 
 JV - U15B Blue\nGame Type: Regular\nGame Status: Complete\nHome Team: MMA 
 Futsal- 15/16uB Black\nAway Team: EBU 15U Classic 2\nHome Score: 8\nAway S
 core: 3
END:VEVENT
BEGIN:VEVENT
UID:16998712@ezleagues.ezfacility.com
DTSTAMP:20260424T044346Z
CREATED:20260424T044346Z
DTSTART:20260215T160000Z
DTEND:20260215T164500Z
LOCATION:Court 4
CONTACT:
SUMMARY:CC 2012B State VS. MMA Futsal- 15/16uB Black
DESCRIPTION:League Name: WINTER LEAGUES 25-26 II-HIGH SCHOOL GROUP-HS BOYS 
 JV - U15B Blue\nGame Type: Regular\nGame Status: Complete\nHome Team: CC 2
 012B State\nAway Team: MMA Futsal- 15/16uB Black\nHome Score: 4\nAway Scor
 e: 4
END:VEVENT
BEGIN:VEVENT
UID:16998730@ezleagues.ezfacility.com
DTSTAMP:20260424T044346Z
CREATED:20260424T044346Z
DTSTART:20260215T181500Z
DTEND:20260215T190000Z
LOCATION:Court 4
CONTACT:
SUMMARY:MMA Futsal- 15/16uB Black VS. MKSC Union
DESCRIPTION:League Name: WINTER LEAGUES 25-26 II-HIGH SCHOOL GROUP-HS BOYS 
 JV - U15B Blue\nGame Type: Regular\nGame Status: Complete\nHome Team: MMA 
 Futsal- 15/16uB Black\nAway Team: MKSC Union\nHome Score: 2\nAway Score: 1
 0
END:VEVENT
BEGIN:VEVENT
UID:16998748@ezleagues.ezfacility.com
DTSTAMP:20260424T044346Z
CREATED:20260424T044346Z
DTSTART:20260301T170000Z
DTEND:20260301T174500Z
LOCATION:Court 2
CONTACT:
SUMMARY:MMA Futsal- 15/16uB Black VS. Goal Diggerd
DESCRIPTION:League Name: WINTER LEAGUES 25-26 II-HIGH SCHOOL GROUP-HS BOYS 
 JV - U15B Blue\nGame Type: Regular\nGame Status: Complete\nHome Team: MMA 
 Futsal- 15/16uB Black\nAway Team: Goal Diggerd\nHome Score: 1\nAway Score:
  5
END:VEVENT
BEGIN:VEVENT
UID:16998765@ezleagues.ezfacility.com
DTSTAMP:20260424T044346Z
CREATED:20260424T044346Z
DTSTART:20260308T140000Z
DTEND:20260308T144500Z
LOCATION:Court 1
CONTACT:
SUMMARY:White Lightning VS. MMA Futsal- 15/16uB Black
DESCRIPTION:League Name: WINTER LEAGUES 25-26 II-HIGH SCHOOL GROUP-HS BOYS 
 JV - U15B Blue\nGame Type: Regular\nGame Status: Complete\nHome Team: Whit
 e Lightning\nAway Team: MMA Futsal- 15/16uB Black\nHome Score: 17\nAway Sc
 ore: 2
END:VEVENT
BEGIN:VEVENT
UID:16998781@ezleagues.ezfacility.com
DTSTAMP:20260424T044346Z
CREATED:20260424T044346Z
DTSTART:20260315T175500Z
DTEND:20260315T184000Z
LOCATION:Court 4
CONTACT:
SUMMARY:EBU 15U Classic 2 VS. MMA Futsal- 15/16uB Black
DESCRIPTION:League Name: WINTER LEAGUES 25-26 II-HIGH SCHOOL GROUP-HS BOYS 
 JV - U15B Blue\nGame Type: Regular\nGame Status: Complete\nHome Team: EBU 
 15U Classic 2\nAway Team: MMA Futsal- 15/16uB Black\nHome Score: 0\nAway S
 core: 9
END:VEVENT
BEGIN:VEVENT
UID:17048620@ezleagues.ezfacility.com
DTSTAMP:20260424T044346Z
CREATED:20260424T044346Z
DTSTART:20260322T171500Z
DTEND:20260322T180000Z
LOCATION:Court 2
CONTACT:
SUMMARY:MMA Futsal- 15/16uB Black VS. EBU 15U Classic 2
DESCRIPTION:League Name: WINTER LEAGUES 25-26 II-HIGH SCHOOL GROUP-HS BOYS 
 JV - U15B Blue\nGame Type: Regular\nGame Status: Pending\nHome Team: MMA F
 utsal- 15/16uB Black\nAway Team: EBU 15U Classic 2\n
END:VEVENT
END:VCALENDAR
