BEGIN:VCALENDAR
VERSION:2.0
PRODID:-//EZFacility.com, Inc.//EZL 2.5.5.28621
BEGIN:VEVENT
UID:16998574@ezleagues.ezfacility.com
DTSTAMP:20260426T033644Z
CREATED:20260426T033644Z
DTSTART:20260207T234500Z
DTEND:20260208T003000Z
LOCATION:Court 3
CONTACT:
SUMMARY:EBU U12 Classic 2 VS. MM
DESCRIPTION:League Name: WINTER LEAGUES 25-26 II-U12-U12 BOYS BLUE\nGame Ty
 pe: Regular\nGame Status: Complete\nHome Team: EBU U12 Classic 2\nAway Tea
 m: MM\nHome Score: 1\nAway Score: 4
END:VEVENT
BEGIN:VEVENT
UID:16998597@ezleagues.ezfacility.com
DTSTAMP:20260426T033644Z
CREATED:20260426T033644Z
DTSTART:20260214T234500Z
DTEND:20260215T003000Z
LOCATION:Court 3
CONTACT:
SUMMARY:EBU U12 Classic 2 VS. EBU P2
DESCRIPTION:League Name: WINTER LEAGUES 25-26 II-U12-U12 BOYS BLUE\nGame Ty
 pe: Regular\nGame Status: Complete\nHome Team: EBU U12 Classic 2\nAway Tea
 m: EBU P2\nHome Score: 3\nAway Score: 0
END:VEVENT
BEGIN:VEVENT
UID:16998620@ezleagues.ezfacility.com
DTSTAMP:20260426T033644Z
CREATED:20260426T033644Z
DTSTART:20260222T001500Z
DTEND:20260222T010000Z
LOCATION:Court 1
CONTACT:
SUMMARY:Tigritos U12 VS. EBU U12 Classic 2
DESCRIPTION:League Name: WINTER LEAGUES 25-26 II-U12-U12 BOYS BLUE\nGame Ty
 pe: Regular\nGame Status: Complete\nHome Team: Tigritos U12\nAway Team: EB
 U U12 Classic 2\nHome Score: 7\nAway Score: 0
END:VEVENT
BEGIN:VEVENT
UID:16998643@ezleagues.ezfacility.com
DTSTAMP:20260426T033644Z
CREATED:20260426T033644Z
DTSTART:20260228T200000Z
DTEND:20260228T204500Z
LOCATION:Court 2
CONTACT:
SUMMARY:EBU U12 Classic 2 VS. MM Athletic Berto
DESCRIPTION:League Name: WINTER LEAGUES 25-26 II-U12-U12 BOYS BLUE\nGame Ty
 pe: Regular\nGame Status: Complete\nHome Team: EBU U12 Classic 2\nAway Tea
 m: MM Athletic Berto\nHome Score: 2\nAway Score: 15
END:VEVENT
BEGIN:VEVENT
UID:16998665@ezleagues.ezfacility.com
DTSTAMP:20260426T033644Z
CREATED:20260426T033644Z
DTSTART:20260308T000000Z
DTEND:20260308T004500Z
LOCATION:Court 4
CONTACT:
SUMMARY:HUSC U12 VS. EBU U12 Classic 2
DESCRIPTION:League Name: WINTER LEAGUES 25-26 II-U12-U12 BOYS BLUE\nGame Ty
 pe: Regular\nGame Status: Complete\nHome Team: HUSC U12\nAway Team: EBU U1
 2 Classic 2\nHome Score: 1\nAway Score: 7
END:VEVENT
BEGIN:VEVENT
UID:16998686@ezleagues.ezfacility.com
DTSTAMP:20260426T033644Z
CREATED:20260426T033644Z
DTSTART:20260314T224500Z
DTEND:20260314T233000Z
LOCATION:Court 1
CONTACT:
SUMMARY:SC Wave 2014B Select VS. EBU U12 Classic 2
DESCRIPTION:League Name: WINTER LEAGUES 25-26 II-U12-U12 BOYS BLUE\nGame Ty
 pe: Regular\nGame Status: Complete\nHome Team: SC Wave 2014B Select\nAway 
 Team: EBU U12 Classic 2\nHome Score: 4\nAway Score: 4
END:VEVENT
BEGIN:VEVENT
UID:17048583@ezleagues.ezfacility.com
DTSTAMP:20260426T033644Z
CREATED:20260426T033644Z
DTSTART:20260321T220000Z
DTEND:20260321T224500Z
LOCATION:Court 1
CONTACT:
SUMMARY:SC Wave 2014B Select VS. EBU U12 Classic 2
DESCRIPTION:League Name: WINTER LEAGUES 25-26 II-U12-U12 BOYS BLUE\nGame Ty
 pe: Regular\nGame Status: Pending\nHome Team: SC Wave 2014B Select\nAway T
 eam: EBU U12 Classic 2\n
END:VEVENT
END:VCALENDAR
