BEGIN:VCALENDAR
VERSION:2.0
PRODID:-//EZFacility.com, Inc.//EZL 2.5.5.28621
BEGIN:VEVENT
UID:16998576@ezleagues.ezfacility.com
DTSTAMP:20260423T234212Z
CREATED:20260423T234212Z
DTSTART:20260207T231500Z
DTEND:20260208T000000Z
LOCATION:Court 4
CONTACT:
SUMMARY:SC Wave 2014B Elite VS. EBU P2
DESCRIPTION:League Name: WINTER LEAGUES 25-26 II-U12-U12 BOYS BLUE\nGame Ty
 pe: Regular\nGame Status: Complete\nHome Team: SC Wave 2014B Elite\nAway T
 eam: EBU P2\nHome Score: 3\nAway Score: 0
END:VEVENT
BEGIN:VEVENT
UID:16998599@ezleagues.ezfacility.com
DTSTAMP:20260423T234212Z
CREATED:20260423T234212Z
DTSTART:20260215T000000Z
DTEND:20260215T004500Z
LOCATION:Court 4
CONTACT:
SUMMARY:SC Wave 2014B Elite VS. Tigritos U12
DESCRIPTION:League Name: WINTER LEAGUES 25-26 II-U12-U12 BOYS BLUE\nGame Ty
 pe: Regular\nGame Status: Complete\nHome Team: SC Wave 2014B Elite\nAway T
 eam: Tigritos U12\nHome Score: 7\nAway Score: 0
END:VEVENT
BEGIN:VEVENT
UID:16998621@ezleagues.ezfacility.com
DTSTAMP:20260423T234212Z
CREATED:20260423T234212Z
DTSTART:20260222T000000Z
DTEND:20260222T004500Z
LOCATION:Court 4
CONTACT:
SUMMARY:MM Athletic Berto VS. SC Wave 2014B Elite
DESCRIPTION:League Name: WINTER LEAGUES 25-26 II-U12-U12 BOYS BLUE\nGame Ty
 pe: Regular\nGame Status: Complete\nHome Team: MM Athletic Berto\nAway Tea
 m: SC Wave 2014B Elite\nHome Score: 4\nAway Score: 2
END:VEVENT
BEGIN:VEVENT
UID:16998642@ezleagues.ezfacility.com
DTSTAMP:20260423T234212Z
CREATED:20260423T234212Z
DTSTART:20260222T011500Z
DTEND:20260222T020000Z
LOCATION:Court 3
CONTACT:
SUMMARY:SC Wave 2014B Elite VS. HUSC U12
DESCRIPTION:League Name: WINTER LEAGUES 25-26 II-U12-U12 BOYS BLUE\nGame Ty
 pe: Regular\nGame Status: Complete\nHome Team: SC Wave 2014B Elite\nAway T
 eam: HUSC U12\nHome Score: 15\nAway Score: 0
END:VEVENT
BEGIN:VEVENT
UID:16998663@ezleagues.ezfacility.com
DTSTAMP:20260423T234212Z
CREATED:20260423T234212Z
DTSTART:20260307T191500Z
DTEND:20260307T200000Z
LOCATION:Court 1
CONTACT:
SUMMARY:SC Wave 2014B Select VS. SC Wave 2014B Elite
DESCRIPTION:League Name: WINTER LEAGUES 25-26 II-U12-U12 BOYS BLUE\nGame Ty
 pe: Regular\nGame Status: Complete\nHome Team: SC Wave 2014B Select\nAway 
 Team: SC Wave 2014B Elite\nHome Score: 2\nAway Score: 9
END:VEVENT
BEGIN:VEVENT
UID:16998684@ezleagues.ezfacility.com
DTSTAMP:20260423T234212Z
CREATED:20260423T234212Z
DTSTART:20260314T203000Z
DTEND:20260314T211500Z
LOCATION:Court 1
CONTACT:
SUMMARY:TOSA KICKERS 2014 U12 VILLAGERS BLUE VS. SC Wave 2014B Elite
DESCRIPTION:League Name: WINTER LEAGUES 25-26 II-U12-U12 BOYS BLUE\nGame Ty
 pe: Regular\nGame Status: Complete\nHome Team: TOSA KICKERS 2014 U12 VILLA
 GERS BLUE\nAway Team: SC Wave 2014B Elite\nHome Score: 6\nAway Score: 3
END:VEVENT
BEGIN:VEVENT
UID:17048581@ezleagues.ezfacility.com
DTSTAMP:20260423T234212Z
CREATED:20260423T234212Z
DTSTART:20260321T203000Z
DTEND:20260321T211500Z
LOCATION:Court 1
CONTACT:
SUMMARY:Tigritos U12 VS. SC Wave 2014B Elite
DESCRIPTION:League Name: WINTER LEAGUES 25-26 II-U12-U12 BOYS BLUE\nGame Ty
 pe: Regular\nGame Status: Pending\nHome Team: Tigritos U12\nAway Team: SC 
 Wave 2014B Elite\n
END:VEVENT
END:VCALENDAR
