BEGIN:VCALENDAR
VERSION:2.0
PRODID:-//EZFacility.com, Inc.//EZL 2.5.5.28621
BEGIN:VEVENT
UID:16998934@ezleagues.ezfacility.com
DTSTAMP:20260426T033647Z
CREATED:20260426T033647Z
DTSTART:20260206T063000Z
DTEND:20260206T072000Z
LOCATION:INDOOR FIELD
CONTACT:Loza\, Cauthon
SUMMARY:LA Teco VS. Amante FC
DESCRIPTION:League Name: Adult Soccer Winter S2 2025-Mens Over 30\nGame Typ
 e: Regular\nGame Status: Complete\nHome Team: LA Teco\nAway Team: Amante F
 C\nHome Score: 2\nAway Score: 7
END:VEVENT
BEGIN:VEVENT
UID:16998971@ezleagues.ezfacility.com
DTSTAMP:20260426T033647Z
CREATED:20260426T033647Z
DTSTART:20260212T045000Z
DTEND:20260212T054000Z
LOCATION:INDOOR FIELD
CONTACT:Guiterrez\, Loza
SUMMARY:Bad Boys VS. LA Teco
DESCRIPTION:League Name: Adult Soccer Winter S2 2025-Mens Over 30\nGame Typ
 e: Regular\nGame Status: Complete\nHome Team: Bad Boys\nAway Team: LA Teco
 \nHome Score: 9\nAway Score: 2
END:VEVENT
BEGIN:VEVENT
UID:16998976@ezleagues.ezfacility.com
DTSTAMP:20260426T033647Z
CREATED:20260426T033647Z
DTSTART:20260220T045000Z
DTEND:20260220T054000Z
LOCATION:INDOOR FIELD
CONTACT:Cruz\, Wessels
SUMMARY:LA Teco VS. FC Gorilla
DESCRIPTION:League Name: Adult Soccer Winter S2 2025-Mens Over 30\nGame Typ
 e: Regular\nGame Status: Complete\nHome Team: LA Teco\nAway Team: FC Goril
 la\nHome Score: 7\nAway Score: 3
END:VEVENT
BEGIN:VEVENT
UID:16998984@ezleagues.ezfacility.com
DTSTAMP:20260426T033647Z
CREATED:20260426T033647Z
DTSTART:20260227T063000Z
DTEND:20260227T072000Z
LOCATION:INDOOR FIELD
CONTACT:Farr\, Veenstra
SUMMARY:LA Teco VS. La Lajita
DESCRIPTION:League Name: Adult Soccer Winter S2 2025-Mens Over 30\nGame Typ
 e: Regular\nGame Status: Complete\nHome Team: LA Teco\nAway Team: La Lajit
 a\nHome Score: 12\nAway Score: 5
END:VEVENT
BEGIN:VEVENT
UID:16998988@ezleagues.ezfacility.com
DTSTAMP:20260426T033647Z
CREATED:20260426T033647Z
DTSTART:20260306T045000Z
DTEND:20260306T054000Z
LOCATION:INDOOR FIELD
CONTACT:Cauthon\, Loza
SUMMARY:LA Teco VS. Fútbol Club Tigres
DESCRIPTION:League Name: Adult Soccer Winter S2 2025-Mens Over 30\nGame Typ
 e: Regular\nGame Status: Complete\nHome Team: LA Teco\nAway Team: Fútbol 
 Club Tigres\nHome Score: 2\nAway Score: 5
END:VEVENT
BEGIN:VEVENT
UID:16998992@ezleagues.ezfacility.com
DTSTAMP:20260426T033647Z
CREATED:20260426T033647Z
DTSTART:20260313T021000Z
DTEND:20260313T030000Z
LOCATION:INDOOR FIELD
CONTACT:Cauthon\, Loza
SUMMARY:B Jockeys VS. LA Teco
DESCRIPTION:League Name: Adult Soccer Winter S2 2025-Mens Over 30\nGame Typ
 e: Regular\nGame Status: Complete\nHome Team: B Jockeys\nAway Team: LA Tec
 o\nHome Score: 8\nAway Score: 3
END:VEVENT
BEGIN:VEVENT
UID:16999000@ezleagues.ezfacility.com
DTSTAMP:20260426T033647Z
CREATED:20260426T033647Z
DTSTART:20260320T035000Z
DTEND:20260320T044000Z
LOCATION:INDOOR FIELD
CONTACT:Cauthon\, Casillas
SUMMARY:The 'Dons VS. LA Teco
DESCRIPTION:League Name: Adult Soccer Winter S2 2025-Mens Over 30\nGame Typ
 e: Regular\nGame Status: Complete\nHome Team: The 'Dons\nAway Team: LA Tec
 o\nHome Score: 6\nAway Score: 5
END:VEVENT
BEGIN:VEVENT
UID:17076902@ezleagues.ezfacility.com
DTSTAMP:20260426T033647Z
CREATED:20260426T033647Z
DTSTART:20260403T022500Z
DTEND:20260403T025000Z
LOCATION:INDOOR FIELD
CONTACT:
SUMMARY:Fuego VS. LA Teco
DESCRIPTION:League Name: Adult Soccer Winter S2 2025-Mens Over 30\nGame Typ
 e: Regular\nGame Status: Pending\nHome Team: Fuego\nAway Team: LA Teco\n
END:VEVENT
END:VCALENDAR
