BEGIN:VCALENDAR
VERSION:2.0
PRODID:-//EZFacility.com, Inc.//EZL 2.5.5.28621
BEGIN:VEVENT
UID:16999817@ezleagues.ezfacility.com
DTSTAMP:20260421T150912Z
CREATED:20260421T150912Z
DTSTART:20260207T150000Z
DTEND:20260207T160000Z
LOCATION:Black Field
CONTACT:Vargas
SUMMARY:PSC Academy 1  VS. Wolfpack 
DESCRIPTION:League Name: Youth 3 - 25/26 U8 Co-ed\nGame Type: Regular\nGame
  Status: Complete\nHome Team: PSC Academy 1 \nAway Team: Wolfpack \nHome S
 core: 9\nAway Score: 2
END:VEVENT
BEGIN:VEVENT
UID:16999826@ezleagues.ezfacility.com
DTSTAMP:20260421T150912Z
CREATED:20260421T150912Z
DTSTART:20260214T140000Z
DTEND:20260214T150000Z
LOCATION:Black Field
CONTACT:Hughes
SUMMARY:PSC Academy 1  VS. Red Rhinos 
DESCRIPTION:League Name: Youth 3 - 25/26 U8 Co-ed\nGame Type: Regular\nGame
  Status: Complete\nHome Team: PSC Academy 1 \nAway Team: Red Rhinos \nHome
  Score: 2\nAway Score: 6
END:VEVENT
BEGIN:VEVENT
UID:16999831@ezleagues.ezfacility.com
DTSTAMP:20260421T150912Z
CREATED:20260421T150912Z
DTSTART:20260221T140000Z
DTEND:20260221T150000Z
LOCATION:Black Field
CONTACT:Kucinski
SUMMARY:Force Academy  VS. PSC Academy 1 
DESCRIPTION:League Name: Youth 3 - 25/26 U8 Co-ed\nGame Type: Regular\nGame
  Status: Complete\nHome Team: Force Academy \nAway Team: PSC Academy 1 \nH
 ome Score: 2\nAway Score: 9
END:VEVENT
BEGIN:VEVENT
UID:16999835@ezleagues.ezfacility.com
DTSTAMP:20260421T150912Z
CREATED:20260421T150912Z
DTSTART:20260228T120000Z
DTEND:20260228T130000Z
LOCATION:Black Field
CONTACT:J Leslie
SUMMARY:Blue Stallions VS. PSC Academy 1 
DESCRIPTION:League Name: Youth 3 - 25/26 U8 Co-ed\nGame Type: Regular\nGame
  Status: Complete\nHome Team: Blue Stallions\nAway Team: PSC Academy 1 \nH
 ome Score: 7\nAway Score: 6
END:VEVENT
BEGIN:VEVENT
UID:16999839@ezleagues.ezfacility.com
DTSTAMP:20260421T150912Z
CREATED:20260421T150912Z
DTSTART:20260307T140000Z
DTEND:20260307T150000Z
LOCATION:Black Field
CONTACT:Zekoko
SUMMARY:PSC Academy 2  VS. PSC Academy 1 
DESCRIPTION:League Name: Youth 3 - 25/26 U8 Co-ed\nGame Type: Regular\nGame
  Status: Complete\nHome Team: PSC Academy 2 \nAway Team: PSC Academy 1 \nH
 ome Score: 1\nAway Score: 4
END:VEVENT
BEGIN:VEVENT
UID:16999844@ezleagues.ezfacility.com
DTSTAMP:20260421T150912Z
CREATED:20260421T150912Z
DTSTART:20260315T160000Z
DTEND:20260315T170000Z
LOCATION:Black Field
CONTACT:Vandermeeden
SUMMARY:Snowbird Soccer VS. PSC Academy 1 
DESCRIPTION:League Name: Youth 3 - 25/26 U8 Co-ed\nGame Type: Regular\nGame
  Status: Complete\nHome Team: Snowbird Soccer\nAway Team: PSC Academy 1 \n
 Home Score: 3\nAway Score: 10
END:VEVENT
BEGIN:VEVENT
UID:16999848@ezleagues.ezfacility.com
DTSTAMP:20260421T150912Z
CREATED:20260421T150912Z
DTSTART:20260321T120000Z
DTEND:20260321T130000Z
LOCATION:Black Field
CONTACT:J Leslie
SUMMARY:PSC Academy 1  VS. Blue Berries
DESCRIPTION:League Name: Youth 3 - 25/26 U8 Co-ed\nGame Type: Regular\nGame
  Status: Complete\nHome Team: PSC Academy 1 \nAway Team: Blue Berries\nHom
 e Score: 1\nAway Score: 8
END:VEVENT
BEGIN:VEVENT
UID:16999854@ezleagues.ezfacility.com
DTSTAMP:20260421T150912Z
CREATED:20260421T150912Z
DTSTART:20260329T190000Z
DTEND:20260329T200000Z
LOCATION:Black Field
CONTACT:Ntsiful
SUMMARY:PSC Academy 1  VS. Blue Hot Spurs
DESCRIPTION:League Name: Youth 3 - 25/26 U8 Co-ed\nGame Type: Regular\nGame
  Status: Complete\nHome Team: PSC Academy 1 \nAway Team: Blue Hot Spurs\nH
 ome Score: 12\nAway Score: 7
END:VEVENT
END:VCALENDAR
