BEGIN:VCALENDAR
VERSION:2.0
PRODID:-//EZFacility.com, Inc.//EZL 2.5.5.28621
BEGIN:VEVENT
UID:17000803@ezleagues.ezfacility.com
DTSTAMP:20260421T085220Z
CREATED:20260421T085220Z
DTSTART:20260306T233000Z
DTEND:20260307T003000Z
LOCATION:Miracle League Field
CONTACT:
SUMMARY:Tigers - Brunet VS. Tiny Titans - Milliman
DESCRIPTION:League Name: 2026 Spring Baseball League - 3/4u Pee Wee T-Ball 
 Division\nGame Type: Regular\nGame Status: Pending\nHome Team: Tigers - Br
 unet\nAway Team: Tiny Titans - Milliman\n
END:VEVENT
BEGIN:VEVENT
UID:17000824@ezleagues.ezfacility.com
DTSTAMP:20260421T085220Z
CREATED:20260421T085220Z
DTSTART:20260313T223000Z
DTEND:20260313T233000Z
LOCATION:Miracle League Field
CONTACT:
SUMMARY:Tiny Titans - Milliman VS. Mighty Knights - Thomas
DESCRIPTION:League Name: 2026 Spring Baseball League - 3/4u Pee Wee T-Ball 
 Division\nGame Type: Regular\nGame Status: Pending\nHome Team: Tiny Titans
  - Milliman\nAway Team: Mighty Knights - Thomas\n
END:VEVENT
BEGIN:VEVENT
UID:17000920@ezleagues.ezfacility.com
DTSTAMP:20260421T085220Z
CREATED:20260421T085220Z
DTSTART:20260327T223000Z
DTEND:20260327T233000Z
LOCATION:Miracle League Field
CONTACT:
SUMMARY:Lil' Dingers - Gibbs VS. Tiny Titans - Milliman
DESCRIPTION:League Name: 2026 Spring Baseball League - 3/4u Pee Wee T-Ball 
 Division\nGame Type: Regular\nGame Status: Pending\nHome Team: Lil' Dinger
 s - Gibbs\nAway Team: Tiny Titans - Milliman\n
END:VEVENT
BEGIN:VEVENT
UID:17000937@ezleagues.ezfacility.com
DTSTAMP:20260421T085220Z
CREATED:20260421T085220Z
DTSTART:20260401T223000Z
DTEND:20260401T233000Z
LOCATION:Miracle League Field
CONTACT:
SUMMARY:Tiny Titans - Milliman VS. Tiger Girls - Simon
DESCRIPTION:League Name: 2026 Spring Baseball League - 3/4u Pee Wee T-Ball 
 Division\nGame Type: Regular\nGame Status: Pending\nHome Team: Tiny Titans
  - Milliman\nAway Team: Tiger Girls - Simon\n
END:VEVENT
BEGIN:VEVENT
UID:17000998@ezleagues.ezfacility.com
DTSTAMP:20260421T085220Z
CREATED:20260421T085220Z
DTSTART:20260417T233000Z
DTEND:20260418T003000Z
LOCATION:Miracle League Field
CONTACT:
SUMMARY:Tiny Titans - Milliman VS. Blue Jay Bombers - Miremont
DESCRIPTION:League Name: 2026 Spring Baseball League - 3/4u Pee Wee T-Ball 
 Division\nGame Type: Regular\nGame Status: Pending\nHome Team: Tiny Titans
  - Milliman\nAway Team: Blue Jay Bombers - Miremont\n
END:VEVENT
BEGIN:VEVENT
UID:17001041@ezleagues.ezfacility.com
DTSTAMP:20260421T085220Z
CREATED:20260421T085220Z
DTSTART:20260424T233000Z
DTEND:20260425T003000Z
LOCATION:Miracle League Field
CONTACT:
SUMMARY:Tiny Titans - Milliman VS. Mighty Knights - Thomas
DESCRIPTION:League Name: 2026 Spring Baseball League - 3/4u Pee Wee T-Ball 
 Division\nGame Type: Regular\nGame Status: Pending\nHome Team: Tiny Titans
  - Milliman\nAway Team: Mighty Knights - Thomas\n
END:VEVENT
BEGIN:VEVENT
UID:17001086@ezleagues.ezfacility.com
DTSTAMP:20260421T085220Z
CREATED:20260421T085220Z
DTSTART:20260501T233000Z
DTEND:20260502T003000Z
LOCATION:Miracle League Field
CONTACT:
SUMMARY:Lions - Holmes VS. Tiny Titans - Milliman
DESCRIPTION:League Name: 2026 Spring Baseball League - 3/4u Pee Wee T-Ball 
 Division\nGame Type: Regular\nGame Status: Pending\nHome Team: Lions - Hol
 mes\nAway Team: Tiny Titans - Milliman\n
END:VEVENT
BEGIN:VEVENT
UID:17001154@ezleagues.ezfacility.com
DTSTAMP:20260421T085220Z
CREATED:20260421T085220Z
DTSTART:20260506T233000Z
DTEND:20260507T003000Z
LOCATION:Miracle League Field
CONTACT:
SUMMARY:Tiny Titans - Milliman VS. Peaches - Morgan
DESCRIPTION:League Name: 2026 Spring Baseball League - 3/4u Pee Wee T-Ball 
 Division\nGame Type: Regular\nGame Status: Pending\nHome Team: Tiny Titans
  - Milliman\nAway Team: Peaches - Morgan\n
END:VEVENT
END:VCALENDAR
