BEGIN:VCALENDAR
VERSION:2.0
PRODID:-//EZFacility.com, Inc.//EZL 2.5.5.28621
BEGIN:VEVENT
UID:17000751@ezleagues.ezfacility.com
DTSTAMP:20260424T044212Z
CREATED:20260424T044212Z
DTSTART:20260214T123000Z
DTEND:20260214T133000Z
LOCATION:Red Field
CONTACT:Berry
SUMMARY:Force Ballhawks - White VS. Average Joes
DESCRIPTION:League Name: Youth  3- 25/26 11U Boys\nGame Type: Regular\nGame
  Status: Complete\nHome Team: Force Ballhawks - White\nAway Team: Average 
 Joes\nHome Score: 3\nAway Score: 10
END:VEVENT
BEGIN:VEVENT
UID:17000757@ezleagues.ezfacility.com
DTSTAMP:20260424T044212Z
CREATED:20260424T044212Z
DTSTART:20260221T180000Z
DTEND:20260221T190000Z
LOCATION:Black Field
CONTACT:Hughes
SUMMARY:Average Joes VS. Stugis FC 2016B
DESCRIPTION:League Name: Youth  3- 25/26 11U Boys\nGame Type: Regular\nGame
  Status: Complete\nHome Team: Average Joes\nAway Team: Stugis FC 2016B\nHo
 me Score: 3\nAway Score: 10
END:VEVENT
BEGIN:VEVENT
UID:17000770@ezleagues.ezfacility.com
DTSTAMP:20260424T044212Z
CREATED:20260424T044212Z
DTSTART:20260307T190000Z
DTEND:20260307T200000Z
LOCATION:Black Field
CONTACT:Zekoko
SUMMARY:Red Ninjas VS. Average Joes
DESCRIPTION:League Name: Youth  3- 25/26 11U Boys\nGame Type: Regular\nGame
  Status: Complete\nHome Team: Red Ninjas\nAway Team: Average Joes\nHome Sc
 ore: 10\nAway Score: 6
END:VEVENT
BEGIN:VEVENT
UID:17000775@ezleagues.ezfacility.com
DTSTAMP:20260424T044212Z
CREATED:20260424T044212Z
DTSTART:20260314T180000Z
DTEND:20260314T190000Z
LOCATION:Black Field
CONTACT:Zekoko
SUMMARY:Average Joes VS. Red Ninjas
DESCRIPTION:League Name: Youth  3- 25/26 11U Boys\nGame Type: Regular\nGame
  Status: Complete\nHome Team: Average Joes\nAway Team: Red Ninjas\nHome Sc
 ore: 9\nAway Score: 4
END:VEVENT
BEGIN:VEVENT
UID:17040077@ezleagues.ezfacility.com
DTSTAMP:20260424T044212Z
CREATED:20260424T044212Z
DTSTART:20260315T190000Z
DTEND:20260315T200000Z
LOCATION:Red Field
CONTACT:Ntsiful
SUMMARY:Lower 90 Shooters VS. Average Joes
DESCRIPTION:League Name: Youth  3- 25/26 11U Boys\nGame Type: Regular\nGame
  Status: Complete\nHome Team: Lower 90 Shooters\nAway Team: Average Joes\n
 Home Score: 10\nAway Score: 3
END:VEVENT
BEGIN:VEVENT
UID:17000780@ezleagues.ezfacility.com
DTSTAMP:20260424T044212Z
CREATED:20260424T044212Z
DTSTART:20260319T211500Z
DTEND:20260319T221500Z
LOCATION:Black Field
CONTACT:Patterson
SUMMARY:TKO Boys U11 White	 VS. Average Joes
DESCRIPTION:League Name: Youth  3- 25/26 11U Boys\nGame Type: Regular\nGame
  Status: Complete\nHome Team: TKO Boys U11 White	\nAway Team: Average Joes
 \nHome Score: 7\nAway Score: 3
END:VEVENT
BEGIN:VEVENT
UID:17000784@ezleagues.ezfacility.com
DTSTAMP:20260424T044212Z
CREATED:20260424T044212Z
DTSTART:20260328T150000Z
DTEND:20260328T160000Z
LOCATION:Red Field
CONTACT:Zekoko
SUMMARY:PSC Lightning 2015B VS. Average Joes
DESCRIPTION:League Name: Youth  3- 25/26 11U Boys\nGame Type: Regular\nGame
  Status: Complete\nHome Team: PSC Lightning 2015B\nAway Team: Average Joes
 \nHome Score: 6\nAway Score: 12
END:VEVENT
BEGIN:VEVENT
UID:17000769@ezleagues.ezfacility.com
DTSTAMP:20260424T044212Z
CREATED:20260424T044212Z
DTSTART:20260328T190000Z
DTEND:20260328T200000Z
LOCATION:Red Field
CONTACT: I Santos
SUMMARY:Average Joes VS. Purple Wildcats
DESCRIPTION:League Name: Youth  3- 25/26 11U Boys\nGame Type: Regular\nGame
  Status: Complete\nHome Team: Average Joes\nAway Team: Purple Wildcats\nHo
 me Score: 4\nAway Score: 5
END:VEVENT
END:VCALENDAR
