BEGIN:VCALENDAR
VERSION:2.0
PRODID:-//EZFacility.com, Inc.//EZL 2.5.5.28621
BEGIN:VEVENT
UID:17000748@ezleagues.ezfacility.com
DTSTAMP:20260424T044011Z
CREATED:20260424T044011Z
DTSTART:20260207T190000Z
DTEND:20260207T200000Z
LOCATION:Black Field
CONTACT:Zekoko
SUMMARY:Purple Wildcats VS. TKO Boys U11 White	
DESCRIPTION:League Name: Youth  3- 25/26 11U Boys\nGame Type: Regular\nGame
  Status: Complete\nHome Team: Purple Wildcats\nAway Team: TKO Boys U11 Whi
 te	\nHome Score: 0\nAway Score: 7
END:VEVENT
BEGIN:VEVENT
UID:17000752@ezleagues.ezfacility.com
DTSTAMP:20260424T044011Z
CREATED:20260424T044011Z
DTSTART:20260214T190000Z
DTEND:20260214T200000Z
LOCATION:Black Field
CONTACT:Patterson
SUMMARY:Red Ninjas VS. TKO Boys U11 White	
DESCRIPTION:League Name: Youth  3- 25/26 11U Boys\nGame Type: Regular\nGame
  Status: Complete\nHome Team: Red Ninjas\nAway Team: TKO Boys U11 White	\n
 Home Score: 7\nAway Score: 9
END:VEVENT
BEGIN:VEVENT
UID:17000785@ezleagues.ezfacility.com
DTSTAMP:20260424T044011Z
CREATED:20260424T044011Z
DTSTART:20260228T220000Z
DTEND:20260228T230000Z
LOCATION:Black Field
CONTACT:Asbeury
SUMMARY:Stugis FC 2016B VS. TKO Boys U11 White	
DESCRIPTION:League Name: Youth  3- 25/26 11U Boys\nGame Type: Regular\nGame
  Status: Complete\nHome Team: Stugis FC 2016B\nAway Team: TKO Boys U11 Whi
 te	\nHome Score: 1\nAway Score: 2
END:VEVENT
BEGIN:VEVENT
UID:17000780@ezleagues.ezfacility.com
DTSTAMP:20260424T044011Z
CREATED:20260424T044011Z
DTSTART:20260319T211500Z
DTEND:20260319T221500Z
LOCATION:Black Field
CONTACT:Patterson
SUMMARY:TKO Boys U11 White	 VS. Average Joes
DESCRIPTION:League Name: Youth  3- 25/26 11U Boys\nGame Type: Regular\nGame
  Status: Complete\nHome Team: TKO Boys U11 White	\nAway Team: Average Joes
 \nHome Score: 7\nAway Score: 3
END:VEVENT
BEGIN:VEVENT
UID:17000774@ezleagues.ezfacility.com
DTSTAMP:20260424T044011Z
CREATED:20260424T044011Z
DTSTART:20260323T223000Z
DTEND:20260323T233000Z
LOCATION:Kingdom Field
CONTACT:Morrison
SUMMARY:TKO Boys U11 White	 VS. Lower 90 Shooters
DESCRIPTION:League Name: Youth  3- 25/26 11U Boys\nGame Type: Regular\nGame
  Status: Complete\nHome Team: TKO Boys U11 White	\nAway Team: Lower 90 Sho
 oters\nHome Score: 4\nAway Score: 6
END:VEVENT
BEGIN:VEVENT
UID:17000768@ezleagues.ezfacility.com
DTSTAMP:20260424T044011Z
CREATED:20260424T044011Z
DTSTART:20260328T203000Z
DTEND:20260328T213000Z
LOCATION:Kingdom Field
CONTACT:Stough
SUMMARY:TKO Boys U11 White	 VS. Wildcats FC
DESCRIPTION:League Name: Youth  3- 25/26 11U Boys\nGame Type: Regular\nGame
  Status: Complete\nHome Team: TKO Boys U11 White	\nAway Team: Wildcats FC\
 nHome Score: 9\nAway Score: 2
END:VEVENT
BEGIN:VEVENT
UID:17000762@ezleagues.ezfacility.com
DTSTAMP:20260424T044011Z
CREATED:20260424T044011Z
DTSTART:20260329T160000Z
DTEND:20260329T170000Z
LOCATION:Black Field
CONTACT:Vargas
SUMMARY:TKO Boys U11 White	 VS. PSC Lightning 2015B
DESCRIPTION:League Name: Youth  3- 25/26 11U Boys\nGame Type: Regular\nGame
  Status: Complete\nHome Team: TKO Boys U11 White	\nAway Team: PSC Lightnin
 g 2015B\nHome Score: 9\nAway Score: 4
END:VEVENT
BEGIN:VEVENT
UID:17000756@ezleagues.ezfacility.com
DTSTAMP:20260424T044011Z
CREATED:20260424T044011Z
DTSTART:20260404T140000Z
DTEND:20260404T150000Z
LOCATION:Black Field
CONTACT:Vargas
SUMMARY:Force Ballhawks - White VS. TKO Boys U11 White	
DESCRIPTION:League Name: Youth  3- 25/26 11U Boys\nGame Type: Regular\nGame
  Status: Complete\nHome Team: Force Ballhawks - White\nAway Team: TKO Boys
  U11 White	\nHome Score: 3\nAway Score: 10
END:VEVENT
END:VCALENDAR
