BEGIN:VCALENDAR
VERSION:2.0
PRODID:-//EZFacility.com, Inc.//EZL 2.5.5.28621
BEGIN:VEVENT
UID:17010725@ezleagues.ezfacility.com
DTSTAMP:20260420T065700Z
CREATED:20260420T065700Z
DTSTART:20260219T230000Z
DTEND:20260220T000000Z
LOCATION:Red Field
CONTACT:Cane
SUMMARY:RASC 2014 Blue VS. TKO 2014B Grey
DESCRIPTION:League Name: Youth 3- 25/26 12U Boys\nGame Type: Regular\nGame 
 Status: Complete\nHome Team: RASC 2014 Blue\nAway Team: TKO 2014B Grey\nHo
 me Score: 8\nAway Score: 2
END:VEVENT
BEGIN:VEVENT
UID:17001014@ezleagues.ezfacility.com
DTSTAMP:20260420T065700Z
CREATED:20260420T065700Z
DTSTART:20260221T000000Z
DTEND:20260221T010000Z
LOCATION:Red Field
CONTACT:Cane
SUMMARY:RASC 2014 Blue VS. TKO 2015B Blue
DESCRIPTION:League Name: Youth 3- 25/26 12U Boys\nGame Type: Regular\nGame 
 Status: Complete\nHome Team: RASC 2014 Blue\nAway Team: TKO 2015B Blue\nHo
 me Score: 5\nAway Score: 10
END:VEVENT
BEGIN:VEVENT
UID:17001007@ezleagues.ezfacility.com
DTSTAMP:20260420T065700Z
CREATED:20260420T065700Z
DTSTART:20260305T233000Z
DTEND:20260306T003000Z
LOCATION:Black Field
CONTACT:Vandermeeden
SUMMARY:Force Ballhawks - Green VS. RASC 2014 Blue
DESCRIPTION:League Name: Youth 3- 25/26 12U Boys\nGame Type: Regular\nGame 
 Status: Complete\nHome Team: Force Ballhawks - Green\nAway Team: RASC 2014
  Blue\nHome Score: 7\nAway Score: 4
END:VEVENT
BEGIN:VEVENT
UID:17001022@ezleagues.ezfacility.com
DTSTAMP:20260420T065700Z
CREATED:20260420T065700Z
DTSTART:20260307T000000Z
DTEND:20260307T010000Z
LOCATION:Red Field
CONTACT:Gullon-Brock
SUMMARY:Taco Bobs 2016 VS. RASC 2014 Blue
DESCRIPTION:League Name: Youth 3- 25/26 12U Boys\nGame Type: Regular\nGame 
 Status: Complete\nHome Team: Taco Bobs 2016\nAway Team: RASC 2014 Blue\nHo
 me Score: 8\nAway Score: 4
END:VEVENT
BEGIN:VEVENT
UID:17010705@ezleagues.ezfacility.com
DTSTAMP:20260420T065700Z
CREATED:20260420T065700Z
DTSTART:20260314T193000Z
DTEND:20260314T203000Z
LOCATION:Red Field
CONTACT:Vandermeeden
SUMMARY:Kalamazoo FC 2014 Red VS. RASC 2014 Blue
DESCRIPTION:League Name: Youth 3- 25/26 12U Boys\nGame Type: Regular\nGame 
 Status: Complete\nHome Team: Kalamazoo FC 2014 Red\nAway Team: RASC 2014 B
 lue\nHome Score: 8\nAway Score: 7
END:VEVENT
BEGIN:VEVENT
UID:17010680@ezleagues.ezfacility.com
DTSTAMP:20260420T065700Z
CREATED:20260420T065700Z
DTSTART:20260321T200000Z
DTEND:20260321T210000Z
LOCATION:Black Field
CONTACT:Vargas
SUMMARY:RASC 2014 Blue VS. Force Ballhawks - Green
DESCRIPTION:League Name: Youth 3- 25/26 12U Boys\nGame Type: Regular\nGame 
 Status: Complete\nHome Team: RASC 2014 Blue\nAway Team: Force Ballhawks - 
 Green\nHome Score: 2\nAway Score: 6
END:VEVENT
BEGIN:VEVENT
UID:17010722@ezleagues.ezfacility.com
DTSTAMP:20260420T065700Z
CREATED:20260420T065700Z
DTSTART:20260324T223000Z
DTEND:20260324T233000Z
LOCATION:Kingdom Field
CONTACT:Cane
SUMMARY:RASC 2014 Blue VS. Sturgis FC
DESCRIPTION:League Name: Youth 3- 25/26 12U Boys\nGame Type: Regular\nGame 
 Status: Complete\nHome Team: RASC 2014 Blue\nAway Team: Sturgis FC\nHome S
 core: 3\nAway Score: 5
END:VEVENT
BEGIN:VEVENT
UID:17010727@ezleagues.ezfacility.com
DTSTAMP:20260420T065700Z
CREATED:20260420T065700Z
DTSTART:20260329T200000Z
DTEND:20260329T210000Z
LOCATION:Black Field
CONTACT:Ntsiful
SUMMARY:RASC 2014 Blue VS. The Big Lewandowski
DESCRIPTION:League Name: Youth 3- 25/26 12U Boys\nGame Type: Regular\nGame 
 Status: Complete\nHome Team: RASC 2014 Blue\nAway Team: The Big Lewandowsk
 i\nHome Score: 0\nAway Score: 7
END:VEVENT
END:VCALENDAR
