BEGIN:VCALENDAR
VERSION:2.0
PRODID:-//EZFacility.com, Inc.//EZL 2.5.5.28621
BEGIN:VEVENT
UID:17001540@ezleagues.ezfacility.com
DTSTAMP:20260426T034043Z
CREATED:20260426T034043Z
DTSTART:20260213T013000Z
DTEND:20260213T023000Z
LOCATION:Field A
CONTACT:
SUMMARY:Hot Flashes VS. strikers
DESCRIPTION:League Name:  Women's Soccer League FEB2026\nGame Type: Regular
 \nGame Status: Complete\nHome Team: Hot Flashes\nAway Team: strikers\nHome
  Score: 4\nAway Score: 7
END:VEVENT
BEGIN:VEVENT
UID:17001546@ezleagues.ezfacility.com
DTSTAMP:20260426T034043Z
CREATED:20260426T034043Z
DTSTART:20260227T023000Z
DTEND:20260227T033000Z
LOCATION:Field A
CONTACT:
SUMMARY:Hot Flashes VS. Free Agents
DESCRIPTION:League Name:  Women's Soccer League FEB2026\nGame Type: Regular
 \nGame Status: Complete\nHome Team: Hot Flashes\nAway Team: Free Agents\nH
 ome Score: 0\nAway Score: 9
END:VEVENT
BEGIN:VEVENT
UID:17001549@ezleagues.ezfacility.com
DTSTAMP:20260426T034043Z
CREATED:20260426T034043Z
DTSTART:20260306T023000Z
DTEND:20260306T033000Z
LOCATION:Field A
CONTACT:
SUMMARY:Glory Days VS. Hot Flashes
DESCRIPTION:League Name:  Women's Soccer League FEB2026\nGame Type: Regular
 \nGame Status: Complete\nHome Team: Glory Days\nAway Team: Hot Flashes\nHo
 me Score: 1\nAway Score: 2
END:VEVENT
BEGIN:VEVENT
UID:17001554@ezleagues.ezfacility.com
DTSTAMP:20260426T034043Z
CREATED:20260426T034043Z
DTSTART:20260313T003000Z
DTEND:20260313T013000Z
LOCATION:Field B
CONTACT:
SUMMARY:Mindbenders VS. Hot Flashes
DESCRIPTION:League Name:  Women's Soccer League FEB2026\nGame Type: Regular
 \nGame Status: Complete\nHome Team: Mindbenders\nAway Team: Hot Flashes\nH
 ome Score: 5\nAway Score: 3
END:VEVENT
BEGIN:VEVENT
UID:17001559@ezleagues.ezfacility.com
DTSTAMP:20260426T034043Z
CREATED:20260426T034043Z
DTSTART:20260320T003000Z
DTEND:20260320T013000Z
LOCATION:Field A
CONTACT:
SUMMARY:Hot Flashes VS. LIZZY'S LEGENDS
DESCRIPTION:League Name:  Women's Soccer League FEB2026\nGame Type: Regular
 \nGame Status: Complete\nHome Team: Hot Flashes\nAway Team: LIZZY'S LEGEND
 S\nHome Score: 2\nAway Score: 5
END:VEVENT
BEGIN:VEVENT
UID:17001543@ezleagues.ezfacility.com
DTSTAMP:20260426T034043Z
CREATED:20260426T034043Z
DTSTART:20260403T003000Z
DTEND:20260403T013000Z
LOCATION:Field B
CONTACT:
SUMMARY:NARPS VS. Hot Flashes
DESCRIPTION:League Name:  Women's Soccer League FEB2026\nGame Type: Regular
 \nGame Status: Complete\nHome Team: NARPS\nAway Team: Hot Flashes\nHome Sc
 ore: 1\nAway Score: 1
END:VEVENT
END:VCALENDAR
