BEGIN:VCALENDAR
VERSION:2.0
PRODID:-//EZFacility.com, Inc.//EZL 2.5.5.28621
BEGIN:VEVENT
UID:17001535@ezleagues.ezfacility.com
DTSTAMP:20260426T033723Z
CREATED:20260426T033723Z
DTSTART:20260206T013000Z
DTEND:20260206T023000Z
LOCATION:Field B
CONTACT:
SUMMARY:strikers VS. Free Agents
DESCRIPTION:League Name:  Women's Soccer League FEB2026\nGame Type: Regular
 \nGame Status: Complete\nHome Team: strikers\nAway Team: Free Agents\nHome
  Score: 1\nAway Score: 2
END:VEVENT
BEGIN:VEVENT
UID:17001538@ezleagues.ezfacility.com
DTSTAMP:20260426T033723Z
CREATED:20260426T033723Z
DTSTART:20260213T023000Z
DTEND:20260213T033000Z
LOCATION:Field A
CONTACT:
SUMMARY:Free Agents VS. NARPS
DESCRIPTION:League Name:  Women's Soccer League FEB2026\nGame Type: Regular
 \nGame Status: Complete\nHome Team: Free Agents\nAway Team: NARPS\nHome Sc
 ore: 4\nAway Score: 4
END:VEVENT
BEGIN:VEVENT
UID:17001546@ezleagues.ezfacility.com
DTSTAMP:20260426T033723Z
CREATED:20260426T033723Z
DTSTART:20260227T023000Z
DTEND:20260227T033000Z
LOCATION:Field A
CONTACT:
SUMMARY:Hot Flashes VS. Free Agents
DESCRIPTION:League Name:  Women's Soccer League FEB2026\nGame Type: Regular
 \nGame Status: Complete\nHome Team: Hot Flashes\nAway Team: Free Agents\nH
 ome Score: 0\nAway Score: 9
END:VEVENT
BEGIN:VEVENT
UID:17001551@ezleagues.ezfacility.com
DTSTAMP:20260426T033723Z
CREATED:20260426T033723Z
DTSTART:20260306T013000Z
DTEND:20260306T023000Z
LOCATION:Field B
CONTACT:
SUMMARY:Free Agents VS. Mindbenders
DESCRIPTION:League Name:  Women's Soccer League FEB2026\nGame Type: Regular
 \nGame Status: Complete\nHome Team: Free Agents\nAway Team: Mindbenders\nH
 ome Score: 3\nAway Score: 1
END:VEVENT
BEGIN:VEVENT
UID:17001556@ezleagues.ezfacility.com
DTSTAMP:20260426T033723Z
CREATED:20260426T033723Z
DTSTART:20260313T003000Z
DTEND:20260313T013000Z
LOCATION:Field A
CONTACT:
SUMMARY:LIZZY'S LEGENDS VS. Free Agents
DESCRIPTION:League Name:  Women's Soccer League FEB2026\nGame Type: Regular
 \nGame Status: Complete\nHome Team: LIZZY'S LEGENDS\nAway Team: Free Agent
 s\nHome Score: 2\nAway Score: 1
END:VEVENT
BEGIN:VEVENT
UID:17001563@ezleagues.ezfacility.com
DTSTAMP:20260426T033723Z
CREATED:20260426T033723Z
DTSTART:20260327T003000Z
DTEND:20260327T013000Z
LOCATION:Field A
CONTACT:
SUMMARY:Free Agents VS. strikers
DESCRIPTION:League Name:  Women's Soccer League FEB2026\nGame Type: Regular
 \nGame Status: Complete\nHome Team: Free Agents\nAway Team: strikers\nHome
  Score: 5\nAway Score: 2
END:VEVENT
BEGIN:VEVENT
UID:17001541@ezleagues.ezfacility.com
DTSTAMP:20260426T033723Z
CREATED:20260426T033723Z
DTSTART:20260403T013000Z
DTEND:20260403T023000Z
LOCATION:Field A
CONTACT:
SUMMARY:Free Agents VS. Glory Days
DESCRIPTION:League Name:  Women's Soccer League FEB2026\nGame Type: Regular
 \nGame Status: Complete\nHome Team: Free Agents\nAway Team: Glory Days\nHo
 me Score: 2\nAway Score: 6
END:VEVENT
END:VCALENDAR
