BEGIN:VCALENDAR
VERSION:2.0
PRODID:-//EZFacility.com, Inc.//EZL 2.5.5.28621
BEGIN:VEVENT
UID:17061628@ezleagues.ezfacility.com
DTSTAMP:20260425T163239Z
CREATED:20260425T163239Z
DTSTART:20260325T025000Z
DTEND:20260325T040000Z
LOCATION:Field 1
CONTACT:
SUMMARY:Channel One Consulting VS. FBS
DESCRIPTION:League Name: Spring Tuesday Rotational Coed Softball\nGame Type
 : Regular\nGame Status: Complete\nHome Team: Channel One Consulting\nAway 
 Team: FBS\nHome Score: 14\nAway Score: 14
END:VEVENT
BEGIN:VEVENT
UID:17061842@ezleagues.ezfacility.com
DTSTAMP:20260425T163239Z
CREATED:20260425T163239Z
DTSTART:20260331T200000Z
DTEND:20260331T211000Z
LOCATION:TBD
CONTACT:
SUMMARY:FBS VS. Bye Week - No Game
DESCRIPTION:League Name: Spring Tuesday Rotational Coed Softball\nGame Type
 : Regular\nGame Status: Pending\nHome Team: FBS\nAway Team: Bye Week - No 
 Game\n
END:VEVENT
BEGIN:VEVENT
UID:17061631@ezleagues.ezfacility.com
DTSTAMP:20260425T163239Z
CREATED:20260425T163239Z
DTSTART:20260408T025000Z
DTEND:20260408T040000Z
LOCATION:Field 1
CONTACT:
SUMMARY:FBS VS. NG Submariners
DESCRIPTION:League Name: Spring Tuesday Rotational Coed Softball\nGame Type
 : Regular\nGame Status: Complete\nHome Team: FBS\nAway Team: NG Submariner
 s\nHome Score: 18\nAway Score: 5
END:VEVENT
BEGIN:VEVENT
UID:17061637@ezleagues.ezfacility.com
DTSTAMP:20260425T163239Z
CREATED:20260425T163239Z
DTSTART:20260415T040000Z
DTEND:20260415T051000Z
LOCATION:Field 1
CONTACT:
SUMMARY:FBS VS. Sanctified Sluggers
DESCRIPTION:League Name: Spring Tuesday Rotational Coed Softball\nGame Type
 : Regular\nGame Status: Complete\nHome Team: FBS\nAway Team: Sanctified Sl
 uggers\nHome Score: 14\nAway Score: 4
END:VEVENT
BEGIN:VEVENT
UID:17104199@ezleagues.ezfacility.com
DTSTAMP:20260425T163239Z
CREATED:20260425T163239Z
DTSTART:20260421T200000Z
DTEND:20260421T211000Z
LOCATION:TBD
CONTACT:
SUMMARY:FBS VS. Game Cancelled
DESCRIPTION:League Name: Spring Tuesday Rotational Coed Softball\nGame Type
 : Regular\nGame Status: Pending\nHome Team: FBS\nAway Team: Game Cancelled
 \n
END:VEVENT
BEGIN:VEVENT
UID:17061643@ezleagues.ezfacility.com
DTSTAMP:20260425T163239Z
CREATED:20260425T163239Z
DTSTART:20260429T040000Z
DTEND:20260429T051000Z
LOCATION:Field 1
CONTACT:
SUMMARY:FBS VS. Channel One Consulting
DESCRIPTION:League Name: Spring Tuesday Rotational Coed Softball\nGame Type
 : Regular\nGame Status: Pending\nHome Team: FBS\nAway Team: Channel One Co
 nsulting\n
END:VEVENT
BEGIN:VEVENT
UID:17061646@ezleagues.ezfacility.com
DTSTAMP:20260425T163239Z
CREATED:20260425T163239Z
DTSTART:20260506T040000Z
DTEND:20260506T051000Z
LOCATION:Field 1
CONTACT:
SUMMARY:NG Submariners VS. FBS
DESCRIPTION:League Name: Spring Tuesday Rotational Coed Softball\nGame Type
 : Regular\nGame Status: Pending\nHome Team: NG Submariners\nAway Team: FBS
 \n
END:VEVENT
BEGIN:VEVENT
UID:17061852@ezleagues.ezfacility.com
DTSTAMP:20260425T163239Z
CREATED:20260425T163239Z
DTSTART:20260512T200000Z
DTEND:20260512T211000Z
LOCATION:TBD
CONTACT:
SUMMARY:FBS VS. Bye Week - No Game
DESCRIPTION:League Name: Spring Tuesday Rotational Coed Softball\nGame Type
 : Regular\nGame Status: Pending\nHome Team: FBS\nAway Team: Bye Week - No 
 Game\n
END:VEVENT
BEGIN:VEVENT
UID:17061652@ezleagues.ezfacility.com
DTSTAMP:20260425T163239Z
CREATED:20260425T163239Z
DTSTART:20260520T025000Z
DTEND:20260520T040000Z
LOCATION:Field 1
CONTACT:
SUMMARY:Sanctified Sluggers VS. FBS
DESCRIPTION:League Name: Spring Tuesday Rotational Coed Softball\nGame Type
 : Regular\nGame Status: Pending\nHome Team: Sanctified Sluggers\nAway Team
 : FBS\n
END:VEVENT
BEGIN:VEVENT
UID:17061655@ezleagues.ezfacility.com
DTSTAMP:20260425T163239Z
CREATED:20260425T163239Z
DTSTART:20260527T040000Z
DTEND:20260527T051000Z
LOCATION:Field 1
CONTACT:
SUMMARY:FBS VS. Deloitte
DESCRIPTION:League Name: Spring Tuesday Rotational Coed Softball\nGame Type
 : Regular\nGame Status: Pending\nHome Team: FBS\nAway Team: Deloitte\n
END:VEVENT
BEGIN:VEVENT
UID:17061640@ezleagues.ezfacility.com
DTSTAMP:20260425T163239Z
CREATED:20260425T163239Z
DTSTART:20260603T025000Z
DTEND:20260603T040000Z
LOCATION:Field 1
CONTACT:
SUMMARY:Deloitte VS. FBS
DESCRIPTION:League Name: Spring Tuesday Rotational Coed Softball\nGame Type
 : Regular\nGame Status: Pending\nHome Team: Deloitte\nAway Team: FBS\n
END:VEVENT
END:VCALENDAR
