BEGIN:VCALENDAR
VERSION:2.0
PRODID:-//EZFacility.com, Inc.//EZL 2.5.5.28621
BEGIN:VEVENT
UID:17003773@ezleagues.ezfacility.com
DTSTAMP:20260426T033831Z
CREATED:20260426T033831Z
DTSTART:20260207T043000Z
DTEND:20260207T052000Z
LOCATION:Messi Field
CONTACT:
SUMMARY:Cruz Azul VS. Jaguares
DESCRIPTION:League Name: MENS Spring 2026\nGame Type: Regular\nGame Status:
  Complete\nHome Team: Cruz Azul\nAway Team: Jaguares\nHome Score: 9\nAway 
 Score: 7
END:VEVENT
BEGIN:VEVENT
UID:17003777@ezleagues.ezfacility.com
DTSTAMP:20260426T033831Z
CREATED:20260426T033831Z
DTSTART:20260214T070000Z
DTEND:20260214T075000Z
LOCATION:Messi Field
CONTACT:
SUMMARY:Fluminence VS. Jaguares
DESCRIPTION:League Name: MENS Spring 2026\nGame Type: Regular\nGame Status:
  Complete\nHome Team: Fluminence\nAway Team: Jaguares\nHome Score: 6\nAway
  Score: 9
END:VEVENT
BEGIN:VEVENT
UID:17003784@ezleagues.ezfacility.com
DTSTAMP:20260426T033831Z
CREATED:20260426T033831Z
DTSTART:20260221T034000Z
DTEND:20260221T043000Z
LOCATION:Messi Field
CONTACT:
SUMMARY:Atletico VS. Jaguares
DESCRIPTION:League Name: MENS Spring 2026\nGame Type: Regular\nGame Status:
  Complete\nHome Team: Atletico\nAway Team: Jaguares\nHome Score: 5\nAway S
 core: 18
END:VEVENT
BEGIN:VEVENT
UID:17003791@ezleagues.ezfacility.com
DTSTAMP:20260426T033831Z
CREATED:20260426T033831Z
DTSTART:20260228T052000Z
DTEND:20260228T061000Z
LOCATION:Messi Field
CONTACT:
SUMMARY:Jaguares VS. Tiburones 
DESCRIPTION:League Name: MENS Spring 2026\nGame Type: Regular\nGame Status:
  Complete\nHome Team: Jaguares\nAway Team: Tiburones \nHome Score: 3\nAway
  Score: 7
END:VEVENT
BEGIN:VEVENT
UID:17003798@ezleagues.ezfacility.com
DTSTAMP:20260426T033831Z
CREATED:20260426T033831Z
DTSTART:20260307T061000Z
DTEND:20260307T070000Z
LOCATION:Messi Field
CONTACT:
SUMMARY:Gallos VS. Jaguares
DESCRIPTION:League Name: MENS Spring 2026\nGame Type: Regular\nGame Status:
  Complete\nHome Team: Gallos\nAway Team: Jaguares\nHome Score: 4\nAway Sco
 re: 4
END:VEVENT
BEGIN:VEVENT
UID:17003801@ezleagues.ezfacility.com
DTSTAMP:20260426T033831Z
CREATED:20260426T033831Z
DTSTART:20260314T060000Z
DTEND:20260314T065000Z
LOCATION:Messi Field
CONTACT:
SUMMARY:Fluminence VS. Jaguares
DESCRIPTION:League Name: MENS Spring 2026\nGame Type: Regular\nGame Status:
  Complete\nHome Team: Fluminence\nAway Team: Jaguares\nHome Score: 6\nAway
  Score: 14
END:VEVENT
BEGIN:VEVENT
UID:17003818@ezleagues.ezfacility.com
DTSTAMP:20260426T033831Z
CREATED:20260426T033831Z
DTSTART:20260328T065000Z
DTEND:20260328T074000Z
LOCATION:Messi Field
CONTACT:
SUMMARY:Jaguares VS. Madrid
DESCRIPTION:League Name: MENS Spring 2026\nGame Type: Regular\nGame Status:
  Complete\nHome Team: Jaguares\nAway Team: Madrid\nHome Score: 5\nAway Sco
 re: 0
END:VEVENT
BEGIN:VEVENT
UID:17080947@ezleagues.ezfacility.com
DTSTAMP:20260426T033831Z
CREATED:20260426T033831Z
DTSTART:20260404T060000Z
DTEND:20260404T065000Z
LOCATION:Messi Field
CONTACT:
SUMMARY:Cachorros  VS. Jaguares
DESCRIPTION:League Name: MENS Spring 2026\nGame Type: Regular\nGame Status:
  Complete\nHome Team: Cachorros \nAway Team: Jaguares\nHome Score: 12\nAwa
 y Score: 3
END:VEVENT
BEGIN:VEVENT
UID:17081871@ezleagues.ezfacility.com
DTSTAMP:20260426T033831Z
CREATED:20260426T033831Z
DTSTART:20260411T033000Z
DTEND:20260411T042000Z
LOCATION:Messi Field
CONTACT:
SUMMARY:Los Blancos VS. Jaguares
DESCRIPTION:League Name: MENS Spring 2026\nGame Type: Regular\nGame Status:
  Complete\nHome Team: Los Blancos\nAway Team: Jaguares\nHome Score: 10\nAw
 ay Score: 7
END:VEVENT
BEGIN:VEVENT
UID:17101374@ezleagues.ezfacility.com
DTSTAMP:20260426T033831Z
CREATED:20260426T033831Z
DTSTART:20260418T034000Z
DTEND:20260418T043000Z
LOCATION:Messi Field
CONTACT:
SUMMARY:Jaguares VS. Gallos
DESCRIPTION:League Name: MENS Spring 2026\nGame Type: Regular\nGame Status:
  Complete\nHome Team: Jaguares\nAway Team: Gallos\nHome Score: 0\nAway Sco
 re: 0
END:VEVENT
END:VCALENDAR
