BEGIN:VCALENDAR
VERSION:2.0
PRODID:-//EZFacility.com, Inc.//EZL 2.5.5.28621
BEGIN:VEVENT
UID:17004667@ezleagues.ezfacility.com
DTSTAMP:20260419T234603Z
CREATED:20260419T234603Z
DTSTART:20260215T201000Z
DTEND:20260215T210000Z
LOCATION:Field 2
CONTACT:
SUMMARY:Red Raptors VS. CV 2015 Blue
DESCRIPTION:League Name: Under 12 Boys Comp W-26 (2014 oldest player)\nGame
  Type: Regular\nGame Status: Complete\nHome Team: Red Raptors\nAway Team: 
 CV 2015 Blue\nHome Score: 5\nAway Score: 0
END:VEVENT
BEGIN:VEVENT
UID:17004690@ezleagues.ezfacility.com
DTSTAMP:20260419T234603Z
CREATED:20260419T234603Z
DTSTART:20260215T201000Z
DTEND:20260215T210000Z
LOCATION:Field 2
CONTACT:
SUMMARY:Red Raptors VS. TSP 2016
DESCRIPTION:League Name: Under 12 Boys Comp W-26 (2014 oldest player)\nGame
  Type: Regular\nGame Status: Complete\nHome Team: Red Raptors\nAway Team: 
 TSP 2016\nHome Score: 5\nAway Score: 8
END:VEVENT
BEGIN:VEVENT
UID:17004672@ezleagues.ezfacility.com
DTSTAMP:20260419T234603Z
CREATED:20260419T234603Z
DTSTART:20260222T044000Z
DTEND:20260222T053000Z
LOCATION:Field 1
CONTACT:
SUMMARY:AC 15 Black VS. Red Raptors
DESCRIPTION:League Name: Under 12 Boys Comp W-26 (2014 oldest player)\nGame
  Type: Regular\nGame Status: Complete\nHome Team: AC 15 Black\nAway Team: 
 Red Raptors\nHome Score: 7\nAway Score: 7
END:VEVENT
BEGIN:VEVENT
UID:17004695@ezleagues.ezfacility.com
DTSTAMP:20260419T234603Z
CREATED:20260419T234603Z
DTSTART:20260308T162500Z
DTEND:20260308T171500Z
LOCATION:Field 1
CONTACT:
SUMMARY:CV 2015 Blue VS. Red Raptors
DESCRIPTION:League Name: Under 12 Boys Comp W-26 (2014 oldest player)\nGame
  Type: Regular\nGame Status: Complete\nHome Team: CV 2015 Blue\nAway Team:
  Red Raptors\nHome Score: 2\nAway Score: 2
END:VEVENT
BEGIN:VEVENT
UID:17004679@ezleagues.ezfacility.com
DTSTAMP:20260419T234603Z
CREATED:20260419T234603Z
DTSTART:20260315T181500Z
DTEND:20260315T190500Z
LOCATION:Field 1
CONTACT:
SUMMARY:Red Raptors VS. Black Sheep
DESCRIPTION:League Name: Under 12 Boys Comp W-26 (2014 oldest player)\nGame
  Type: Regular\nGame Status: Complete\nHome Team: Red Raptors\nAway Team: 
 Black Sheep\nHome Score: 2\nAway Score: 1
END:VEVENT
BEGIN:VEVENT
UID:17004676@ezleagues.ezfacility.com
DTSTAMP:20260419T234603Z
CREATED:20260419T234603Z
DTSTART:20260329T172000Z
DTEND:20260329T181000Z
LOCATION:Field 1
CONTACT:
SUMMARY:Limon VS. Red Raptors
DESCRIPTION:League Name: Under 12 Boys Comp W-26 (2014 oldest player)\nGame
  Type: Regular\nGame Status: Complete\nHome Team: Limon\nAway Team: Red Ra
 ptors\nHome Score: 4\nAway Score: 3
END:VEVENT
BEGIN:VEVENT
UID:17004700@ezleagues.ezfacility.com
DTSTAMP:20260419T234603Z
CREATED:20260419T234603Z
DTSTART:20260412T162000Z
DTEND:20260412T171000Z
LOCATION:Field 1
CONTACT:
SUMMARY:Red Raptors VS. AC 15 Black
DESCRIPTION:League Name: Under 12 Boys Comp W-26 (2014 oldest player)\nGame
  Type: Regular\nGame Status: Complete\nHome Team: Red Raptors\nAway Team: 
 AC 15 Black\nHome Score: 3\nAway Score: 11
END:VEVENT
BEGIN:VEVENT
UID:17004685@ezleagues.ezfacility.com
DTSTAMP:20260419T234603Z
CREATED:20260419T234603Z
DTSTART:20260418T223000Z
DTEND:20260418T232000Z
LOCATION:Field 1
CONTACT:
SUMMARY:Central Valley VS. Red Raptors
DESCRIPTION:League Name: Under 12 Boys Comp W-26 (2014 oldest player)\nGame
  Type: Regular\nGame Status: Complete\nHome Team: Central Valley\nAway Tea
 m: Red Raptors\nHome Score: 0\nAway Score: 5
END:VEVENT
END:VCALENDAR
