BEGIN:VCALENDAR
VERSION:2.0
PRODID:-//EZFacility.com, Inc.//EZL 2.5.5.28621
BEGIN:VEVENT
UID:17004666@ezleagues.ezfacility.com
DTSTAMP:20260426T033739Z
CREATED:20260426T033739Z
DTSTART:20260215T201000Z
DTEND:20260215T210000Z
LOCATION:Field 1
CONTACT:
SUMMARY:Limon VS. Black Sheep
DESCRIPTION:League Name: Under 12 Boys Comp W-26 (2014 oldest player)\nGame
  Type: Regular\nGame Status: Complete\nHome Team: Limon\nAway Team: Black 
 Sheep\nHome Score: 3\nAway Score: 6
END:VEVENT
BEGIN:VEVENT
UID:17004669@ezleagues.ezfacility.com
DTSTAMP:20260426T033739Z
CREATED:20260426T033739Z
DTSTART:20260222T191500Z
DTEND:20260222T200500Z
LOCATION:Field 2
CONTACT:
SUMMARY:Central Valley VS. Black Sheep
DESCRIPTION:League Name: Under 12 Boys Comp W-26 (2014 oldest player)\nGame
  Type: Regular\nGame Status: Complete\nHome Team: Central Valley\nAway Tea
 m: Black Sheep\nHome Score: 4\nAway Score: 6
END:VEVENT
BEGIN:VEVENT
UID:17004694@ezleagues.ezfacility.com
DTSTAMP:20260426T033739Z
CREATED:20260426T033739Z
DTSTART:20260301T191500Z
DTEND:20260301T200500Z
LOCATION:Field 2
CONTACT:
SUMMARY:Black Sheep VS. Limon
DESCRIPTION:League Name: Under 12 Boys Comp W-26 (2014 oldest player)\nGame
  Type: Regular\nGame Status: Complete\nHome Team: Black Sheep\nAway Team: 
 Limon\nHome Score: 7\nAway Score: 5
END:VEVENT
BEGIN:VEVENT
UID:17004679@ezleagues.ezfacility.com
DTSTAMP:20260426T033739Z
CREATED:20260426T033739Z
DTSTART:20260315T181500Z
DTEND:20260315T190500Z
LOCATION:Field 1
CONTACT:
SUMMARY:Red Raptors VS. Black Sheep
DESCRIPTION:League Name: Under 12 Boys Comp W-26 (2014 oldest player)\nGame
  Type: Regular\nGame Status: Complete\nHome Team: Red Raptors\nAway Team: 
 Black Sheep\nHome Score: 2\nAway Score: 1
END:VEVENT
BEGIN:VEVENT
UID:17004684@ezleagues.ezfacility.com
DTSTAMP:20260426T033739Z
CREATED:20260426T033739Z
DTSTART:20260315T190500Z
DTEND:20260315T195500Z
LOCATION:Field 1
CONTACT:
SUMMARY:Black Sheep VS. TSP 2016
DESCRIPTION:League Name: Under 12 Boys Comp W-26 (2014 oldest player)\nGame
  Type: Regular\nGame Status: Complete\nHome Team: Black Sheep\nAway Team: 
 TSP 2016\nHome Score: 5\nAway Score: 3
END:VEVENT
BEGIN:VEVENT
UID:17004688@ezleagues.ezfacility.com
DTSTAMP:20260426T033739Z
CREATED:20260426T033739Z
DTSTART:20260322T162000Z
DTEND:20260322T171000Z
LOCATION:Field 1
CONTACT:
SUMMARY:Black Sheep VS. CV 2015 Blue
DESCRIPTION:League Name: Under 12 Boys Comp W-26 (2014 oldest player)\nGame
  Type: Regular\nGame Status: Complete\nHome Team: Black Sheep\nAway Team: 
 CV 2015 Blue\nHome Score: 2\nAway Score: 6
END:VEVENT
BEGIN:VEVENT
UID:17004691@ezleagues.ezfacility.com
DTSTAMP:20260426T033739Z
CREATED:20260426T033739Z
DTSTART:20260329T190500Z
DTEND:20260329T195500Z
LOCATION:Field 1
CONTACT:
SUMMARY:AC 15 Black VS. Black Sheep
DESCRIPTION:League Name: Under 12 Boys Comp W-26 (2014 oldest player)\nGame
  Type: Regular\nGame Status: Complete\nHome Team: AC 15 Black\nAway Team: 
 Black Sheep\nHome Score: 5\nAway Score: 1
END:VEVENT
BEGIN:VEVENT
UID:17004697@ezleagues.ezfacility.com
DTSTAMP:20260426T033739Z
CREATED:20260426T033739Z
DTSTART:20260419T010000Z
DTEND:20260419T015000Z
LOCATION:Field 2
CONTACT:
SUMMARY:Black Sheep VS. Central Valley
DESCRIPTION:League Name: Under 12 Boys Comp W-26 (2014 oldest player)\nGame
  Type: Regular\nGame Status: Complete\nHome Team: Black Sheep\nAway Team: 
 Central Valley\nHome Score: 5\nAway Score: 0
END:VEVENT
BEGIN:VEVENT
UID:17049082@ezleagues.ezfacility.com
DTSTAMP:20260426T033739Z
CREATED:20260426T033739Z
DTSTART:20260426T161000Z
DTEND:20260426T170000Z
LOCATION:Field 2
CONTACT:
SUMMARY:Black Sheep VS. Red Raptors
DESCRIPTION:League Name: Under 12 Boys Comp W-26 (2014 oldest player)\nGame
  Type: Postseason\nGame Status: Pending\nHome Team: Black Sheep\nAway Team
 : Red Raptors\n
END:VEVENT
END:VCALENDAR
