BEGIN:VCALENDAR
VERSION:2.0
PRODID:-//EZFacility.com, Inc.//EZL 2.5.5.28621
BEGIN:VEVENT
UID:17004665@ezleagues.ezfacility.com
DTSTAMP:20260426T033753Z
CREATED:20260426T033753Z
DTSTART:20260215T182000Z
DTEND:20260215T191000Z
LOCATION:Field 1
CONTACT:
SUMMARY:TSP 2016 VS. Central Valley
DESCRIPTION:League Name: Under 12 Boys Comp W-26 (2014 oldest player)\nGame
  Type: Regular\nGame Status: Complete\nHome Team: TSP 2016\nAway Team: Cen
 tral Valley\nHome Score: 5\nAway Score: 0
END:VEVENT
BEGIN:VEVENT
UID:17004669@ezleagues.ezfacility.com
DTSTAMP:20260426T033753Z
CREATED:20260426T033753Z
DTSTART:20260222T191500Z
DTEND:20260222T200500Z
LOCATION:Field 2
CONTACT:
SUMMARY:Central Valley VS. Black Sheep
DESCRIPTION:League Name: Under 12 Boys Comp W-26 (2014 oldest player)\nGame
  Type: Regular\nGame Status: Complete\nHome Team: Central Valley\nAway Tea
 m: Black Sheep\nHome Score: 4\nAway Score: 6
END:VEVENT
BEGIN:VEVENT
UID:17004681@ezleagues.ezfacility.com
DTSTAMP:20260426T033753Z
CREATED:20260426T033753Z
DTSTART:20260315T181000Z
DTEND:20260315T190000Z
LOCATION:Field 2
CONTACT:
SUMMARY:AC 15 Black VS. Central Valley
DESCRIPTION:League Name: Under 12 Boys Comp W-26 (2014 oldest player)\nGame
  Type: Regular\nGame Status: Complete\nHome Team: AC 15 Black\nAway Team: 
 Central Valley\nHome Score: 8\nAway Score: 1
END:VEVENT
BEGIN:VEVENT
UID:17004693@ezleagues.ezfacility.com
DTSTAMP:20260426T033753Z
CREATED:20260426T033753Z
DTSTART:20260315T211000Z
DTEND:20260315T220000Z
LOCATION:Field 2
CONTACT:
SUMMARY:Central Valley VS. TSP 2016
DESCRIPTION:League Name: Under 12 Boys Comp W-26 (2014 oldest player)\nGame
  Type: Regular\nGame Status: Complete\nHome Team: Central Valley\nAway Tea
 m: TSP 2016\nHome Score: 2\nAway Score: 7
END:VEVENT
BEGIN:VEVENT
UID:17004685@ezleagues.ezfacility.com
DTSTAMP:20260426T033753Z
CREATED:20260426T033753Z
DTSTART:20260418T223000Z
DTEND:20260418T232000Z
LOCATION:Field 1
CONTACT:
SUMMARY:Central Valley VS. Red Raptors
DESCRIPTION:League Name: Under 12 Boys Comp W-26 (2014 oldest player)\nGame
  Type: Regular\nGame Status: Complete\nHome Team: Central Valley\nAway Tea
 m: Red Raptors\nHome Score: 0\nAway Score: 5
END:VEVENT
BEGIN:VEVENT
UID:17004697@ezleagues.ezfacility.com
DTSTAMP:20260426T033753Z
CREATED:20260426T033753Z
DTSTART:20260419T010000Z
DTEND:20260419T015000Z
LOCATION:Field 2
CONTACT:
SUMMARY:Black Sheep VS. Central Valley
DESCRIPTION:League Name: Under 12 Boys Comp W-26 (2014 oldest player)\nGame
  Type: Regular\nGame Status: Complete\nHome Team: Black Sheep\nAway Team: 
 Central Valley\nHome Score: 5\nAway Score: 0
END:VEVENT
BEGIN:VEVENT
UID:17004689@ezleagues.ezfacility.com
DTSTAMP:20260426T033753Z
CREATED:20260426T033753Z
DTSTART:20260419T191000Z
DTEND:20260419T200000Z
LOCATION:Field 1
CONTACT:
SUMMARY:Central Valley VS. Limon
DESCRIPTION:League Name: Under 12 Boys Comp W-26 (2014 oldest player)\nGame
  Type: Regular\nGame Status: Complete\nHome Team: Central Valley\nAway Tea
 m: Limon\nHome Score: 0\nAway Score: 5
END:VEVENT
BEGIN:VEVENT
UID:17004673@ezleagues.ezfacility.com
DTSTAMP:20260426T033753Z
CREATED:20260426T033753Z
DTSTART:20260419T200500Z
DTEND:20260419T205500Z
LOCATION:Field 1
CONTACT:
SUMMARY:CV 2015 Blue VS. Central Valley
DESCRIPTION:League Name: Under 12 Boys Comp W-26 (2014 oldest player)\nGame
  Type: Regular\nGame Status: Complete\nHome Team: CV 2015 Blue\nAway Team:
  Central Valley\nHome Score: 4\nAway Score: 12
END:VEVENT
END:VCALENDAR
