BEGIN:VCALENDAR
VERSION:2.0
PRODID:-//EZFacility.com, Inc.//EZL 2.5.5.28621
BEGIN:VEVENT
UID:17005273@ezleagues.ezfacility.com
DTSTAMP:20260424T044004Z
CREATED:20260424T044004Z
DTSTART:20260204T023000Z
DTEND:20260204T033000Z
LOCATION:SD Field 3
CONTACT:
SUMMARY:Pumped Up Kicks VS. Kick Tease
DESCRIPTION:League Name: (2/3-4/14/26) Winter Adult Coed Kickball League\nG
 ame Type: Regular\nGame Status: Complete\nHome Team: Pumped Up Kicks\nAway
  Team: Kick Tease\nHome Score: 5\nAway Score: 4
END:VEVENT
BEGIN:VEVENT
UID:17015805@ezleagues.ezfacility.com
DTSTAMP:20260424T044004Z
CREATED:20260424T044004Z
DTSTART:20260211T013000Z
DTEND:20260211T023000Z
LOCATION:SD Field 1
CONTACT:
SUMMARY:Pumped Up Kicks VS. TBD
DESCRIPTION:League Name: (2/3-4/14/26) Winter Adult Coed Kickball League\nG
 ame Type: Regular\nGame Status: Complete\nHome Team: Pumped Up Kicks\nAway
  Team: TBD\nHome Score: 7\nAway Score: 13
END:VEVENT
BEGIN:VEVENT
UID:17015821@ezleagues.ezfacility.com
DTSTAMP:20260424T044004Z
CREATED:20260424T044004Z
DTSTART:20260218T023000Z
DTEND:20260218T033000Z
LOCATION:SD Field 4
CONTACT:
SUMMARY:It's Not going to Kick Itself VS. Pumped Up Kicks
DESCRIPTION:League Name: (2/3-4/14/26) Winter Adult Coed Kickball League\nG
 ame Type: Regular\nGame Status: Complete\nHome Team: It's Not going to Kic
 k Itself\nAway Team: Pumped Up Kicks\nHome Score: 24\nAway Score: 1
END:VEVENT
BEGIN:VEVENT
UID:17015828@ezleagues.ezfacility.com
DTSTAMP:20260424T044004Z
CREATED:20260424T044004Z
DTSTART:20260225T013000Z
DTEND:20260225T023000Z
LOCATION:SD Field 4
CONTACT:
SUMMARY:Zero Effort VS. Pumped Up Kicks
DESCRIPTION:League Name: (2/3-4/14/26) Winter Adult Coed Kickball League\nG
 ame Type: Regular\nGame Status: Complete\nHome Team: Zero Effort\nAway Tea
 m: Pumped Up Kicks\nHome Score: 8\nAway Score: 7
END:VEVENT
BEGIN:VEVENT
UID:17015835@ezleagues.ezfacility.com
DTSTAMP:20260424T044004Z
CREATED:20260424T044004Z
DTSTART:20260304T023000Z
DTEND:20260304T033000Z
LOCATION:SD Field 3
CONTACT:
SUMMARY:CLI Reapers VS. Pumped Up Kicks
DESCRIPTION:League Name: (2/3-4/14/26) Winter Adult Coed Kickball League\nG
 ame Type: Regular\nGame Status: Complete\nHome Team: CLI Reapers\nAway Tea
 m: Pumped Up Kicks\nHome Score: 6\nAway Score: 5
END:VEVENT
BEGIN:VEVENT
UID:17015842@ezleagues.ezfacility.com
DTSTAMP:20260424T044004Z
CREATED:20260424T044004Z
DTSTART:20260311T003000Z
DTEND:20260311T013000Z
LOCATION:SD Field 3
CONTACT:
SUMMARY:Pumped Up Kicks VS. Just4Kicks
DESCRIPTION:League Name: (2/3-4/14/26) Winter Adult Coed Kickball League\nG
 ame Type: Regular\nGame Status: Complete\nHome Team: Pumped Up Kicks\nAway
  Team: Just4Kicks\nHome Score: 4\nAway Score: 16
END:VEVENT
BEGIN:VEVENT
UID:17015889@ezleagues.ezfacility.com
DTSTAMP:20260424T044004Z
CREATED:20260424T044004Z
DTSTART:20260325T013000Z
DTEND:20260325T023000Z
LOCATION:SD Field 3
CONTACT:
SUMMARY:The Replacments VS. Pumped Up Kicks
DESCRIPTION:League Name: (2/3-4/14/26) Winter Adult Coed Kickball League\nG
 ame Type: Regular\nGame Status: Complete\nHome Team: The Replacments\nAway
  Team: Pumped Up Kicks\nHome Score: 0\nAway Score: 7
END:VEVENT
BEGIN:VEVENT
UID:17015894@ezleagues.ezfacility.com
DTSTAMP:20260424T044004Z
CREATED:20260424T044004Z
DTSTART:20260331T233000Z
DTEND:20260401T003000Z
LOCATION:SD Field 1
CONTACT:
SUMMARY:Sit On My Base VS. Pumped Up Kicks
DESCRIPTION:League Name: (2/3-4/14/26) Winter Adult Coed Kickball League\nG
 ame Type: Regular\nGame Status: Complete\nHome Team: Sit On My Base\nAway 
 Team: Pumped Up Kicks\nHome Score: 7\nAway Score: 6
END:VEVENT
BEGIN:VEVENT
UID:17015918@ezleagues.ezfacility.com
DTSTAMP:20260424T044004Z
CREATED:20260424T044004Z
DTSTART:20260408T013000Z
DTEND:20260408T023000Z
LOCATION:SD Field 3
CONTACT:
SUMMARY:Dunk  Lookin to Score VS. Pumped Up Kicks
DESCRIPTION:League Name: (2/3-4/14/26) Winter Adult Coed Kickball League\nG
 ame Type: Regular\nGame Status: Complete\nHome Team: Dunk  Lookin to Score
 \nAway Team: Pumped Up Kicks\nHome Score: 4\nAway Score: 15
END:VEVENT
BEGIN:VEVENT
UID:17015852@ezleagues.ezfacility.com
DTSTAMP:20260424T044004Z
CREATED:20260424T044004Z
DTSTART:20260415T003000Z
DTEND:20260415T013000Z
LOCATION:SD Field 4
CONTACT:
SUMMARY:Angry Koalas VS. Pumped Up Kicks
DESCRIPTION:League Name: (2/3-4/14/26) Winter Adult Coed Kickball League\nG
 ame Type: Regular\nGame Status: Complete\nHome Team: Angry Koalas\nAway Te
 am: Pumped Up Kicks\nHome Score: 4\nAway Score: 13
END:VEVENT
END:VCALENDAR
