BEGIN:VCALENDAR
VERSION:2.0
PRODID:-//EZFacility.com, Inc.//EZL 2.5.5.28621
BEGIN:VEVENT
UID:17014789@ezleagues.ezfacility.com
DTSTAMP:20260420T160027Z
CREATED:20260420T160027Z
DTSTART:20260214T020000Z
DTEND:20260214T025500Z
LOCATION:VA Army National Guard Field 2
CONTACT:
SUMMARY:Tika Taka VS. Atlas Lions
DESCRIPTION:League Name: (Copy) Friday Men's Over 40 2/6\nGame Type: Regula
 r\nGame Status: Pending\nHome Team: Tika Taka\nAway Team: Atlas Lions\n
END:VEVENT
BEGIN:VEVENT
UID:17014795@ezleagues.ezfacility.com
DTSTAMP:20260420T160027Z
CREATED:20260420T160027Z
DTSTART:20260221T023000Z
DTEND:20260221T032500Z
LOCATION:Field 1
CONTACT:
SUMMARY:Tika Taka VS. Ethio FC
DESCRIPTION:League Name: (Copy) Friday Men's Over 40 2/6\nGame Type: Regula
 r\nGame Status: Pending\nHome Team: Tika Taka\nAway Team: Ethio FC\n
END:VEVENT
BEGIN:VEVENT
UID:17014801@ezleagues.ezfacility.com
DTSTAMP:20260420T160027Z
CREATED:20260420T160027Z
DTSTART:20260228T032500Z
DTEND:20260228T042000Z
LOCATION:Field 1
CONTACT:
SUMMARY:Fenix VS. Tika Taka
DESCRIPTION:League Name: (Copy) Friday Men's Over 40 2/6\nGame Type: Regula
 r\nGame Status: Pending\nHome Team: Fenix\nAway Team: Tika Taka\n
END:VEVENT
BEGIN:VEVENT
UID:17014785@ezleagues.ezfacility.com
DTSTAMP:20260420T160027Z
CREATED:20260420T160027Z
DTSTART:20260307T010000Z
DTEND:20260307T015500Z
LOCATION:Field 1
CONTACT:
SUMMARY:Dulles FC VS. Tika Taka
DESCRIPTION:League Name: (Copy) Friday Men's Over 40 2/6\nGame Type: Regula
 r\nGame Status: Pending\nHome Team: Dulles FC\nAway Team: Tika Taka\n
END:VEVENT
BEGIN:VEVENT
UID:17014807@ezleagues.ezfacility.com
DTSTAMP:20260420T160027Z
CREATED:20260420T160027Z
DTSTART:20260307T020000Z
DTEND:20260307T025500Z
LOCATION:Field 1
CONTACT:
SUMMARY:Tika Taka VS. Toro City 3.0 FC
DESCRIPTION:League Name: (Copy) Friday Men's Over 40 2/6\nGame Type: Regula
 r\nGame Status: Pending\nHome Team: Tika Taka\nAway Team: Toro City 3.0 FC
 \n
END:VEVENT
BEGIN:VEVENT
UID:17014818@ezleagues.ezfacility.com
DTSTAMP:20260420T160027Z
CREATED:20260420T160027Z
DTSTART:20260314T015000Z
DTEND:20260314T024500Z
LOCATION:Field 1
CONTACT:
SUMMARY:Galacticos VS. Tika Taka
DESCRIPTION:League Name: (Copy) Friday Men's Over 40 2/6\nGame Type: Regula
 r\nGame Status: Pending\nHome Team: Galacticos\nAway Team: Tika Taka\n
END:VEVENT
BEGIN:VEVENT
UID:17027317@ezleagues.ezfacility.com
DTSTAMP:20260420T160027Z
CREATED:20260420T160027Z
DTSTART:20260328T000000Z
DTEND:20260328T005500Z
LOCATION:Field 1
CONTACT:
SUMMARY:Tika Taka VS. Jucapense
DESCRIPTION:League Name: (Copy) Friday Men's Over 40 2/6\nGame Type: Postse
 ason\nGame Status: Pending\nHome Team: Tika Taka\nAway Team: Jucapense\n
END:VEVENT
END:VCALENDAR
